{"text_format":"1","workbook":"xlsx","n_sheets":3,"sheets":["処理画面","入力フォーマット","会場マスタ"],"not_rendered":{"charts":0,"images":0,"macros":0,"external_links":0,"defined_names":2,"comments":0,"pivot_tables":0},"unopened":[],"bounds":{"document_bytes":16777216,"sheet_cells":100000,"rows_first":2000,"rows_last":500,"rows_between":2000,"halvings":0,"cell_chars":16384,"cell_head_chars":4096},"cells_cut":0,"cells_raw":0,"read":"whole","date_system":"1900"}

{"sheet":"処理画面","index":0,"n_rows":15,"n_cols":8,"rows_kept":15,"cut":false,"hidden":false,"merged":[[3,2,4,11],[9,7,12,11],[14,7,17,11],[9,2,12,2],[14,2,17,2]]}
[]
[]
[]
[null,null,"◆通いの場体力測定入力フォーマット◆"]
[]
[]
[]
[]
[]
[null,null,"①",null,null,null,null,"入力したデータをすべてクリアします"]
[]
[]
[]
[]
[null,null,"②",null,null,null,null,"健康かるて取り込み用CSVを作成します"]

{"sheet":"入力フォーマット","index":1,"n_rows":5001,"n_cols":23,"rows_kept":5001,"cut":false,"hidden":false,"merged":[[2,0,3,0],[2,2,3,2],[2,22,3,22],[2,1,3,1],[2,8,3,8],[2,14,2,15],[2,16,2,17],[2,18,2,19],[2,20,3,20],[2,21,3,21],[0,3,0,6],[0,8,0,9],[2,3,2,6],[2,9,3,9],[0,10,0,13],[2,10,2,13],[2,7,3,7]]}
[1,2,3,4,null,null,null,5,6,null,7,null,null,null,8,9,10,11,12,13,14,15,16]
[null,"最大8桁",null,"和暦\n明治 : 1\n大正 : 2\n昭和 : 3\n平成 : 4\n令和 : 5","2桁","2桁","2桁","午前：1\n午後：2",null,null,"和暦\n明治 : 1\n大正 : 2\n昭和 : 3\n平成 : 4\n令和 : 5","2桁","2桁","2桁","小数点以下\n1桁まで",null,null,null,null,null,null,null,"半角カンマ[,]は使用しない"]
["連番","宛名番号","カナ氏名","生年月日",null,null,null,"参加\n時間","参加場所","参加場所\n（確認用）","実施日",null,null,null,"握力(kg)",null,"5m歩行テスト",null,"開眼片足立ち",null,"ＴＵＧテスト","チェア\nスタンド","特記事項"]
[null,null,null,"元号","年","月","日",null,null,null,"元号","年","月","日","右","左","最大","通常","右","左"]
[{"$f":"IF(B5<>\"\",ROW(A5)-4,\"\")","v":""},null,null,null,null,null,null,null,null,{"$f":"IF(I5= \"\",\"\",VLOOKUP(I5,会場マスタ!$A:$B,2,FALSE))","v":""}]
[{"$f":"IF(B6<>\"\",ROW(A6)-4,\"\")","v":""},null,null,null,null,null,null,null,null,{"$f":"IF(I6= \"\",\"\",VLOOKUP(I6,会場マスタ!$A:$B,2,FALSE))","v":""}]
[{"$f":"IF(B7<>\"\",ROW(A7)-4,\"\")","v":""},null,null,null,null,null,null,null,null,{"$f":"IF(I7= \"\",\"\",VLOOKUP(I7,会場マスタ!$A:$B,2,FALSE))","v":""}]
["",null,null,null,null,null,null,null,null,{"$f":"IF(I8= \"\",\"\",VLOOKUP(I8,会場マスタ!$A:$B,2,FALSE))","v":""}]
["",null,null,null,null,null,null,null,null,{"$f":"IF(I9= \"\",\"\",VLOOKUP(I9,会場マスタ!$A:$B,2,FALSE))","v":""}]
["",null,null,null,null,null,null,null,null,{"$f":"IF(I10= \"\",\"\",VLOOKUP(I10,会場マスタ!$A:$B,2,FALSE))","v":""}]
["",null,null,null,null,null,null,null,null,{"$f":"IF(I11= \"\",\"\",VLOOKUP(I11,会場マスタ!$A:$B,2,FALSE))","v":""}]
["",null,null,null,null,null,null,null,null,{"$f":"IF(I12= \"\",\"\",VLOOKUP(I12,会場マスタ!$A:$B,2,FALSE))","v":""}]
["",null,null,null,null,null,null,null,null,{"$f":"IF(I13= \"\",\"\",VLOOKUP(I13,会場マスタ!$A:$B,2,FALSE))","v":""}]
["",null,null,null,null,null,null,null,null,{"$f":"IF(I14= \"\",\"\",VLOOKUP(I14,会場マスタ!$A:$B,2,FALSE))","v":""}]
["",null,null,null,null,null,null,null,null,{"$f":"IF(I15= \"\",\"\",VLOOKUP(I15,会場マスタ!$A:$B,2,FALSE))","v":""}]
["",null,null,null,null,null,null,null,null,{"$f":"IF(I16= \"\",\"\",VLOOKUP(I16,会場マスタ!$A:$B,2,FALSE))","v":""}]
["",null,null,null,null,null,null,null,null,{"$f":"IF(I17= \"\",\"\",VLOOKUP(I17,会場マスタ!$A:$B,2,FALSE))","v":""}]
["",null,null,null,null,null,null,null,null,{"$f":"IF(I18= \"\",\"\",VLOOKUP(I18,会場マスタ!$A:$B,2,FALSE))","v":""}]
["",null,null,null,null,null,null,null,null,{"$f":"IF(I19= \"\",\"\",VLOOKUP(I19,会場マスタ!$A:$B,2,FALSE))","v":""}]
["",null,null,null,null,null,null,null,null,{"$f":"IF(I20= \"\",\"\",VLOOKUP(I20,会場マスタ!$A:$B,2,FALSE))","v":""}]
["",null,null,null,null,null,null,null,null,{"$f":"IF(I21= \"\",\"\",VLOOKUP(I21,会場マスタ!$A:$B,2,FALSE))","v":""}]
["",null,null,null,null,null,null,null,null,{"$f":"IF(I22= \"\",\"\",VLOOKUP(I22,会場マスタ!$A:$B,2,FALSE))","v":""}]
["",null,null,null,null,null,null,null,null,{"$f":"IF(I23= \"\",\"\",VLOOKUP(I23,会場マスタ!$A:$B,2,FALSE))","v":""}]
["",null,null,null,null,null,null,null,null,{"$f":"IF(I24= \"\",\"\",VLOOKUP(I24,会場マスタ!$A:$B,2,FALSE))","v":""}]
["",null,null,null,null,null,null,null,null,{"$f":"IF(I25= \"\",\"\",VLOOKUP(I25,会場マスタ!$A:$B,2,FALSE))","v":""}]
["",null,null,null,null,null,null,null,null,{"$f":"IF(I26= \"\",\"\",VLOOKUP(I26,会場マスタ!$A:$B,2,FALSE))","v":""}]
["",null,null,null,null,null,null,null,null,{"$f":"IF(I27= \"\",\"\",VLOOKUP(I27,会場マスタ!$A:$B,2,FALSE))","v":""}]
["",null,null,null,null,null,null,null,null,{"$f":"IF(I28= \"\",\"\",VLOOKUP(I28,会場マスタ!$A:$B,2,FALSE))","v":""}]
["",null,null,null,null,null,null,null,null,{"$f":"IF(I29= \"\",\"\",VLOOKUP(I29,会場マスタ!$A:$B,2,FALSE))","v":""}]
["",null,null,null,null,null,null,null,null,{"$f":"IF(I30= \"\",\"\",VLOOKUP(I30,会場マスタ!$A:$B,2,FALSE))","v":""}]
["",null,null,null,null,null,null,null,null,{"$f":"IF(I31= \"\",\"\",VLOOKUP(I31,会場マスタ!$A:$B,2,FALSE))","v":""}]
["",null,null,null,null,null,null,null,null,{"$f":"IF(I32= \"\",\"\",VLOOKUP(I32,会場マスタ!$A:$B,2,FALSE))","v":""}]
["",null,null,null,null,null,null,null,null,{"$f":"IF(I33= \"\",\"\",VLOOKUP(I33,会場マスタ!$A:$B,2,FALSE))","v":""}]
["",null,null,null,null,null,null,null,null,{"$f":"IF(I34= \"\",\"\",VLOOKUP(I34,会場マスタ!$A:$B,2,FALSE))","v":""}]
["",null,null,null,null,null,null,null,null,{"$f":"IF(I35= \"\",\"\",VLOOKUP(I35,会場マスタ!$A:$B,2,FALSE))","v":""}]
["",null,null,null,null,null,null,null,null,{"$f":"IF(I36= \"\",\"\",VLOOKUP(I36,会場マスタ!$A:$B,2,FALSE))","v":""}]
["",null,null,null,null,null,null,null,null,{"$f":"IF(I37= \"\",\"\",VLOOKUP(I37,会場マスタ!$A:$B,2,FALSE))","v":""}]
["",null,null,null,null,null,null,null,null,{"$f":"IF(I38= \"\",\"\",VLOOKUP(I38,会場マスタ!$A:$B,2,FALSE))","v":""}]
["",null,null,null,null,null,null,null,null,{"$f":"IF(I39= \"\",\"\",VLOOKUP(I39,会場マスタ!$A:$B,2,FALSE))","v":""}]
["",null,null,null,null,null,null,null,null,{"$f":"IF(I40= \"\",\"\",VLOOKUP(I40,会場マスタ!$A:$B,2,FALSE))","v":""}]
["",null,null,null,null,null,null,null,null,{"$f":"IF(I41= \"\",\"\",VLOOKUP(I41,会場マスタ!$A:$B,2,FALSE))","v":""}]
["",null,null,null,null,null,null,null,null,{"$f":"IF(I42= \"\",\"\",VLOOKUP(I42,会場マスタ!$A:$B,2,FALSE))","v":""}]
["",null,null,null,null,null,null,null,null,{"$f":"IF(I43= \"\",\"\",VLOOKUP(I43,会場マスタ!$A:$B,2,FALSE))","v":""}]
["",null,null,null,null,null,null,null,null,{"$f":"IF(I44= \"\",\"\",VLOOKUP(I44,会場マスタ!$A:$B,2,FALSE))","v":""}]
["",null,null,null,null,null,null,null,null,{"$f":"IF(I45= \"\",\"\",VLOOKUP(I45,会場マスタ!$A:$B,2,FALSE))","v":""}]
["",null,null,null,null,null,null,null,null,{"$f":"IF(I46= \"\",\"\",VLOOKUP(I46,会場マスタ!$A:$B,2,FALSE))","v":""}]
["",null,null,null,null,null,null,null,null,{"$f":"IF(I47= \"\",\"\",VLOOKUP(I47,会場マスタ!$A:$B,2,FALSE))","v":""}]
["",null,null,null,null,null,null,null,null,{"$f":"IF(I48= \"\",\"\",VLOOKUP(I48,会場マスタ!$A:$B,2,FALSE))","v":""}]
["",null,null,null,null,null,null,null,null,{"$f":"IF(I49= \"\",\"\",VLOOKUP(I49,会場マスタ!$A:$B,2,FALSE))","v":""}]
["",null,null,null,null,null,null,null,null,{"$f":"IF(I50= \"\",\"\",VLOOKUP(I50,会場マスタ!$A:$B,2,FALSE))","v":""}]
["",null,null,null,null,null,null,null,null,{"$f":"IF(I51= \"\",\"\",VLOOKUP(I51,会場マスタ!$A:$B,2,FALSE))","v":""}]
["",null,null,null,null,null,null,null,null,{"$f":"IF(I52= \"\",\"\",VLOOKUP(I52,会場マスタ!$A:$B,2,FALSE))","v":""}]
["",null,null,null,null,null,null,null,null,{"$f":"IF(I53= \"\",\"\",VLOOKUP(I53,会場マスタ!$A:$B,2,FALSE))","v":""}]
["",null,null,null,null,null,null,null,null,{"$f":"IF(I54= \"\",\"\",VLOOKUP(I54,会場マスタ!$A:$B,2,FALSE))","v":""}]
["",null,null,null,null,null,null,null,null,{"$f":"IF(I55= \"\",\"\",VLOOKUP(I55,会場マスタ!$A:$B,2,FALSE))","v":""}]
["",null,null,null,null,null,null,null,null,{"$f":"IF(I56= \"\",\"\",VLOOKUP(I56,会場マスタ!$A:$B,2,FALSE))","v":""}]
["",null,null,null,null,null,null,null,null,{"$f":"IF(I57= \"\",\"\",VLOOKUP(I57,会場マスタ!$A:$B,2,FALSE))","v":""}]
["",null,null,null,null,null,null,null,null,{"$f":"IF(I58= \"\",\"\",VLOOKUP(I58,会場マスタ!$A:$B,2,FALSE))","v":""}]
["",null,null,null,null,null,null,null,null,{"$f":"IF(I59= \"\",\"\",VLOOKUP(I59,会場マスタ!$A:$B,2,FALSE))","v":""}]
["",null,null,null,null,null,null,null,null,{"$f":"IF(I60= \"\",\"\",VLOOKUP(I60,会場マスタ!$A:$B,2,FALSE))","v":""}]
["",null,null,null,null,null,null,null,null,{"$f":"IF(I61= \"\",\"\",VLOOKUP(I61,会場マスタ!$A:$B,2,FALSE))","v":""}]
["",null,null,null,null,null,null,null,null,{"$f":"IF(I62= \"\",\"\",VLOOKUP(I62,会場マスタ!$A:$B,2,FALSE))","v":""}]
["",null,null,null,null,null,null,null,null,{"$f":"IF(I63= \"\",\"\",VLOOKUP(I63,会場マスタ!$A:$B,2,FALSE))","v":""}]
["",null,null,null,null,null,null,null,null,{"$f":"IF(I64= \"\",\"\",VLOOKUP(I64,会場マスタ!$A:$B,2,FALSE))","v":""}]
["",null,null,null,null,null,null,null,null,{"$f":"IF(I65= \"\",\"\",VLOOKUP(I65,会場マスタ!$A:$B,2,FALSE))","v":""}]
["",null,null,null,null,null,null,null,null,{"$f":"IF(I66= \"\",\"\",VLOOKUP(I66,会場マスタ!$A:$B,2,FALSE))","v":""}]
["",null,null,null,null,null,null,null,null,{"$f":"IF(I67= \"\",\"\",VLOOKUP(I67,会場マスタ!$A:$B,2,FALSE))","v":""}]
["",null,null,null,null,null,null,null,null,{"$f":"IF(I68= \"\",\"\",VLOOKUP(I68,会場マスタ!$A:$B,2,FALSE))","v":""}]
["",null,null,null,null,null,null,null,null,{"$f":"IF(I69= \"\",\"\",VLOOKUP(I69,会場マスタ!$A:$B,2,FALSE))","v":""}]
["",null,null,null,null,null,null,null,null,{"$f":"IF(I70= \"\",\"\",VLOOKUP(I70,会場マスタ!$A:$B,2,FALSE))","v":""}]
[{"$f":"IF(B71<>\"\",ROW(A71)-4,\"\")","v":""},null,null,null,null,null,null,null,null,{"$f":"IF(I71= \"\",\"\",VLOOKUP(I71,会場マスタ!$A:$B,2,FALSE))","v":""}]
["",null,null,null,null,null,null,null,null,{"$f":"IF(I72= \"\",\"\",VLOOKUP(I72,会場マスタ!$A:$B,2,FALSE))","v":""}]
["",null,null,null,null,null,null,null,null,{"$f":"IF(I73= \"\",\"\",VLOOKUP(I73,会場マスタ!$A:$B,2,FALSE))","v":""}]
["",null,null,null,null,null,null,null,null,{"$f":"IF(I74= \"\",\"\",VLOOKUP(I74,会場マスタ!$A:$B,2,FALSE))","v":""}]
["",null,null,null,null,null,null,null,null,{"$f":"IF(I75= \"\",\"\",VLOOKUP(I75,会場マスタ!$A:$B,2,FALSE))","v":""}]
["",null,null,null,null,null,null,null,null,{"$f":"IF(I76= \"\",\"\",VLOOKUP(I76,会場マスタ!$A:$B,2,FALSE))","v":""}]
["",null,null,null,null,null,null,null,null,{"$f":"IF(I77= \"\",\"\",VLOOKUP(I77,会場マスタ!$A:$B,2,FALSE))","v":""}]
["",null,null,null,null,null,null,null,null,{"$f":"IF(I78= \"\",\"\",VLOOKUP(I78,会場マスタ!$A:$B,2,FALSE))","v":""}]
["",null,null,null,null,null,null,null,null,{"$f":"IF(I79= \"\",\"\",VLOOKUP(I79,会場マスタ!$A:$B,2,FALSE))","v":""}]
["",null,null,null,null,null,null,null,null,{"$f":"IF(I80= \"\",\"\",VLOOKUP(I80,会場マスタ!$A:$B,2,FALSE))","v":""}]
["",null,null,null,null,null,null,null,null,{"$f":"IF(I81= \"\",\"\",VLOOKUP(I81,会場マスタ!$A:$B,2,FALSE))","v":""}]
["",null,null,null,null,null,null,null,null,{"$f":"IF(I82= \"\",\"\",VLOOKUP(I82,会場マスタ!$A:$B,2,FALSE))","v":""}]
["",null,null,null,null,null,null,null,null,{"$f":"IF(I83= \"\",\"\",VLOOKUP(I83,会場マスタ!$A:$B,2,FALSE))","v":""}]
["",null,null,null,null,null,null,null,null,{"$f":"IF(I84= \"\",\"\",VLOOKUP(I84,会場マスタ!$A:$B,2,FALSE))","v":""}]
["",null,null,null,null,null,null,null,null,{"$f":"IF(I85= \"\",\"\",VLOOKUP(I85,会場マスタ!$A:$B,2,FALSE))","v":""}]
["",null,null,null,null,null,null,null,null,{"$f":"IF(I86= \"\",\"\",VLOOKUP(I86,会場マスタ!$A:$B,2,FALSE))","v":""}]
["",null,null,null,null,null,null,null,null,{"$f":"IF(I87= \"\",\"\",VLOOKUP(I87,会場マスタ!$A:$B,2,FALSE))","v":""}]
["",null,null,null,null,null,null,null,null,{"$f":"IF(I88= \"\",\"\",VLOOKUP(I88,会場マスタ!$A:$B,2,FALSE))","v":""}]
["",null,null,null,null,null,null,null,null,{"$f":"IF(I89= \"\",\"\",VLOOKUP(I89,会場マスタ!$A:$B,2,FALSE))","v":""}]
["",null,null,null,null,null,null,null,null,{"$f":"IF(I90= \"\",\"\",VLOOKUP(I90,会場マスタ!$A:$B,2,FALSE))","v":""}]
["",null,null,null,null,null,null,null,null,{"$f":"IF(I91= \"\",\"\",VLOOKUP(I91,会場マスタ!$A:$B,2,FALSE))","v":""}]
["",null,null,null,null,null,null,null,null,{"$f":"IF(I92= \"\",\"\",VLOOKUP(I92,会場マスタ!$A:$B,2,FALSE))","v":""}]
["",null,null,null,null,null,null,null,null,{"$f":"IF(I93= \"\",\"\",VLOOKUP(I93,会場マスタ!$A:$B,2,FALSE))","v":""}]
["",null,null,null,null,null,null,null,null,{"$f":"IF(I94= \"\",\"\",VLOOKUP(I94,会場マスタ!$A:$B,2,FALSE))","v":""}]
["",null,null,null,null,null,null,null,null,{"$f":"IF(I95= \"\",\"\",VLOOKUP(I95,会場マスタ!$A:$B,2,FALSE))","v":""}]
["",null,null,null,null,null,null,null,null,{"$f":"IF(I96= \"\",\"\",VLOOKUP(I96,会場マスタ!$A:$B,2,FALSE))","v":""}]
["",null,null,null,null,null,null,null,null,{"$f":"IF(I97= \"\",\"\",VLOOKUP(I97,会場マスタ!$A:$B,2,FALSE))","v":""}]
["",null,null,null,null,null,null,null,null,{"$f":"IF(I98= \"\",\"\",VLOOKUP(I98,会場マスタ!$A:$B,2,FALSE))","v":""}]
["",null,null,null,null,null,null,null,null,{"$f":"IF(I99= \"\",\"\",VLOOKUP(I99,会場マスタ!$A:$B,2,FALSE))","v":""}]
["",null,null,null,null,null,null,null,null,{"$f":"IF(I100= \"\",\"\",VLOOKUP(I100,会場マスタ!$A:$B,2,FALSE))","v":""}]
["",null,null,null,null,null,null,null,null,{"$f":"IF(I101= \"\",\"\",VLOOKUP(I101,会場マスタ!$A:$B,2,FALSE))","v":""}]
["",null,null,null,null,null,null,null,null,{"$f":"IF(I102= \"\",\"\",VLOOKUP(I102,会場マスタ!$A:$B,2,FALSE))","v":""}]
["",null,null,null,null,null,null,null,null,{"$f":"IF(I103= \"\",\"\",VLOOKUP(I103,会場マスタ!$A:$B,2,FALSE))","v":""}]
["",null,null,null,null,null,null,null,null,{"$f":"IF(I104= \"\",\"\",VLOOKUP(I104,会場マスタ!$A:$B,2,FALSE))","v":""}]
["",null,null,null,null,null,null,null,null,{"$f":"IF(I105= \"\",\"\",VLOOKUP(I105,会場マスタ!$A:$B,2,FALSE))","v":""}]
["",null,null,null,null,null,null,null,null,{"$f":"IF(I106= \"\",\"\",VLOOKUP(I106,会場マスタ!$A:$B,2,FALSE))","v":""}]
["",null,null,null,null,null,null,null,null,{"$f":"IF(I107= \"\",\"\",VLOOKUP(I107,会場マスタ!$A:$B,2,FALSE))","v":""}]
["",null,null,null,null,null,null,null,null,{"$f":"IF(I108= \"\",\"\",VLOOKUP(I108,会場マスタ!$A:$B,2,FALSE))","v":""}]
["",null,null,null,null,null,null,null,null,{"$f":"IF(I109= \"\",\"\",VLOOKUP(I109,会場マスタ!$A:$B,2,FALSE))","v":""}]
["",null,null,null,null,null,null,null,null,{"$f":"IF(I110= \"\",\"\",VLOOKUP(I110,会場マスタ!$A:$B,2,FALSE))","v":""}]
["",null,null,null,null,null,null,null,null,{"$f":"IF(I111= \"\",\"\",VLOOKUP(I111,会場マスタ!$A:$B,2,FALSE))","v":""}]
["",null,null,null,null,null,null,null,null,{"$f":"IF(I112= \"\",\"\",VLOOKUP(I112,会場マスタ!$A:$B,2,FALSE))","v":""}]
["",null,null,null,null,null,null,null,null,{"$f":"IF(I113= \"\",\"\",VLOOKUP(I113,会場マスタ!$A:$B,2,FALSE))","v":""}]
["",null,null,null,null,null,null,null,null,{"$f":"IF(I114= \"\",\"\",VLOOKUP(I114,会場マスタ!$A:$B,2,FALSE))","v":""}]
["",null,null,null,null,null,null,null,null,{"$f":"IF(I115= \"\",\"\",VLOOKUP(I115,会場マスタ!$A:$B,2,FALSE))","v":""}]
["",null,null,null,null,null,null,null,null,{"$f":"IF(I116= \"\",\"\",VLOOKUP(I116,会場マスタ!$A:$B,2,FALSE))","v":""}]
["",null,null,null,null,null,null,null,null,{"$f":"IF(I117= \"\",\"\",VLOOKUP(I117,会場マスタ!$A:$B,2,FALSE))","v":""}]
["",null,null,null,null,null,null,null,null,{"$f":"IF(I118= \"\",\"\",VLOOKUP(I118,会場マスタ!$A:$B,2,FALSE))","v":""}]
["",null,null,null,null,null,null,null,null,{"$f":"IF(I119= \"\",\"\",VLOOKUP(I119,会場マスタ!$A:$B,2,FALSE))","v":""}]
["",null,null,null,null,null,null,null,null,{"$f":"IF(I120= \"\",\"\",VLOOKUP(I120,会場マスタ!$A:$B,2,FALSE))","v":""}]
["",null,null,null,null,null,null,null,null,{"$f":"IF(I121= \"\",\"\",VLOOKUP(I121,会場マスタ!$A:$B,2,FALSE))","v":""}]
["",null,null,null,null,null,null,null,null,{"$f":"IF(I122= \"\",\"\",VLOOKUP(I122,会場マスタ!$A:$B,2,FALSE))","v":""}]
["",null,null,null,null,null,null,null,null,{"$f":"IF(I123= \"\",\"\",VLOOKUP(I123,会場マスタ!$A:$B,2,FALSE))","v":""}]
["",null,null,null,null,null,null,null,null,{"$f":"IF(I124= \"\",\"\",VLOOKUP(I124,会場マスタ!$A:$B,2,FALSE))","v":""}]
["",null,null,null,null,null,null,null,null,{"$f":"IF(I125= \"\",\"\",VLOOKUP(I125,会場マスタ!$A:$B,2,FALSE))","v":""}]
["",null,null,null,null,null,null,null,null,{"$f":"IF(I126= \"\",\"\",VLOOKUP(I126,会場マスタ!$A:$B,2,FALSE))","v":""}]
["",null,null,null,null,null,null,null,null,{"$f":"IF(I127= \"\",\"\",VLOOKUP(I127,会場マスタ!$A:$B,2,FALSE))","v":""}]
["",null,null,null,null,null,null,null,null,{"$f":"IF(I128= \"\",\"\",VLOOKUP(I128,会場マスタ!$A:$B,2,FALSE))","v":""}]
["",null,null,null,null,null,null,null,null,{"$f":"IF(I129= \"\",\"\",VLOOKUP(I129,会場マスタ!$A:$B,2,FALSE))","v":""}]
["",null,null,null,null,null,null,null,null,{"$f":"IF(I130= \"\",\"\",VLOOKUP(I130,会場マスタ!$A:$B,2,FALSE))","v":""}]
["",null,null,null,null,null,null,null,null,{"$f":"IF(I131= \"\",\"\",VLOOKUP(I131,会場マスタ!$A:$B,2,FALSE))","v":""}]
["",null,null,null,null,null,null,null,null,{"$f":"IF(I132= \"\",\"\",VLOOKUP(I132,会場マスタ!$A:$B,2,FALSE))","v":""}]
["",null,null,null,null,null,null,null,null,{"$f":"IF(I133= \"\",\"\",VLOOKUP(I133,会場マスタ!$A:$B,2,FALSE))","v":""}]
["",null,null,null,null,null,null,null,null,{"$f":"IF(I134= \"\",\"\",VLOOKUP(I134,会場マスタ!$A:$B,2,FALSE))","v":""}]
[{"$f":"IF(B135<>\"\",ROW(A135)-4,\"\")","v":""},null,null,null,null,null,null,null,null,{"$f":"IF(I135= \"\",\"\",VLOOKUP(I135,会場マスタ!$A:$B,2,FALSE))","v":""}]
["",null,null,null,null,null,null,null,null,{"$f":"IF(I136= \"\",\"\",VLOOKUP(I136,会場マスタ!$A:$B,2,FALSE))","v":""}]
["",null,null,null,null,null,null,null,null,{"$f":"IF(I137= \"\",\"\",VLOOKUP(I137,会場マスタ!$A:$B,2,FALSE))","v":""}]
["",null,null,null,null,null,null,null,null,{"$f":"IF(I138= \"\",\"\",VLOOKUP(I138,会場マスタ!$A:$B,2,FALSE))","v":""}]
["",null,null,null,null,null,null,null,null,{"$f":"IF(I139= \"\",\"\",VLOOKUP(I139,会場マスタ!$A:$B,2,FALSE))","v":""}]
["",null,null,null,null,null,null,null,null,{"$f":"IF(I140= \"\",\"\",VLOOKUP(I140,会場マスタ!$A:$B,2,FALSE))","v":""}]
["",null,null,null,null,null,null,null,null,{"$f":"IF(I141= \"\",\"\",VLOOKUP(I141,会場マスタ!$A:$B,2,FALSE))","v":""}]
["",null,null,null,null,null,null,null,null,{"$f":"IF(I142= \"\",\"\",VLOOKUP(I142,会場マスタ!$A:$B,2,FALSE))","v":""}]
["",null,null,null,null,null,null,null,null,{"$f":"IF(I143= \"\",\"\",VLOOKUP(I143,会場マスタ!$A:$B,2,FALSE))","v":""}]
["",null,null,null,null,null,null,null,null,{"$f":"IF(I144= \"\",\"\",VLOOKUP(I144,会場マスタ!$A:$B,2,FALSE))","v":""}]
["",null,null,null,null,null,null,null,null,{"$f":"IF(I145= \"\",\"\",VLOOKUP(I145,会場マスタ!$A:$B,2,FALSE))","v":""}]
["",null,null,null,null,null,null,null,null,{"$f":"IF(I146= \"\",\"\",VLOOKUP(I146,会場マスタ!$A:$B,2,FALSE))","v":""}]
["",null,null,null,null,null,null,null,null,{"$f":"IF(I147= \"\",\"\",VLOOKUP(I147,会場マスタ!$A:$B,2,FALSE))","v":""}]
["",null,null,null,null,null,null,null,null,{"$f":"IF(I148= \"\",\"\",VLOOKUP(I148,会場マスタ!$A:$B,2,FALSE))","v":""}]
["",null,null,null,null,null,null,null,null,{"$f":"IF(I149= \"\",\"\",VLOOKUP(I149,会場マスタ!$A:$B,2,FALSE))","v":""}]
["",null,null,null,null,null,null,null,null,{"$f":"IF(I150= \"\",\"\",VLOOKUP(I150,会場マスタ!$A:$B,2,FALSE))","v":""}]
["",null,null,null,null,null,null,null,null,{"$f":"IF(I151= \"\",\"\",VLOOKUP(I151,会場マスタ!$A:$B,2,FALSE))","v":""}]
["",null,null,null,null,null,null,null,null,{"$f":"IF(I152= \"\",\"\",VLOOKUP(I152,会場マスタ!$A:$B,2,FALSE))","v":""}]
["",null,null,null,null,null,null,null,null,{"$f":"IF(I153= \"\",\"\",VLOOKUP(I153,会場マスタ!$A:$B,2,FALSE))","v":""}]
["",null,null,null,null,null,null,null,null,{"$f":"IF(I154= \"\",\"\",VLOOKUP(I154,会場マスタ!$A:$B,2,FALSE))","v":""}]
["",null,null,null,null,null,null,null,null,{"$f":"IF(I155= \"\",\"\",VLOOKUP(I155,会場マスタ!$A:$B,2,FALSE))","v":""}]
["",null,null,null,null,null,null,null,null,{"$f":"IF(I156= \"\",\"\",VLOOKUP(I156,会場マスタ!$A:$B,2,FALSE))","v":""}]
["",null,null,null,null,null,null,null,null,{"$f":"IF(I157= \"\",\"\",VLOOKUP(I157,会場マスタ!$A:$B,2,FALSE))","v":""}]
["",null,null,null,null,null,null,null,null,{"$f":"IF(I158= \"\",\"\",VLOOKUP(I158,会場マスタ!$A:$B,2,FALSE))","v":""}]
["",null,null,null,null,null,null,null,null,{"$f":"IF(I159= \"\",\"\",VLOOKUP(I159,会場マスタ!$A:$B,2,FALSE))","v":""}]
["",null,null,null,null,null,null,null,null,{"$f":"IF(I160= \"\",\"\",VLOOKUP(I160,会場マスタ!$A:$B,2,FALSE))","v":""}]
["",null,null,null,null,null,null,null,null,{"$f":"IF(I161= \"\",\"\",VLOOKUP(I161,会場マスタ!$A:$B,2,FALSE))","v":""}]
["",null,null,null,null,null,null,null,null,{"$f":"IF(I162= \"\",\"\",VLOOKUP(I162,会場マスタ!$A:$B,2,FALSE))","v":""}]
["",null,null,null,null,null,null,null,null,{"$f":"IF(I163= \"\",\"\",VLOOKUP(I163,会場マスタ!$A:$B,2,FALSE))","v":""}]
["",null,null,null,null,null,null,null,null,{"$f":"IF(I164= \"\",\"\",VLOOKUP(I164,会場マスタ!$A:$B,2,FALSE))","v":""}]
["",null,null,null,null,null,null,null,null,{"$f":"IF(I165= \"\",\"\",VLOOKUP(I165,会場マスタ!$A:$B,2,FALSE))","v":""}]
["",null,null,null,null,null,null,null,null,{"$f":"IF(I166= \"\",\"\",VLOOKUP(I166,会場マスタ!$A:$B,2,FALSE))","v":""}]
["",null,null,null,null,null,null,null,null,{"$f":"IF(I167= \"\",\"\",VLOOKUP(I167,会場マスタ!$A:$B,2,FALSE))","v":""}]
["",null,null,null,null,null,null,null,null,{"$f":"IF(I168= \"\",\"\",VLOOKUP(I168,会場マスタ!$A:$B,2,FALSE))","v":""}]
["",null,null,null,null,null,null,null,null,{"$f":"IF(I169= \"\",\"\",VLOOKUP(I169,会場マスタ!$A:$B,2,FALSE))","v":""}]
["",null,null,null,null,null,null,null,null,{"$f":"IF(I170= \"\",\"\",VLOOKUP(I170,会場マスタ!$A:$B,2,FALSE))","v":""}]
["",null,null,null,null,null,null,null,null,{"$f":"IF(I171= \"\",\"\",VLOOKUP(I171,会場マスタ!$A:$B,2,FALSE))","v":""}]
["",null,null,null,null,null,null,null,null,{"$f":"IF(I172= \"\",\"\",VLOOKUP(I172,会場マスタ!$A:$B,2,FALSE))","v":""}]
["",null,null,null,null,null,null,null,null,{"$f":"IF(I173= \"\",\"\",VLOOKUP(I173,会場マスタ!$A:$B,2,FALSE))","v":""}]
["",null,null,null,null,null,null,null,null,{"$f":"IF(I174= \"\",\"\",VLOOKUP(I174,会場マスタ!$A:$B,2,FALSE))","v":""}]
["",null,null,null,null,null,null,null,null,{"$f":"IF(I175= \"\",\"\",VLOOKUP(I175,会場マスタ!$A:$B,2,FALSE))","v":""}]
["",null,null,null,null,null,null,null,null,{"$f":"IF(I176= \"\",\"\",VLOOKUP(I176,会場マスタ!$A:$B,2,FALSE))","v":""}]
["",null,null,null,null,null,null,null,null,{"$f":"IF(I177= \"\",\"\",VLOOKUP(I177,会場マスタ!$A:$B,2,FALSE))","v":""}]
["",null,null,null,null,null,null,null,null,{"$f":"IF(I178= \"\",\"\",VLOOKUP(I178,会場マスタ!$A:$B,2,FALSE))","v":""}]
["",null,null,null,null,null,null,null,null,{"$f":"IF(I179= \"\",\"\",VLOOKUP(I179,会場マスタ!$A:$B,2,FALSE))","v":""}]
["",null,null,null,null,null,null,null,null,{"$f":"IF(I180= \"\",\"\",VLOOKUP(I180,会場マスタ!$A:$B,2,FALSE))","v":""}]
["",null,null,null,null,null,null,null,null,{"$f":"IF(I181= \"\",\"\",VLOOKUP(I181,会場マスタ!$A:$B,2,FALSE))","v":""}]
["",null,null,null,null,null,null,null,null,{"$f":"IF(I182= \"\",\"\",VLOOKUP(I182,会場マスタ!$A:$B,2,FALSE))","v":""}]
["",null,null,null,null,null,null,null,null,{"$f":"IF(I183= \"\",\"\",VLOOKUP(I183,会場マスタ!$A:$B,2,FALSE))","v":""}]
["",null,null,null,null,null,null,null,null,{"$f":"IF(I184= \"\",\"\",VLOOKUP(I184,会場マスタ!$A:$B,2,FALSE))","v":""}]
["",null,null,null,null,null,null,null,null,{"$f":"IF(I185= \"\",\"\",VLOOKUP(I185,会場マスタ!$A:$B,2,FALSE))","v":""}]
["",null,null,null,null,null,null,null,null,{"$f":"IF(I186= \"\",\"\",VLOOKUP(I186,会場マスタ!$A:$B,2,FALSE))","v":""}]
["",null,null,null,null,null,null,null,null,{"$f":"IF(I187= \"\",\"\",VLOOKUP(I187,会場マスタ!$A:$B,2,FALSE))","v":""}]
["",null,null,null,null,null,null,null,null,{"$f":"IF(I188= \"\",\"\",VLOOKUP(I188,会場マスタ!$A:$B,2,FALSE))","v":""}]
["",null,null,null,null,null,null,null,null,{"$f":"IF(I189= \"\",\"\",VLOOKUP(I189,会場マスタ!$A:$B,2,FALSE))","v":""}]
["",null,null,null,null,null,null,null,null,{"$f":"IF(I190= \"\",\"\",VLOOKUP(I190,会場マスタ!$A:$B,2,FALSE))","v":""}]
["",null,null,null,null,null,null,null,null,{"$f":"IF(I191= \"\",\"\",VLOOKUP(I191,会場マスタ!$A:$B,2,FALSE))","v":""}]
["",null,null,null,null,null,null,null,null,{"$f":"IF(I192= \"\",\"\",VLOOKUP(I192,会場マスタ!$A:$B,2,FALSE))","v":""}]
["",null,null,null,null,null,null,null,null,{"$f":"IF(I193= \"\",\"\",VLOOKUP(I193,会場マスタ!$A:$B,2,FALSE))","v":""}]
["",null,null,null,null,null,null,null,null,{"$f":"IF(I194= \"\",\"\",VLOOKUP(I194,会場マスタ!$A:$B,2,FALSE))","v":""}]
["",null,null,null,null,null,null,null,null,{"$f":"IF(I195= \"\",\"\",VLOOKUP(I195,会場マスタ!$A:$B,2,FALSE))","v":""}]
["",null,null,null,null,null,null,null,null,{"$f":"IF(I196= \"\",\"\",VLOOKUP(I196,会場マスタ!$A:$B,2,FALSE))","v":""}]
["",null,null,null,null,null,null,null,null,{"$f":"IF(I197= \"\",\"\",VLOOKUP(I197,会場マスタ!$A:$B,2,FALSE))","v":""}]
["",null,null,null,null,null,null,null,null,{"$f":"IF(I198= \"\",\"\",VLOOKUP(I198,会場マスタ!$A:$B,2,FALSE))","v":""}]
[{"$f":"IF(B199<>\"\",ROW(A199)-4,\"\")","v":""},null,null,null,null,null,null,null,null,{"$f":"IF(I199= \"\",\"\",VLOOKUP(I199,会場マスタ!$A:$B,2,FALSE))","v":""}]
["",null,null,null,null,null,null,null,null,{"$f":"IF(I200= \"\",\"\",VLOOKUP(I200,会場マスタ!$A:$B,2,FALSE))","v":""}]
["",null,null,null,null,null,null,null,null,{"$f":"IF(I201= \"\",\"\",VLOOKUP(I201,会場マスタ!$A:$B,2,FALSE))","v":""}]
["",null,null,null,null,null,null,null,null,{"$f":"IF(I202= \"\",\"\",VLOOKUP(I202,会場マスタ!$A:$B,2,FALSE))","v":""}]
["",null,null,null,null,null,null,null,null,{"$f":"IF(I203= \"\",\"\",VLOOKUP(I203,会場マスタ!$A:$B,2,FALSE))","v":""}]
["",null,null,null,null,null,null,null,null,{"$f":"IF(I204= \"\",\"\",VLOOKUP(I204,会場マスタ!$A:$B,2,FALSE))","v":""}]
["",null,null,null,null,null,null,null,null,{"$f":"IF(I205= \"\",\"\",VLOOKUP(I205,会場マスタ!$A:$B,2,FALSE))","v":""}]
["",null,null,null,null,null,null,null,null,{"$f":"IF(I206= \"\",\"\",VLOOKUP(I206,会場マスタ!$A:$B,2,FALSE))","v":""}]
["",null,null,null,null,null,null,null,null,{"$f":"IF(I207= \"\",\"\",VLOOKUP(I207,会場マスタ!$A:$B,2,FALSE))","v":""}]
["",null,null,null,null,null,null,null,null,{"$f":"IF(I208= \"\",\"\",VLOOKUP(I208,会場マスタ!$A:$B,2,FALSE))","v":""}]
["",null,null,null,null,null,null,null,null,{"$f":"IF(I209= \"\",\"\",VLOOKUP(I209,会場マスタ!$A:$B,2,FALSE))","v":""}]
["",null,null,null,null,null,null,null,null,{"$f":"IF(I210= \"\",\"\",VLOOKUP(I210,会場マスタ!$A:$B,2,FALSE))","v":""}]
["",null,null,null,null,null,null,null,null,{"$f":"IF(I211= \"\",\"\",VLOOKUP(I211,会場マスタ!$A:$B,2,FALSE))","v":""}]
["",null,null,null,null,null,null,null,null,{"$f":"IF(I212= \"\",\"\",VLOOKUP(I212,会場マスタ!$A:$B,2,FALSE))","v":""}]
["",null,null,null,null,null,null,null,null,{"$f":"IF(I213= \"\",\"\",VLOOKUP(I213,会場マスタ!$A:$B,2,FALSE))","v":""}]
["",null,null,null,null,null,null,null,null,{"$f":"IF(I214= \"\",\"\",VLOOKUP(I214,会場マスタ!$A:$B,2,FALSE))","v":""}]
["",null,null,null,null,null,null,null,null,{"$f":"IF(I215= \"\",\"\",VLOOKUP(I215,会場マスタ!$A:$B,2,FALSE))","v":""}]
["",null,null,null,null,null,null,null,null,{"$f":"IF(I216= \"\",\"\",VLOOKUP(I216,会場マスタ!$A:$B,2,FALSE))","v":""}]
["",null,null,null,null,null,null,null,null,{"$f":"IF(I217= \"\",\"\",VLOOKUP(I217,会場マスタ!$A:$B,2,FALSE))","v":""}]
["",null,null,null,null,null,null,null,null,{"$f":"IF(I218= \"\",\"\",VLOOKUP(I218,会場マスタ!$A:$B,2,FALSE))","v":""}]
["",null,null,null,null,null,null,null,null,{"$f":"IF(I219= \"\",\"\",VLOOKUP(I219,会場マスタ!$A:$B,2,FALSE))","v":""}]
["",null,null,null,null,null,null,null,null,{"$f":"IF(I220= \"\",\"\",VLOOKUP(I220,会場マスタ!$A:$B,2,FALSE))","v":""}]
["",null,null,null,null,null,null,null,null,{"$f":"IF(I221= \"\",\"\",VLOOKUP(I221,会場マスタ!$A:$B,2,FALSE))","v":""}]
["",null,null,null,null,null,null,null,null,{"$f":"IF(I222= \"\",\"\",VLOOKUP(I222,会場マスタ!$A:$B,2,FALSE))","v":""}]
["",null,null,null,null,null,null,null,null,{"$f":"IF(I223= \"\",\"\",VLOOKUP(I223,会場マスタ!$A:$B,2,FALSE))","v":""}]
["",null,null,null,null,null,null,null,null,{"$f":"IF(I224= \"\",\"\",VLOOKUP(I224,会場マスタ!$A:$B,2,FALSE))","v":""}]
["",null,null,null,null,null,null,null,null,{"$f":"IF(I225= \"\",\"\",VLOOKUP(I225,会場マスタ!$A:$B,2,FALSE))","v":""}]
["",null,null,null,null,null,null,null,null,{"$f":"IF(I226= \"\",\"\",VLOOKUP(I226,会場マスタ!$A:$B,2,FALSE))","v":""}]
["",null,null,null,null,null,null,null,null,{"$f":"IF(I227= \"\",\"\",VLOOKUP(I227,会場マスタ!$A:$B,2,FALSE))","v":""}]
["",null,null,null,null,null,null,null,null,{"$f":"IF(I228= \"\",\"\",VLOOKUP(I228,会場マスタ!$A:$B,2,FALSE))","v":""}]
["",null,null,null,null,null,null,null,null,{"$f":"IF(I229= \"\",\"\",VLOOKUP(I229,会場マスタ!$A:$B,2,FALSE))","v":""}]
["",null,null,null,null,null,null,null,null,{"$f":"IF(I230= \"\",\"\",VLOOKUP(I230,会場マスタ!$A:$B,2,FALSE))","v":""}]
["",null,null,null,null,null,null,null,null,{"$f":"IF(I231= \"\",\"\",VLOOKUP(I231,会場マスタ!$A:$B,2,FALSE))","v":""}]
["",null,null,null,null,null,null,null,null,{"$f":"IF(I232= \"\",\"\",VLOOKUP(I232,会場マスタ!$A:$B,2,FALSE))","v":""}]
["",null,null,null,null,null,null,null,null,{"$f":"IF(I233= \"\",\"\",VLOOKUP(I233,会場マスタ!$A:$B,2,FALSE))","v":""}]
["",null,null,null,null,null,null,null,null,{"$f":"IF(I234= \"\",\"\",VLOOKUP(I234,会場マスタ!$A:$B,2,FALSE))","v":""}]
["",null,null,null,null,null,null,null,null,{"$f":"IF(I235= \"\",\"\",VLOOKUP(I235,会場マスタ!$A:$B,2,FALSE))","v":""}]
["",null,null,null,null,null,null,null,null,{"$f":"IF(I236= \"\",\"\",VLOOKUP(I236,会場マスタ!$A:$B,2,FALSE))","v":""}]
["",null,null,null,null,null,null,null,null,{"$f":"IF(I237= \"\",\"\",VLOOKUP(I237,会場マスタ!$A:$B,2,FALSE))","v":""}]
["",null,null,null,null,null,null,null,null,{"$f":"IF(I238= \"\",\"\",VLOOKUP(I238,会場マスタ!$A:$B,2,FALSE))","v":""}]
["",null,null,null,null,null,null,null,null,{"$f":"IF(I239= \"\",\"\",VLOOKUP(I239,会場マスタ!$A:$B,2,FALSE))","v":""}]
["",null,null,null,null,null,null,null,null,{"$f":"IF(I240= \"\",\"\",VLOOKUP(I240,会場マスタ!$A:$B,2,FALSE))","v":""}]
["",null,null,null,null,null,null,null,null,{"$f":"IF(I241= \"\",\"\",VLOOKUP(I241,会場マスタ!$A:$B,2,FALSE))","v":""}]
["",null,null,null,null,null,null,null,null,{"$f":"IF(I242= \"\",\"\",VLOOKUP(I242,会場マスタ!$A:$B,2,FALSE))","v":""}]
["",null,null,null,null,null,null,null,null,{"$f":"IF(I243= \"\",\"\",VLOOKUP(I243,会場マスタ!$A:$B,2,FALSE))","v":""}]
["",null,null,null,null,null,null,null,null,{"$f":"IF(I244= \"\",\"\",VLOOKUP(I244,会場マスタ!$A:$B,2,FALSE))","v":""}]
["",null,null,null,null,null,null,null,null,{"$f":"IF(I245= \"\",\"\",VLOOKUP(I245,会場マスタ!$A:$B,2,FALSE))","v":""}]
["",null,null,null,null,null,null,null,null,{"$f":"IF(I246= \"\",\"\",VLOOKUP(I246,会場マスタ!$A:$B,2,FALSE))","v":""}]
["",null,null,null,null,null,null,null,null,{"$f":"IF(I247= \"\",\"\",VLOOKUP(I247,会場マスタ!$A:$B,2,FALSE))","v":""}]
["",null,null,null,null,null,null,null,null,{"$f":"IF(I248= \"\",\"\",VLOOKUP(I248,会場マスタ!$A:$B,2,FALSE))","v":""}]
["",null,null,null,null,null,null,null,null,{"$f":"IF(I249= \"\",\"\",VLOOKUP(I249,会場マスタ!$A:$B,2,FALSE))","v":""}]
["",null,null,null,null,null,null,null,null,{"$f":"IF(I250= \"\",\"\",VLOOKUP(I250,会場マスタ!$A:$B,2,FALSE))","v":""}]
["",null,null,null,null,null,null,null,null,{"$f":"IF(I251= \"\",\"\",VLOOKUP(I251,会場マスタ!$A:$B,2,FALSE))","v":""}]
["",null,null,null,null,null,null,null,null,{"$f":"IF(I252= \"\",\"\",VLOOKUP(I252,会場マスタ!$A:$B,2,FALSE))","v":""}]
["",null,null,null,null,null,null,null,null,{"$f":"IF(I253= \"\",\"\",VLOOKUP(I253,会場マスタ!$A:$B,2,FALSE))","v":""}]
["",null,null,null,null,null,null,null,null,{"$f":"IF(I254= \"\",\"\",VLOOKUP(I254,会場マスタ!$A:$B,2,FALSE))","v":""}]
["",null,null,null,null,null,null,null,null,{"$f":"IF(I255= \"\",\"\",VLOOKUP(I255,会場マスタ!$A:$B,2,FALSE))","v":""}]
["",null,null,null,null,null,null,null,null,{"$f":"IF(I256= \"\",\"\",VLOOKUP(I256,会場マスタ!$A:$B,2,FALSE))","v":""}]
["",null,null,null,null,null,null,null,null,{"$f":"IF(I257= \"\",\"\",VLOOKUP(I257,会場マスタ!$A:$B,2,FALSE))","v":""}]
["",null,null,null,null,null,null,null,null,{"$f":"IF(I258= \"\",\"\",VLOOKUP(I258,会場マスタ!$A:$B,2,FALSE))","v":""}]
["",null,null,null,null,null,null,null,null,{"$f":"IF(I259= \"\",\"\",VLOOKUP(I259,会場マスタ!$A:$B,2,FALSE))","v":""}]
["",null,null,null,null,null,null,null,null,{"$f":"IF(I260= \"\",\"\",VLOOKUP(I260,会場マスタ!$A:$B,2,FALSE))","v":""}]
["",null,null,null,null,null,null,null,null,{"$f":"IF(I261= \"\",\"\",VLOOKUP(I261,会場マスタ!$A:$B,2,FALSE))","v":""}]
["",null,null,null,null,null,null,null,null,{"$f":"IF(I262= \"\",\"\",VLOOKUP(I262,会場マスタ!$A:$B,2,FALSE))","v":""}]
[{"$f":"IF(B263<>\"\",ROW(A263)-4,\"\")","v":""},null,null,null,null,null,null,null,null,{"$f":"IF(I263= \"\",\"\",VLOOKUP(I263,会場マスタ!$A:$B,2,FALSE))","v":""}]
["",null,null,null,null,null,null,null,null,{"$f":"IF(I264= \"\",\"\",VLOOKUP(I264,会場マスタ!$A:$B,2,FALSE))","v":""}]
["",null,null,null,null,null,null,null,null,{"$f":"IF(I265= \"\",\"\",VLOOKUP(I265,会場マスタ!$A:$B,2,FALSE))","v":""}]
["",null,null,null,null,null,null,null,null,{"$f":"IF(I266= \"\",\"\",VLOOKUP(I266,会場マスタ!$A:$B,2,FALSE))","v":""}]
["",null,null,null,null,null,null,null,null,{"$f":"IF(I267= \"\",\"\",VLOOKUP(I267,会場マスタ!$A:$B,2,FALSE))","v":""}]
["",null,null,null,null,null,null,null,null,{"$f":"IF(I268= \"\",\"\",VLOOKUP(I268,会場マスタ!$A:$B,2,FALSE))","v":""}]
["",null,null,null,null,null,null,null,null,{"$f":"IF(I269= \"\",\"\",VLOOKUP(I269,会場マスタ!$A:$B,2,FALSE))","v":""}]
["",null,null,null,null,null,null,null,null,{"$f":"IF(I270= \"\",\"\",VLOOKUP(I270,会場マスタ!$A:$B,2,FALSE))","v":""}]
["",null,null,null,null,null,null,null,null,{"$f":"IF(I271= \"\",\"\",VLOOKUP(I271,会場マスタ!$A:$B,2,FALSE))","v":""}]
["",null,null,null,null,null,null,null,null,{"$f":"IF(I272= \"\",\"\",VLOOKUP(I272,会場マスタ!$A:$B,2,FALSE))","v":""}]
["",null,null,null,null,null,null,null,null,{"$f":"IF(I273= \"\",\"\",VLOOKUP(I273,会場マスタ!$A:$B,2,FALSE))","v":""}]
["",null,null,null,null,null,null,null,null,{"$f":"IF(I274= \"\",\"\",VLOOKUP(I274,会場マスタ!$A:$B,2,FALSE))","v":""}]
["",null,null,null,null,null,null,null,null,{"$f":"IF(I275= \"\",\"\",VLOOKUP(I275,会場マスタ!$A:$B,2,FALSE))","v":""}]
["",null,null,null,null,null,null,null,null,{"$f":"IF(I276= \"\",\"\",VLOOKUP(I276,会場マスタ!$A:$B,2,FALSE))","v":""}]
["",null,null,null,null,null,null,null,null,{"$f":"IF(I277= \"\",\"\",VLOOKUP(I277,会場マスタ!$A:$B,2,FALSE))","v":""}]
["",null,null,null,null,null,null,null,null,{"$f":"IF(I278= \"\",\"\",VLOOKUP(I278,会場マスタ!$A:$B,2,FALSE))","v":""}]
["",null,null,null,null,null,null,null,null,{"$f":"IF(I279= \"\",\"\",VLOOKUP(I279,会場マスタ!$A:$B,2,FALSE))","v":""}]
["",null,null,null,null,null,null,null,null,{"$f":"IF(I280= \"\",\"\",VLOOKUP(I280,会場マスタ!$A:$B,2,FALSE))","v":""}]
["",null,null,null,null,null,null,null,null,{"$f":"IF(I281= \"\",\"\",VLOOKUP(I281,会場マスタ!$A:$B,2,FALSE))","v":""}]
["",null,null,null,null,null,null,null,null,{"$f":"IF(I282= \"\",\"\",VLOOKUP(I282,会場マスタ!$A:$B,2,FALSE))","v":""}]
["",null,null,null,null,null,null,null,null,{"$f":"IF(I283= \"\",\"\",VLOOKUP(I283,会場マスタ!$A:$B,2,FALSE))","v":""}]
["",null,null,null,null,null,null,null,null,{"$f":"IF(I284= \"\",\"\",VLOOKUP(I284,会場マスタ!$A:$B,2,FALSE))","v":""}]
["",null,null,null,null,null,null,null,null,{"$f":"IF(I285= \"\",\"\",VLOOKUP(I285,会場マスタ!$A:$B,2,FALSE))","v":""}]
["",null,null,null,null,null,null,null,null,{"$f":"IF(I286= \"\",\"\",VLOOKUP(I286,会場マスタ!$A:$B,2,FALSE))","v":""}]
["",null,null,null,null,null,null,null,null,{"$f":"IF(I287= \"\",\"\",VLOOKUP(I287,会場マスタ!$A:$B,2,FALSE))","v":""}]
["",null,null,null,null,null,null,null,null,{"$f":"IF(I288= \"\",\"\",VLOOKUP(I288,会場マスタ!$A:$B,2,FALSE))","v":""}]
["",null,null,null,null,null,null,null,null,{"$f":"IF(I289= \"\",\"\",VLOOKUP(I289,会場マスタ!$A:$B,2,FALSE))","v":""}]
["",null,null,null,null,null,null,null,null,{"$f":"IF(I290= \"\",\"\",VLOOKUP(I290,会場マスタ!$A:$B,2,FALSE))","v":""}]
["",null,null,null,null,null,null,null,null,{"$f":"IF(I291= \"\",\"\",VLOOKUP(I291,会場マスタ!$A:$B,2,FALSE))","v":""}]
["",null,null,null,null,null,null,null,null,{"$f":"IF(I292= \"\",\"\",VLOOKUP(I292,会場マスタ!$A:$B,2,FALSE))","v":""}]
["",null,null,null,null,null,null,null,null,{"$f":"IF(I293= \"\",\"\",VLOOKUP(I293,会場マスタ!$A:$B,2,FALSE))","v":""}]
["",null,null,null,null,null,null,null,null,{"$f":"IF(I294= \"\",\"\",VLOOKUP(I294,会場マスタ!$A:$B,2,FALSE))","v":""}]
["",null,null,null,null,null,null,null,null,{"$f":"IF(I295= \"\",\"\",VLOOKUP(I295,会場マスタ!$A:$B,2,FALSE))","v":""}]
["",null,null,null,null,null,null,null,null,{"$f":"IF(I296= \"\",\"\",VLOOKUP(I296,会場マスタ!$A:$B,2,FALSE))","v":""}]
["",null,null,null,null,null,null,null,null,{"$f":"IF(I297= \"\",\"\",VLOOKUP(I297,会場マスタ!$A:$B,2,FALSE))","v":""}]
["",null,null,null,null,null,null,null,null,{"$f":"IF(I298= \"\",\"\",VLOOKUP(I298,会場マスタ!$A:$B,2,FALSE))","v":""}]
["",null,null,null,null,null,null,null,null,{"$f":"IF(I299= \"\",\"\",VLOOKUP(I299,会場マスタ!$A:$B,2,FALSE))","v":""}]
["",null,null,null,null,null,null,null,null,{"$f":"IF(I300= \"\",\"\",VLOOKUP(I300,会場マスタ!$A:$B,2,FALSE))","v":""}]
["",null,null,null,null,null,null,null,null,{"$f":"IF(I301= \"\",\"\",VLOOKUP(I301,会場マスタ!$A:$B,2,FALSE))","v":""}]
["",null,null,null,null,null,null,null,null,{"$f":"IF(I302= \"\",\"\",VLOOKUP(I302,会場マスタ!$A:$B,2,FALSE))","v":""}]
["",null,null,null,null,null,null,null,null,{"$f":"IF(I303= \"\",\"\",VLOOKUP(I303,会場マスタ!$A:$B,2,FALSE))","v":""}]
["",null,null,null,null,null,null,null,null,{"$f":"IF(I304= \"\",\"\",VLOOKUP(I304,会場マスタ!$A:$B,2,FALSE))","v":""}]
["",null,null,null,null,null,null,null,null,{"$f":"IF(I305= \"\",\"\",VLOOKUP(I305,会場マスタ!$A:$B,2,FALSE))","v":""}]
["",null,null,null,null,null,null,null,null,{"$f":"IF(I306= \"\",\"\",VLOOKUP(I306,会場マスタ!$A:$B,2,FALSE))","v":""}]
["",null,null,null,null,null,null,null,null,{"$f":"IF(I307= \"\",\"\",VLOOKUP(I307,会場マスタ!$A:$B,2,FALSE))","v":""}]
["",null,null,null,null,null,null,null,null,{"$f":"IF(I308= \"\",\"\",VLOOKUP(I308,会場マスタ!$A:$B,2,FALSE))","v":""}]
["",null,null,null,null,null,null,null,null,{"$f":"IF(I309= \"\",\"\",VLOOKUP(I309,会場マスタ!$A:$B,2,FALSE))","v":""}]
["",null,null,null,null,null,null,null,null,{"$f":"IF(I310= \"\",\"\",VLOOKUP(I310,会場マスタ!$A:$B,2,FALSE))","v":""}]
["",null,null,null,null,null,null,null,null,{"$f":"IF(I311= \"\",\"\",VLOOKUP(I311,会場マスタ!$A:$B,2,FALSE))","v":""}]
["",null,null,null,null,null,null,null,null,{"$f":"IF(I312= \"\",\"\",VLOOKUP(I312,会場マスタ!$A:$B,2,FALSE))","v":""}]
["",null,null,null,null,null,null,null,null,{"$f":"IF(I313= \"\",\"\",VLOOKUP(I313,会場マスタ!$A:$B,2,FALSE))","v":""}]
["",null,null,null,null,null,null,null,null,{"$f":"IF(I314= \"\",\"\",VLOOKUP(I314,会場マスタ!$A:$B,2,FALSE))","v":""}]
["",null,null,null,null,null,null,null,null,{"$f":"IF(I315= \"\",\"\",VLOOKUP(I315,会場マスタ!$A:$B,2,FALSE))","v":""}]
["",null,null,null,null,null,null,null,null,{"$f":"IF(I316= \"\",\"\",VLOOKUP(I316,会場マスタ!$A:$B,2,FALSE))","v":""}]
["",null,null,null,null,null,null,null,null,{"$f":"IF(I317= \"\",\"\",VLOOKUP(I317,会場マスタ!$A:$B,2,FALSE))","v":""}]
["",null,null,null,null,null,null,null,null,{"$f":"IF(I318= \"\",\"\",VLOOKUP(I318,会場マスタ!$A:$B,2,FALSE))","v":""}]
["",null,null,null,null,null,null,null,null,{"$f":"IF(I319= \"\",\"\",VLOOKUP(I319,会場マスタ!$A:$B,2,FALSE))","v":""}]
["",null,null,null,null,null,null,null,null,{"$f":"IF(I320= \"\",\"\",VLOOKUP(I320,会場マスタ!$A:$B,2,FALSE))","v":""}]
["",null,null,null,null,null,null,null,null,{"$f":"IF(I321= \"\",\"\",VLOOKUP(I321,会場マスタ!$A:$B,2,FALSE))","v":""}]
["",null,null,null,null,null,null,null,null,{"$f":"IF(I322= \"\",\"\",VLOOKUP(I322,会場マスタ!$A:$B,2,FALSE))","v":""}]
["",null,null,null,null,null,null,null,null,{"$f":"IF(I323= \"\",\"\",VLOOKUP(I323,会場マスタ!$A:$B,2,FALSE))","v":""}]
["",null,null,null,null,null,null,null,null,{"$f":"IF(I324= \"\",\"\",VLOOKUP(I324,会場マスタ!$A:$B,2,FALSE))","v":""}]
["",null,null,null,null,null,null,null,null,{"$f":"IF(I325= \"\",\"\",VLOOKUP(I325,会場マスタ!$A:$B,2,FALSE))","v":""}]
["",null,null,null,null,null,null,null,null,{"$f":"IF(I326= \"\",\"\",VLOOKUP(I326,会場マスタ!$A:$B,2,FALSE))","v":""}]
[{"$f":"IF(B327<>\"\",ROW(A327)-4,\"\")","v":""},null,null,null,null,null,null,null,null,{"$f":"IF(I327= \"\",\"\",VLOOKUP(I327,会場マスタ!$A:$B,2,FALSE))","v":""}]
["",null,null,null,null,null,null,null,null,{"$f":"IF(I328= \"\",\"\",VLOOKUP(I328,会場マスタ!$A:$B,2,FALSE))","v":""}]
["",null,null,null,null,null,null,null,null,{"$f":"IF(I329= \"\",\"\",VLOOKUP(I329,会場マスタ!$A:$B,2,FALSE))","v":""}]
["",null,null,null,null,null,null,null,null,{"$f":"IF(I330= \"\",\"\",VLOOKUP(I330,会場マスタ!$A:$B,2,FALSE))","v":""}]
["",null,null,null,null,null,null,null,null,{"$f":"IF(I331= \"\",\"\",VLOOKUP(I331,会場マスタ!$A:$B,2,FALSE))","v":""}]
["",null,null,null,null,null,null,null,null,{"$f":"IF(I332= \"\",\"\",VLOOKUP(I332,会場マスタ!$A:$B,2,FALSE))","v":""}]
["",null,null,null,null,null,null,null,null,{"$f":"IF(I333= \"\",\"\",VLOOKUP(I333,会場マスタ!$A:$B,2,FALSE))","v":""}]
["",null,null,null,null,null,null,null,null,{"$f":"IF(I334= \"\",\"\",VLOOKUP(I334,会場マスタ!$A:$B,2,FALSE))","v":""}]
["",null,null,null,null,null,null,null,null,{"$f":"IF(I335= \"\",\"\",VLOOKUP(I335,会場マスタ!$A:$B,2,FALSE))","v":""}]
["",null,null,null,null,null,null,null,null,{"$f":"IF(I336= \"\",\"\",VLOOKUP(I336,会場マスタ!$A:$B,2,FALSE))","v":""}]
["",null,null,null,null,null,null,null,null,{"$f":"IF(I337= \"\",\"\",VLOOKUP(I337,会場マスタ!$A:$B,2,FALSE))","v":""}]
["",null,null,null,null,null,null,null,null,{"$f":"IF(I338= \"\",\"\",VLOOKUP(I338,会場マスタ!$A:$B,2,FALSE))","v":""}]
["",null,null,null,null,null,null,null,null,{"$f":"IF(I339= \"\",\"\",VLOOKUP(I339,会場マスタ!$A:$B,2,FALSE))","v":""}]
["",null,null,null,null,null,null,null,null,{"$f":"IF(I340= \"\",\"\",VLOOKUP(I340,会場マスタ!$A:$B,2,FALSE))","v":""}]
["",null,null,null,null,null,null,null,null,{"$f":"IF(I341= \"\",\"\",VLOOKUP(I341,会場マスタ!$A:$B,2,FALSE))","v":""}]
["",null,null,null,null,null,null,null,null,{"$f":"IF(I342= \"\",\"\",VLOOKUP(I342,会場マスタ!$A:$B,2,FALSE))","v":""}]
["",null,null,null,null,null,null,null,null,{"$f":"IF(I343= \"\",\"\",VLOOKUP(I343,会場マスタ!$A:$B,2,FALSE))","v":""}]
["",null,null,null,null,null,null,null,null,{"$f":"IF(I344= \"\",\"\",VLOOKUP(I344,会場マスタ!$A:$B,2,FALSE))","v":""}]
["",null,null,null,null,null,null,null,null,{"$f":"IF(I345= \"\",\"\",VLOOKUP(I345,会場マスタ!$A:$B,2,FALSE))","v":""}]
["",null,null,null,null,null,null,null,null,{"$f":"IF(I346= \"\",\"\",VLOOKUP(I346,会場マスタ!$A:$B,2,FALSE))","v":""}]
["",null,null,null,null,null,null,null,null,{"$f":"IF(I347= \"\",\"\",VLOOKUP(I347,会場マスタ!$A:$B,2,FALSE))","v":""}]
["",null,null,null,null,null,null,null,null,{"$f":"IF(I348= \"\",\"\",VLOOKUP(I348,会場マスタ!$A:$B,2,FALSE))","v":""}]
["",null,null,null,null,null,null,null,null,{"$f":"IF(I349= \"\",\"\",VLOOKUP(I349,会場マスタ!$A:$B,2,FALSE))","v":""}]
["",null,null,null,null,null,null,null,null,{"$f":"IF(I350= \"\",\"\",VLOOKUP(I350,会場マスタ!$A:$B,2,FALSE))","v":""}]
["",null,null,null,null,null,null,null,null,{"$f":"IF(I351= \"\",\"\",VLOOKUP(I351,会場マスタ!$A:$B,2,FALSE))","v":""}]
["",null,null,null,null,null,null,null,null,{"$f":"IF(I352= \"\",\"\",VLOOKUP(I352,会場マスタ!$A:$B,2,FALSE))","v":""}]
["",null,null,null,null,null,null,null,null,{"$f":"IF(I353= \"\",\"\",VLOOKUP(I353,会場マスタ!$A:$B,2,FALSE))","v":""}]
["",null,null,null,null,null,null,null,null,{"$f":"IF(I354= \"\",\"\",VLOOKUP(I354,会場マスタ!$A:$B,2,FALSE))","v":""}]
["",null,null,null,null,null,null,null,null,{"$f":"IF(I355= \"\",\"\",VLOOKUP(I355,会場マスタ!$A:$B,2,FALSE))","v":""}]
["",null,null,null,null,null,null,null,null,{"$f":"IF(I356= \"\",\"\",VLOOKUP(I356,会場マスタ!$A:$B,2,FALSE))","v":""}]
["",null,null,null,null,null,null,null,null,{"$f":"IF(I357= \"\",\"\",VLOOKUP(I357,会場マスタ!$A:$B,2,FALSE))","v":""}]
["",null,null,null,null,null,null,null,null,{"$f":"IF(I358= \"\",\"\",VLOOKUP(I358,会場マスタ!$A:$B,2,FALSE))","v":""}]
["",null,null,null,null,null,null,null,null,{"$f":"IF(I359= \"\",\"\",VLOOKUP(I359,会場マスタ!$A:$B,2,FALSE))","v":""}]
["",null,null,null,null,null,null,null,null,{"$f":"IF(I360= \"\",\"\",VLOOKUP(I360,会場マスタ!$A:$B,2,FALSE))","v":""}]
["",null,null,null,null,null,null,null,null,{"$f":"IF(I361= \"\",\"\",VLOOKUP(I361,会場マスタ!$A:$B,2,FALSE))","v":""}]
["",null,null,null,null,null,null,null,null,{"$f":"IF(I362= \"\",\"\",VLOOKUP(I362,会場マスタ!$A:$B,2,FALSE))","v":""}]
["",null,null,null,null,null,null,null,null,{"$f":"IF(I363= \"\",\"\",VLOOKUP(I363,会場マスタ!$A:$B,2,FALSE))","v":""}]
["",null,null,null,null,null,null,null,null,{"$f":"IF(I364= \"\",\"\",VLOOKUP(I364,会場マスタ!$A:$B,2,FALSE))","v":""}]
["",null,null,null,null,null,null,null,null,{"$f":"IF(I365= \"\",\"\",VLOOKUP(I365,会場マスタ!$A:$B,2,FALSE))","v":""}]
["",null,null,null,null,null,null,null,null,{"$f":"IF(I366= \"\",\"\",VLOOKUP(I366,会場マスタ!$A:$B,2,FALSE))","v":""}]
["",null,null,null,null,null,null,null,null,{"$f":"IF(I367= \"\",\"\",VLOOKUP(I367,会場マスタ!$A:$B,2,FALSE))","v":""}]
["",null,null,null,null,null,null,null,null,{"$f":"IF(I368= \"\",\"\",VLOOKUP(I368,会場マスタ!$A:$B,2,FALSE))","v":""}]
["",null,null,null,null,null,null,null,null,{"$f":"IF(I369= \"\",\"\",VLOOKUP(I369,会場マスタ!$A:$B,2,FALSE))","v":""}]
["",null,null,null,null,null,null,null,null,{"$f":"IF(I370= \"\",\"\",VLOOKUP(I370,会場マスタ!$A:$B,2,FALSE))","v":""}]
["",null,null,null,null,null,null,null,null,{"$f":"IF(I371= \"\",\"\",VLOOKUP(I371,会場マスタ!$A:$B,2,FALSE))","v":""}]
["",null,null,null,null,null,null,null,null,{"$f":"IF(I372= \"\",\"\",VLOOKUP(I372,会場マスタ!$A:$B,2,FALSE))","v":""}]
["",null,null,null,null,null,null,null,null,{"$f":"IF(I373= \"\",\"\",VLOOKUP(I373,会場マスタ!$A:$B,2,FALSE))","v":""}]
["",null,null,null,null,null,null,null,null,{"$f":"IF(I374= \"\",\"\",VLOOKUP(I374,会場マスタ!$A:$B,2,FALSE))","v":""}]
["",null,null,null,null,null,null,null,null,{"$f":"IF(I375= \"\",\"\",VLOOKUP(I375,会場マスタ!$A:$B,2,FALSE))","v":""}]
["",null,null,null,null,null,null,null,null,{"$f":"IF(I376= \"\",\"\",VLOOKUP(I376,会場マスタ!$A:$B,2,FALSE))","v":""}]
["",null,null,null,null,null,null,null,null,{"$f":"IF(I377= \"\",\"\",VLOOKUP(I377,会場マスタ!$A:$B,2,FALSE))","v":""}]
["",null,null,null,null,null,null,null,null,{"$f":"IF(I378= \"\",\"\",VLOOKUP(I378,会場マスタ!$A:$B,2,FALSE))","v":""}]
["",null,null,null,null,null,null,null,null,{"$f":"IF(I379= \"\",\"\",VLOOKUP(I379,会場マスタ!$A:$B,2,FALSE))","v":""}]
["",null,null,null,null,null,null,null,null,{"$f":"IF(I380= \"\",\"\",VLOOKUP(I380,会場マスタ!$A:$B,2,FALSE))","v":""}]
["",null,null,null,null,null,null,null,null,{"$f":"IF(I381= \"\",\"\",VLOOKUP(I381,会場マスタ!$A:$B,2,FALSE))","v":""}]
["",null,null,null,null,null,null,null,null,{"$f":"IF(I382= \"\",\"\",VLOOKUP(I382,会場マスタ!$A:$B,2,FALSE))","v":""}]
["",null,null,null,null,null,null,null,null,{"$f":"IF(I383= \"\",\"\",VLOOKUP(I383,会場マスタ!$A:$B,2,FALSE))","v":""}]
["",null,null,null,null,null,null,null,null,{"$f":"IF(I384= \"\",\"\",VLOOKUP(I384,会場マスタ!$A:$B,2,FALSE))","v":""}]
["",null,null,null,null,null,null,null,null,{"$f":"IF(I385= \"\",\"\",VLOOKUP(I385,会場マスタ!$A:$B,2,FALSE))","v":""}]
["",null,null,null,null,null,null,null,null,{"$f":"IF(I386= \"\",\"\",VLOOKUP(I386,会場マスタ!$A:$B,2,FALSE))","v":""}]
["",null,null,null,null,null,null,null,null,{"$f":"IF(I387= \"\",\"\",VLOOKUP(I387,会場マスタ!$A:$B,2,FALSE))","v":""}]
["",null,null,null,null,null,null,null,null,{"$f":"IF(I388= \"\",\"\",VLOOKUP(I388,会場マスタ!$A:$B,2,FALSE))","v":""}]
["",null,null,null,null,null,null,null,null,{"$f":"IF(I389= \"\",\"\",VLOOKUP(I389,会場マスタ!$A:$B,2,FALSE))","v":""}]
["",null,null,null,null,null,null,null,null,{"$f":"IF(I390= \"\",\"\",VLOOKUP(I390,会場マスタ!$A:$B,2,FALSE))","v":""}]
[{"$f":"IF(B391<>\"\",ROW(A391)-4,\"\")","v":""},null,null,null,null,null,null,null,null,{"$f":"IF(I391= \"\",\"\",VLOOKUP(I391,会場マスタ!$A:$B,2,FALSE))","v":""}]
["",null,null,null,null,null,null,null,null,{"$f":"IF(I392= \"\",\"\",VLOOKUP(I392,会場マスタ!$A:$B,2,FALSE))","v":""}]
["",null,null,null,null,null,null,null,null,{"$f":"IF(I393= \"\",\"\",VLOOKUP(I393,会場マスタ!$A:$B,2,FALSE))","v":""}]
["",null,null,null,null,null,null,null,null,{"$f":"IF(I394= \"\",\"\",VLOOKUP(I394,会場マスタ!$A:$B,2,FALSE))","v":""}]
["",null,null,null,null,null,null,null,null,{"$f":"IF(I395= \"\",\"\",VLOOKUP(I395,会場マスタ!$A:$B,2,FALSE))","v":""}]
["",null,null,null,null,null,null,null,null,{"$f":"IF(I396= \"\",\"\",VLOOKUP(I396,会場マスタ!$A:$B,2,FALSE))","v":""}]
["",null,null,null,null,null,null,null,null,{"$f":"IF(I397= \"\",\"\",VLOOKUP(I397,会場マスタ!$A:$B,2,FALSE))","v":""}]
["",null,null,null,null,null,null,null,null,{"$f":"IF(I398= \"\",\"\",VLOOKUP(I398,会場マスタ!$A:$B,2,FALSE))","v":""}]
["",null,null,null,null,null,null,null,null,{"$f":"IF(I399= \"\",\"\",VLOOKUP(I399,会場マスタ!$A:$B,2,FALSE))","v":""}]
["",null,null,null,null,null,null,null,null,{"$f":"IF(I400= \"\",\"\",VLOOKUP(I400,会場マスタ!$A:$B,2,FALSE))","v":""}]
["",null,null,null,null,null,null,null,null,{"$f":"IF(I401= \"\",\"\",VLOOKUP(I401,会場マスタ!$A:$B,2,FALSE))","v":""}]
["",null,null,null,null,null,null,null,null,{"$f":"IF(I402= \"\",\"\",VLOOKUP(I402,会場マスタ!$A:$B,2,FALSE))","v":""}]
["",null,null,null,null,null,null,null,null,{"$f":"IF(I403= \"\",\"\",VLOOKUP(I403,会場マスタ!$A:$B,2,FALSE))","v":""}]
["",null,null,null,null,null,null,null,null,{"$f":"IF(I404= \"\",\"\",VLOOKUP(I404,会場マスタ!$A:$B,2,FALSE))","v":""}]
["",null,null,null,null,null,null,null,null,{"$f":"IF(I405= \"\",\"\",VLOOKUP(I405,会場マスタ!$A:$B,2,FALSE))","v":""}]
["",null,null,null,null,null,null,null,null,{"$f":"IF(I406= \"\",\"\",VLOOKUP(I406,会場マスタ!$A:$B,2,FALSE))","v":""}]
["",null,null,null,null,null,null,null,null,{"$f":"IF(I407= \"\",\"\",VLOOKUP(I407,会場マスタ!$A:$B,2,FALSE))","v":""}]
["",null,null,null,null,null,null,null,null,{"$f":"IF(I408= \"\",\"\",VLOOKUP(I408,会場マスタ!$A:$B,2,FALSE))","v":""}]
["",null,null,null,null,null,null,null,null,{"$f":"IF(I409= \"\",\"\",VLOOKUP(I409,会場マスタ!$A:$B,2,FALSE))","v":""}]
["",null,null,null,null,null,null,null,null,{"$f":"IF(I410= \"\",\"\",VLOOKUP(I410,会場マスタ!$A:$B,2,FALSE))","v":""}]
["",null,null,null,null,null,null,null,null,{"$f":"IF(I411= \"\",\"\",VLOOKUP(I411,会場マスタ!$A:$B,2,FALSE))","v":""}]
["",null,null,null,null,null,null,null,null,{"$f":"IF(I412= \"\",\"\",VLOOKUP(I412,会場マスタ!$A:$B,2,FALSE))","v":""}]
["",null,null,null,null,null,null,null,null,{"$f":"IF(I413= \"\",\"\",VLOOKUP(I413,会場マスタ!$A:$B,2,FALSE))","v":""}]
["",null,null,null,null,null,null,null,null,{"$f":"IF(I414= \"\",\"\",VLOOKUP(I414,会場マスタ!$A:$B,2,FALSE))","v":""}]
["",null,null,null,null,null,null,null,null,{"$f":"IF(I415= \"\",\"\",VLOOKUP(I415,会場マスタ!$A:$B,2,FALSE))","v":""}]
["",null,null,null,null,null,null,null,null,{"$f":"IF(I416= \"\",\"\",VLOOKUP(I416,会場マスタ!$A:$B,2,FALSE))","v":""}]
["",null,null,null,null,null,null,null,null,{"$f":"IF(I417= \"\",\"\",VLOOKUP(I417,会場マスタ!$A:$B,2,FALSE))","v":""}]
["",null,null,null,null,null,null,null,null,{"$f":"IF(I418= \"\",\"\",VLOOKUP(I418,会場マスタ!$A:$B,2,FALSE))","v":""}]
["",null,null,null,null,null,null,null,null,{"$f":"IF(I419= \"\",\"\",VLOOKUP(I419,会場マスタ!$A:$B,2,FALSE))","v":""}]
["",null,null,null,null,null,null,null,null,{"$f":"IF(I420= \"\",\"\",VLOOKUP(I420,会場マスタ!$A:$B,2,FALSE))","v":""}]
["",null,null,null,null,null,null,null,null,{"$f":"IF(I421= \"\",\"\",VLOOKUP(I421,会場マスタ!$A:$B,2,FALSE))","v":""}]
["",null,null,null,null,null,null,null,null,{"$f":"IF(I422= \"\",\"\",VLOOKUP(I422,会場マスタ!$A:$B,2,FALSE))","v":""}]
["",null,null,null,null,null,null,null,null,{"$f":"IF(I423= \"\",\"\",VLOOKUP(I423,会場マスタ!$A:$B,2,FALSE))","v":""}]
["",null,null,null,null,null,null,null,null,{"$f":"IF(I424= \"\",\"\",VLOOKUP(I424,会場マスタ!$A:$B,2,FALSE))","v":""}]
["",null,null,null,null,null,null,null,null,{"$f":"IF(I425= \"\",\"\",VLOOKUP(I425,会場マスタ!$A:$B,2,FALSE))","v":""}]
["",null,null,null,null,null,null,null,null,{"$f":"IF(I426= \"\",\"\",VLOOKUP(I426,会場マスタ!$A:$B,2,FALSE))","v":""}]
["",null,null,null,null,null,null,null,null,{"$f":"IF(I427= \"\",\"\",VLOOKUP(I427,会場マスタ!$A:$B,2,FALSE))","v":""}]
["",null,null,null,null,null,null,null,null,{"$f":"IF(I428= \"\",\"\",VLOOKUP(I428,会場マスタ!$A:$B,2,FALSE))","v":""}]
["",null,null,null,null,null,null,null,null,{"$f":"IF(I429= \"\",\"\",VLOOKUP(I429,会場マスタ!$A:$B,2,FALSE))","v":""}]
["",null,null,null,null,null,null,null,null,{"$f":"IF(I430= \"\",\"\",VLOOKUP(I430,会場マスタ!$A:$B,2,FALSE))","v":""}]
["",null,null,null,null,null,null,null,null,{"$f":"IF(I431= \"\",\"\",VLOOKUP(I431,会場マスタ!$A:$B,2,FALSE))","v":""}]
["",null,null,null,null,null,null,null,null,{"$f":"IF(I432= \"\",\"\",VLOOKUP(I432,会場マスタ!$A:$B,2,FALSE))","v":""}]
["",null,null,null,null,null,null,null,null,{"$f":"IF(I433= \"\",\"\",VLOOKUP(I433,会場マスタ!$A:$B,2,FALSE))","v":""}]
["",null,null,null,null,null,null,null,null,{"$f":"IF(I434= \"\",\"\",VLOOKUP(I434,会場マスタ!$A:$B,2,FALSE))","v":""}]
["",null,null,null,null,null,null,null,null,{"$f":"IF(I435= \"\",\"\",VLOOKUP(I435,会場マスタ!$A:$B,2,FALSE))","v":""}]
["",null,null,null,null,null,null,null,null,{"$f":"IF(I436= \"\",\"\",VLOOKUP(I436,会場マスタ!$A:$B,2,FALSE))","v":""}]
["",null,null,null,null,null,null,null,null,{"$f":"IF(I437= \"\",\"\",VLOOKUP(I437,会場マスタ!$A:$B,2,FALSE))","v":""}]
["",null,null,null,null,null,null,null,null,{"$f":"IF(I438= \"\",\"\",VLOOKUP(I438,会場マスタ!$A:$B,2,FALSE))","v":""}]
["",null,null,null,null,null,null,null,null,{"$f":"IF(I439= \"\",\"\",VLOOKUP(I439,会場マスタ!$A:$B,2,FALSE))","v":""}]
["",null,null,null,null,null,null,null,null,{"$f":"IF(I440= \"\",\"\",VLOOKUP(I440,会場マスタ!$A:$B,2,FALSE))","v":""}]
["",null,null,null,null,null,null,null,null,{"$f":"IF(I441= \"\",\"\",VLOOKUP(I441,会場マスタ!$A:$B,2,FALSE))","v":""}]
["",null,null,null,null,null,null,null,null,{"$f":"IF(I442= \"\",\"\",VLOOKUP(I442,会場マスタ!$A:$B,2,FALSE))","v":""}]
["",null,null,null,null,null,null,null,null,{"$f":"IF(I443= \"\",\"\",VLOOKUP(I443,会場マスタ!$A:$B,2,FALSE))","v":""}]
["",null,null,null,null,null,null,null,null,{"$f":"IF(I444= \"\",\"\",VLOOKUP(I444,会場マスタ!$A:$B,2,FALSE))","v":""}]
["",null,null,null,null,null,null,null,null,{"$f":"IF(I445= \"\",\"\",VLOOKUP(I445,会場マスタ!$A:$B,2,FALSE))","v":""}]
["",null,null,null,null,null,null,null,null,{"$f":"IF(I446= \"\",\"\",VLOOKUP(I446,会場マスタ!$A:$B,2,FALSE))","v":""}]
["",null,null,null,null,null,null,null,null,{"$f":"IF(I447= \"\",\"\",VLOOKUP(I447,会場マスタ!$A:$B,2,FALSE))","v":""}]
["",null,null,null,null,null,null,null,null,{"$f":"IF(I448= \"\",\"\",VLOOKUP(I448,会場マスタ!$A:$B,2,FALSE))","v":""}]
["",null,null,null,null,null,null,null,null,{"$f":"IF(I449= \"\",\"\",VLOOKUP(I449,会場マスタ!$A:$B,2,FALSE))","v":""}]
["",null,null,null,null,null,null,null,null,{"$f":"IF(I450= \"\",\"\",VLOOKUP(I450,会場マスタ!$A:$B,2,FALSE))","v":""}]
["",null,null,null,null,null,null,null,null,{"$f":"IF(I451= \"\",\"\",VLOOKUP(I451,会場マスタ!$A:$B,2,FALSE))","v":""}]
["",null,null,null,null,null,null,null,null,{"$f":"IF(I452= \"\",\"\",VLOOKUP(I452,会場マスタ!$A:$B,2,FALSE))","v":""}]
["",null,null,null,null,null,null,null,null,{"$f":"IF(I453= \"\",\"\",VLOOKUP(I453,会場マスタ!$A:$B,2,FALSE))","v":""}]
["",null,null,null,null,null,null,null,null,{"$f":"IF(I454= \"\",\"\",VLOOKUP(I454,会場マスタ!$A:$B,2,FALSE))","v":""}]
[{"$f":"IF(B455<>\"\",ROW(A455)-4,\"\")","v":""},null,null,null,null,null,null,null,null,{"$f":"IF(I455= \"\",\"\",VLOOKUP(I455,会場マスタ!$A:$B,2,FALSE))","v":""}]
["",null,null,null,null,null,null,null,null,{"$f":"IF(I456= \"\",\"\",VLOOKUP(I456,会場マスタ!$A:$B,2,FALSE))","v":""}]
["",null,null,null,null,null,null,null,null,{"$f":"IF(I457= \"\",\"\",VLOOKUP(I457,会場マスタ!$A:$B,2,FALSE))","v":""}]
["",null,null,null,null,null,null,null,null,{"$f":"IF(I458= \"\",\"\",VLOOKUP(I458,会場マスタ!$A:$B,2,FALSE))","v":""}]
["",null,null,null,null,null,null,null,null,{"$f":"IF(I459= \"\",\"\",VLOOKUP(I459,会場マスタ!$A:$B,2,FALSE))","v":""}]
["",null,null,null,null,null,null,null,null,{"$f":"IF(I460= \"\",\"\",VLOOKUP(I460,会場マスタ!$A:$B,2,FALSE))","v":""}]
["",null,null,null,null,null,null,null,null,{"$f":"IF(I461= \"\",\"\",VLOOKUP(I461,会場マスタ!$A:$B,2,FALSE))","v":""}]
["",null,null,null,null,null,null,null,null,{"$f":"IF(I462= \"\",\"\",VLOOKUP(I462,会場マスタ!$A:$B,2,FALSE))","v":""}]
["",null,null,null,null,null,null,null,null,{"$f":"IF(I463= \"\",\"\",VLOOKUP(I463,会場マスタ!$A:$B,2,FALSE))","v":""}]
["",null,null,null,null,null,null,null,null,{"$f":"IF(I464= \"\",\"\",VLOOKUP(I464,会場マスタ!$A:$B,2,FALSE))","v":""}]
["",null,null,null,null,null,null,null,null,{"$f":"IF(I465= \"\",\"\",VLOOKUP(I465,会場マスタ!$A:$B,2,FALSE))","v":""}]
["",null,null,null,null,null,null,null,null,{"$f":"IF(I466= \"\",\"\",VLOOKUP(I466,会場マスタ!$A:$B,2,FALSE))","v":""}]
["",null,null,null,null,null,null,null,null,{"$f":"IF(I467= \"\",\"\",VLOOKUP(I467,会場マスタ!$A:$B,2,FALSE))","v":""}]
["",null,null,null,null,null,null,null,null,{"$f":"IF(I468= \"\",\"\",VLOOKUP(I468,会場マスタ!$A:$B,2,FALSE))","v":""}]
["",null,null,null,null,null,null,null,null,{"$f":"IF(I469= \"\",\"\",VLOOKUP(I469,会場マスタ!$A:$B,2,FALSE))","v":""}]
["",null,null,null,null,null,null,null,null,{"$f":"IF(I470= \"\",\"\",VLOOKUP(I470,会場マスタ!$A:$B,2,FALSE))","v":""}]
["",null,null,null,null,null,null,null,null,{"$f":"IF(I471= \"\",\"\",VLOOKUP(I471,会場マスタ!$A:$B,2,FALSE))","v":""}]
["",null,null,null,null,null,null,null,null,{"$f":"IF(I472= \"\",\"\",VLOOKUP(I472,会場マスタ!$A:$B,2,FALSE))","v":""}]
["",null,null,null,null,null,null,null,null,{"$f":"IF(I473= \"\",\"\",VLOOKUP(I473,会場マスタ!$A:$B,2,FALSE))","v":""}]
["",null,null,null,null,null,null,null,null,{"$f":"IF(I474= \"\",\"\",VLOOKUP(I474,会場マスタ!$A:$B,2,FALSE))","v":""}]
["",null,null,null,null,null,null,null,null,{"$f":"IF(I475= \"\",\"\",VLOOKUP(I475,会場マスタ!$A:$B,2,FALSE))","v":""}]
["",null,null,null,null,null,null,null,null,{"$f":"IF(I476= \"\",\"\",VLOOKUP(I476,会場マスタ!$A:$B,2,FALSE))","v":""}]
["",null,null,null,null,null,null,null,null,{"$f":"IF(I477= \"\",\"\",VLOOKUP(I477,会場マスタ!$A:$B,2,FALSE))","v":""}]
["",null,null,null,null,null,null,null,null,{"$f":"IF(I478= \"\",\"\",VLOOKUP(I478,会場マスタ!$A:$B,2,FALSE))","v":""}]
["",null,null,null,null,null,null,null,null,{"$f":"IF(I479= \"\",\"\",VLOOKUP(I479,会場マスタ!$A:$B,2,FALSE))","v":""}]
["",null,null,null,null,null,null,null,null,{"$f":"IF(I480= \"\",\"\",VLOOKUP(I480,会場マスタ!$A:$B,2,FALSE))","v":""}]
["",null,null,null,null,null,null,null,null,{"$f":"IF(I481= \"\",\"\",VLOOKUP(I481,会場マスタ!$A:$B,2,FALSE))","v":""}]
["",null,null,null,null,null,null,null,null,{"$f":"IF(I482= \"\",\"\",VLOOKUP(I482,会場マスタ!$A:$B,2,FALSE))","v":""}]
["",null,null,null,null,null,null,null,null,{"$f":"IF(I483= \"\",\"\",VLOOKUP(I483,会場マスタ!$A:$B,2,FALSE))","v":""}]
["",null,null,null,null,null,null,null,null,{"$f":"IF(I484= \"\",\"\",VLOOKUP(I484,会場マスタ!$A:$B,2,FALSE))","v":""}]
["",null,null,null,null,null,null,null,null,{"$f":"IF(I485= \"\",\"\",VLOOKUP(I485,会場マスタ!$A:$B,2,FALSE))","v":""}]
["",null,null,null,null,null,null,null,null,{"$f":"IF(I486= \"\",\"\",VLOOKUP(I486,会場マスタ!$A:$B,2,FALSE))","v":""}]
["",null,null,null,null,null,null,null,null,{"$f":"IF(I487= \"\",\"\",VLOOKUP(I487,会場マスタ!$A:$B,2,FALSE))","v":""}]
["",null,null,null,null,null,null,null,null,{"$f":"IF(I488= \"\",\"\",VLOOKUP(I488,会場マスタ!$A:$B,2,FALSE))","v":""}]
["",null,null,null,null,null,null,null,null,{"$f":"IF(I489= \"\",\"\",VLOOKUP(I489,会場マスタ!$A:$B,2,FALSE))","v":""}]
["",null,null,null,null,null,null,null,null,{"$f":"IF(I490= \"\",\"\",VLOOKUP(I490,会場マスタ!$A:$B,2,FALSE))","v":""}]
["",null,null,null,null,null,null,null,null,{"$f":"IF(I491= \"\",\"\",VLOOKUP(I491,会場マスタ!$A:$B,2,FALSE))","v":""}]
["",null,null,null,null,null,null,null,null,{"$f":"IF(I492= \"\",\"\",VLOOKUP(I492,会場マスタ!$A:$B,2,FALSE))","v":""}]
["",null,null,null,null,null,null,null,null,{"$f":"IF(I493= \"\",\"\",VLOOKUP(I493,会場マスタ!$A:$B,2,FALSE))","v":""}]
["",null,null,null,null,null,null,null,null,{"$f":"IF(I494= \"\",\"\",VLOOKUP(I494,会場マスタ!$A:$B,2,FALSE))","v":""}]
["",null,null,null,null,null,null,null,null,{"$f":"IF(I495= \"\",\"\",VLOOKUP(I495,会場マスタ!$A:$B,2,FALSE))","v":""}]
["",null,null,null,null,null,null,null,null,{"$f":"IF(I496= \"\",\"\",VLOOKUP(I496,会場マスタ!$A:$B,2,FALSE))","v":""}]
["",null,null,null,null,null,null,null,null,{"$f":"IF(I497= \"\",\"\",VLOOKUP(I497,会場マスタ!$A:$B,2,FALSE))","v":""}]
["",null,null,null,null,null,null,null,null,{"$f":"IF(I498= \"\",\"\",VLOOKUP(I498,会場マスタ!$A:$B,2,FALSE))","v":""}]
["",null,null,null,null,null,null,null,null,{"$f":"IF(I499= \"\",\"\",VLOOKUP(I499,会場マスタ!$A:$B,2,FALSE))","v":""}]
["",null,null,null,null,null,null,null,null,{"$f":"IF(I500= \"\",\"\",VLOOKUP(I500,会場マスタ!$A:$B,2,FALSE))","v":""}]
["",null,null,null,null,null,null,null,null,{"$f":"IF(I501= \"\",\"\",VLOOKUP(I501,会場マスタ!$A:$B,2,FALSE))","v":""}]
["",null,null,null,null,null,null,null,null,{"$f":"IF(I502= \"\",\"\",VLOOKUP(I502,会場マスタ!$A:$B,2,FALSE))","v":""}]
["",null,null,null,null,null,null,null,null,{"$f":"IF(I503= \"\",\"\",VLOOKUP(I503,会場マスタ!$A:$B,2,FALSE))","v":""}]
["",null,null,null,null,null,null,null,null,{"$f":"IF(I504= \"\",\"\",VLOOKUP(I504,会場マスタ!$A:$B,2,FALSE))","v":""}]
["",null,null,null,null,null,null,null,null,{"$f":"IF(I505= \"\",\"\",VLOOKUP(I505,会場マスタ!$A:$B,2,FALSE))","v":""}]
["",null,null,null,null,null,null,null,null,{"$f":"IF(I506= \"\",\"\",VLOOKUP(I506,会場マスタ!$A:$B,2,FALSE))","v":""}]
["",null,null,null,null,null,null,null,null,{"$f":"IF(I507= \"\",\"\",VLOOKUP(I507,会場マスタ!$A:$B,2,FALSE))","v":""}]
["",null,null,null,null,null,null,null,null,{"$f":"IF(I508= \"\",\"\",VLOOKUP(I508,会場マスタ!$A:$B,2,FALSE))","v":""}]
["",null,null,null,null,null,null,null,null,{"$f":"IF(I509= \"\",\"\",VLOOKUP(I509,会場マスタ!$A:$B,2,FALSE))","v":""}]
["",null,null,null,null,null,null,null,null,{"$f":"IF(I510= \"\",\"\",VLOOKUP(I510,会場マスタ!$A:$B,2,FALSE))","v":""}]
["",null,null,null,null,null,null,null,null,{"$f":"IF(I511= \"\",\"\",VLOOKUP(I511,会場マスタ!$A:$B,2,FALSE))","v":""}]
["",null,null,null,null,null,null,null,null,{"$f":"IF(I512= \"\",\"\",VLOOKUP(I512,会場マスタ!$A:$B,2,FALSE))","v":""}]
["",null,null,null,null,null,null,null,null,{"$f":"IF(I513= \"\",\"\",VLOOKUP(I513,会場マスタ!$A:$B,2,FALSE))","v":""}]
["",null,null,null,null,null,null,null,null,{"$f":"IF(I514= \"\",\"\",VLOOKUP(I514,会場マスタ!$A:$B,2,FALSE))","v":""}]
["",null,null,null,null,null,null,null,null,{"$f":"IF(I515= \"\",\"\",VLOOKUP(I515,会場マスタ!$A:$B,2,FALSE))","v":""}]
["",null,null,null,null,null,null,null,null,{"$f":"IF(I516= \"\",\"\",VLOOKUP(I516,会場マスタ!$A:$B,2,FALSE))","v":""}]
["",null,null,null,null,null,null,null,null,{"$f":"IF(I517= \"\",\"\",VLOOKUP(I517,会場マスタ!$A:$B,2,FALSE))","v":""}]
["",null,null,null,null,null,null,null,null,{"$f":"IF(I518= \"\",\"\",VLOOKUP(I518,会場マスタ!$A:$B,2,FALSE))","v":""}]
[{"$f":"IF(B519<>\"\",ROW(A519)-4,\"\")","v":""},null,null,null,null,null,null,null,null,{"$f":"IF(I519= \"\",\"\",VLOOKUP(I519,会場マスタ!$A:$B,2,FALSE))","v":""}]
["",null,null,null,null,null,null,null,null,{"$f":"IF(I520= \"\",\"\",VLOOKUP(I520,会場マスタ!$A:$B,2,FALSE))","v":""}]
["",null,null,null,null,null,null,null,null,{"$f":"IF(I521= \"\",\"\",VLOOKUP(I521,会場マスタ!$A:$B,2,FALSE))","v":""}]
["",null,null,null,null,null,null,null,null,{"$f":"IF(I522= \"\",\"\",VLOOKUP(I522,会場マスタ!$A:$B,2,FALSE))","v":""}]
["",null,null,null,null,null,null,null,null,{"$f":"IF(I523= \"\",\"\",VLOOKUP(I523,会場マスタ!$A:$B,2,FALSE))","v":""}]
["",null,null,null,null,null,null,null,null,{"$f":"IF(I524= \"\",\"\",VLOOKUP(I524,会場マスタ!$A:$B,2,FALSE))","v":""}]
["",null,null,null,null,null,null,null,null,{"$f":"IF(I525= \"\",\"\",VLOOKUP(I525,会場マスタ!$A:$B,2,FALSE))","v":""}]
["",null,null,null,null,null,null,null,null,{"$f":"IF(I526= \"\",\"\",VLOOKUP(I526,会場マスタ!$A:$B,2,FALSE))","v":""}]
["",null,null,null,null,null,null,null,null,{"$f":"IF(I527= \"\",\"\",VLOOKUP(I527,会場マスタ!$A:$B,2,FALSE))","v":""}]
["",null,null,null,null,null,null,null,null,{"$f":"IF(I528= \"\",\"\",VLOOKUP(I528,会場マスタ!$A:$B,2,FALSE))","v":""}]
["",null,null,null,null,null,null,null,null,{"$f":"IF(I529= \"\",\"\",VLOOKUP(I529,会場マスタ!$A:$B,2,FALSE))","v":""}]
["",null,null,null,null,null,null,null,null,{"$f":"IF(I530= \"\",\"\",VLOOKUP(I530,会場マスタ!$A:$B,2,FALSE))","v":""}]
["",null,null,null,null,null,null,null,null,{"$f":"IF(I531= \"\",\"\",VLOOKUP(I531,会場マスタ!$A:$B,2,FALSE))","v":""}]
["",null,null,null,null,null,null,null,null,{"$f":"IF(I532= \"\",\"\",VLOOKUP(I532,会場マスタ!$A:$B,2,FALSE))","v":""}]
["",null,null,null,null,null,null,null,null,{"$f":"IF(I533= \"\",\"\",VLOOKUP(I533,会場マスタ!$A:$B,2,FALSE))","v":""}]
["",null,null,null,null,null,null,null,null,{"$f":"IF(I534= \"\",\"\",VLOOKUP(I534,会場マスタ!$A:$B,2,FALSE))","v":""}]
["",null,null,null,null,null,null,null,null,{"$f":"IF(I535= \"\",\"\",VLOOKUP(I535,会場マスタ!$A:$B,2,FALSE))","v":""}]
["",null,null,null,null,null,null,null,null,{"$f":"IF(I536= \"\",\"\",VLOOKUP(I536,会場マスタ!$A:$B,2,FALSE))","v":""}]
["",null,null,null,null,null,null,null,null,{"$f":"IF(I537= \"\",\"\",VLOOKUP(I537,会場マスタ!$A:$B,2,FALSE))","v":""}]
["",null,null,null,null,null,null,null,null,{"$f":"IF(I538= \"\",\"\",VLOOKUP(I538,会場マスタ!$A:$B,2,FALSE))","v":""}]
["",null,null,null,null,null,null,null,null,{"$f":"IF(I539= \"\",\"\",VLOOKUP(I539,会場マスタ!$A:$B,2,FALSE))","v":""}]
["",null,null,null,null,null,null,null,null,{"$f":"IF(I540= \"\",\"\",VLOOKUP(I540,会場マスタ!$A:$B,2,FALSE))","v":""}]
["",null,null,null,null,null,null,null,null,{"$f":"IF(I541= \"\",\"\",VLOOKUP(I541,会場マスタ!$A:$B,2,FALSE))","v":""}]
["",null,null,null,null,null,null,null,null,{"$f":"IF(I542= \"\",\"\",VLOOKUP(I542,会場マスタ!$A:$B,2,FALSE))","v":""}]
["",null,null,null,null,null,null,null,null,{"$f":"IF(I543= \"\",\"\",VLOOKUP(I543,会場マスタ!$A:$B,2,FALSE))","v":""}]
["",null,null,null,null,null,null,null,null,{"$f":"IF(I544= \"\",\"\",VLOOKUP(I544,会場マスタ!$A:$B,2,FALSE))","v":""}]
["",null,null,null,null,null,null,null,null,{"$f":"IF(I545= \"\",\"\",VLOOKUP(I545,会場マスタ!$A:$B,2,FALSE))","v":""}]
["",null,null,null,null,null,null,null,null,{"$f":"IF(I546= \"\",\"\",VLOOKUP(I546,会場マスタ!$A:$B,2,FALSE))","v":""}]
["",null,null,null,null,null,null,null,null,{"$f":"IF(I547= \"\",\"\",VLOOKUP(I547,会場マスタ!$A:$B,2,FALSE))","v":""}]
["",null,null,null,null,null,null,null,null,{"$f":"IF(I548= \"\",\"\",VLOOKUP(I548,会場マスタ!$A:$B,2,FALSE))","v":""}]
["",null,null,null,null,null,null,null,null,{"$f":"IF(I549= \"\",\"\",VLOOKUP(I549,会場マスタ!$A:$B,2,FALSE))","v":""}]
["",null,null,null,null,null,null,null,null,{"$f":"IF(I550= \"\",\"\",VLOOKUP(I550,会場マスタ!$A:$B,2,FALSE))","v":""}]
["",null,null,null,null,null,null,null,null,{"$f":"IF(I551= \"\",\"\",VLOOKUP(I551,会場マスタ!$A:$B,2,FALSE))","v":""}]
["",null,null,null,null,null,null,null,null,{"$f":"IF(I552= \"\",\"\",VLOOKUP(I552,会場マスタ!$A:$B,2,FALSE))","v":""}]
["",null,null,null,null,null,null,null,null,{"$f":"IF(I553= \"\",\"\",VLOOKUP(I553,会場マスタ!$A:$B,2,FALSE))","v":""}]
["",null,null,null,null,null,null,null,null,{"$f":"IF(I554= \"\",\"\",VLOOKUP(I554,会場マスタ!$A:$B,2,FALSE))","v":""}]
["",null,null,null,null,null,null,null,null,{"$f":"IF(I555= \"\",\"\",VLOOKUP(I555,会場マスタ!$A:$B,2,FALSE))","v":""}]
["",null,null,null,null,null,null,null,null,{"$f":"IF(I556= \"\",\"\",VLOOKUP(I556,会場マスタ!$A:$B,2,FALSE))","v":""}]
["",null,null,null,null,null,null,null,null,{"$f":"IF(I557= \"\",\"\",VLOOKUP(I557,会場マスタ!$A:$B,2,FALSE))","v":""}]
["",null,null,null,null,null,null,null,null,{"$f":"IF(I558= \"\",\"\",VLOOKUP(I558,会場マスタ!$A:$B,2,FALSE))","v":""}]
["",null,null,null,null,null,null,null,null,{"$f":"IF(I559= \"\",\"\",VLOOKUP(I559,会場マスタ!$A:$B,2,FALSE))","v":""}]
["",null,null,null,null,null,null,null,null,{"$f":"IF(I560= \"\",\"\",VLOOKUP(I560,会場マスタ!$A:$B,2,FALSE))","v":""}]
["",null,null,null,null,null,null,null,null,{"$f":"IF(I561= \"\",\"\",VLOOKUP(I561,会場マスタ!$A:$B,2,FALSE))","v":""}]
["",null,null,null,null,null,null,null,null,{"$f":"IF(I562= \"\",\"\",VLOOKUP(I562,会場マスタ!$A:$B,2,FALSE))","v":""}]
["",null,null,null,null,null,null,null,null,{"$f":"IF(I563= \"\",\"\",VLOOKUP(I563,会場マスタ!$A:$B,2,FALSE))","v":""}]
["",null,null,null,null,null,null,null,null,{"$f":"IF(I564= \"\",\"\",VLOOKUP(I564,会場マスタ!$A:$B,2,FALSE))","v":""}]
["",null,null,null,null,null,null,null,null,{"$f":"IF(I565= \"\",\"\",VLOOKUP(I565,会場マスタ!$A:$B,2,FALSE))","v":""}]
["",null,null,null,null,null,null,null,null,{"$f":"IF(I566= \"\",\"\",VLOOKUP(I566,会場マスタ!$A:$B,2,FALSE))","v":""}]
["",null,null,null,null,null,null,null,null,{"$f":"IF(I567= \"\",\"\",VLOOKUP(I567,会場マスタ!$A:$B,2,FALSE))","v":""}]
["",null,null,null,null,null,null,null,null,{"$f":"IF(I568= \"\",\"\",VLOOKUP(I568,会場マスタ!$A:$B,2,FALSE))","v":""}]
["",null,null,null,null,null,null,null,null,{"$f":"IF(I569= \"\",\"\",VLOOKUP(I569,会場マスタ!$A:$B,2,FALSE))","v":""}]
["",null,null,null,null,null,null,null,null,{"$f":"IF(I570= \"\",\"\",VLOOKUP(I570,会場マスタ!$A:$B,2,FALSE))","v":""}]
["",null,null,null,null,null,null,null,null,{"$f":"IF(I571= \"\",\"\",VLOOKUP(I571,会場マスタ!$A:$B,2,FALSE))","v":""}]
["",null,null,null,null,null,null,null,null,{"$f":"IF(I572= \"\",\"\",VLOOKUP(I572,会場マスタ!$A:$B,2,FALSE))","v":""}]
["",null,null,null,null,null,null,null,null,{"$f":"IF(I573= \"\",\"\",VLOOKUP(I573,会場マスタ!$A:$B,2,FALSE))","v":""}]
["",null,null,null,null,null,null,null,null,{"$f":"IF(I574= \"\",\"\",VLOOKUP(I574,会場マスタ!$A:$B,2,FALSE))","v":""}]
["",null,null,null,null,null,null,null,null,{"$f":"IF(I575= \"\",\"\",VLOOKUP(I575,会場マスタ!$A:$B,2,FALSE))","v":""}]
["",null,null,null,null,null,null,null,null,{"$f":"IF(I576= \"\",\"\",VLOOKUP(I576,会場マスタ!$A:$B,2,FALSE))","v":""}]
["",null,null,null,null,null,null,null,null,{"$f":"IF(I577= \"\",\"\",VLOOKUP(I577,会場マスタ!$A:$B,2,FALSE))","v":""}]
["",null,null,null,null,null,null,null,null,{"$f":"IF(I578= \"\",\"\",VLOOKUP(I578,会場マスタ!$A:$B,2,FALSE))","v":""}]
["",null,null,null,null,null,null,null,null,{"$f":"IF(I579= \"\",\"\",VLOOKUP(I579,会場マスタ!$A:$B,2,FALSE))","v":""}]
["",null,null,null,null,null,null,null,null,{"$f":"IF(I580= \"\",\"\",VLOOKUP(I580,会場マスタ!$A:$B,2,FALSE))","v":""}]
["",null,null,null,null,null,null,null,null,{"$f":"IF(I581= \"\",\"\",VLOOKUP(I581,会場マスタ!$A:$B,2,FALSE))","v":""}]
["",null,null,null,null,null,null,null,null,{"$f":"IF(I582= \"\",\"\",VLOOKUP(I582,会場マスタ!$A:$B,2,FALSE))","v":""}]
[{"$f":"IF(B583<>\"\",ROW(A583)-4,\"\")","v":""},null,null,null,null,null,null,null,null,{"$f":"IF(I583= \"\",\"\",VLOOKUP(I583,会場マスタ!$A:$B,2,FALSE))","v":""}]
["",null,null,null,null,null,null,null,null,{"$f":"IF(I584= \"\",\"\",VLOOKUP(I584,会場マスタ!$A:$B,2,FALSE))","v":""}]
["",null,null,null,null,null,null,null,null,{"$f":"IF(I585= \"\",\"\",VLOOKUP(I585,会場マスタ!$A:$B,2,FALSE))","v":""}]
["",null,null,null,null,null,null,null,null,{"$f":"IF(I586= \"\",\"\",VLOOKUP(I586,会場マスタ!$A:$B,2,FALSE))","v":""}]
["",null,null,null,null,null,null,null,null,{"$f":"IF(I587= \"\",\"\",VLOOKUP(I587,会場マスタ!$A:$B,2,FALSE))","v":""}]
["",null,null,null,null,null,null,null,null,{"$f":"IF(I588= \"\",\"\",VLOOKUP(I588,会場マスタ!$A:$B,2,FALSE))","v":""}]
["",null,null,null,null,null,null,null,null,{"$f":"IF(I589= \"\",\"\",VLOOKUP(I589,会場マスタ!$A:$B,2,FALSE))","v":""}]
["",null,null,null,null,null,null,null,null,{"$f":"IF(I590= \"\",\"\",VLOOKUP(I590,会場マスタ!$A:$B,2,FALSE))","v":""}]
["",null,null,null,null,null,null,null,null,{"$f":"IF(I591= \"\",\"\",VLOOKUP(I591,会場マスタ!$A:$B,2,FALSE))","v":""}]
["",null,null,null,null,null,null,null,null,{"$f":"IF(I592= \"\",\"\",VLOOKUP(I592,会場マスタ!$A:$B,2,FALSE))","v":""}]
["",null,null,null,null,null,null,null,null,{"$f":"IF(I593= \"\",\"\",VLOOKUP(I593,会場マスタ!$A:$B,2,FALSE))","v":""}]
["",null,null,null,null,null,null,null,null,{"$f":"IF(I594= \"\",\"\",VLOOKUP(I594,会場マスタ!$A:$B,2,FALSE))","v":""}]
["",null,null,null,null,null,null,null,null,{"$f":"IF(I595= \"\",\"\",VLOOKUP(I595,会場マスタ!$A:$B,2,FALSE))","v":""}]
["",null,null,null,null,null,null,null,null,{"$f":"IF(I596= \"\",\"\",VLOOKUP(I596,会場マスタ!$A:$B,2,FALSE))","v":""}]
["",null,null,null,null,null,null,null,null,{"$f":"IF(I597= \"\",\"\",VLOOKUP(I597,会場マスタ!$A:$B,2,FALSE))","v":""}]
["",null,null,null,null,null,null,null,null,{"$f":"IF(I598= \"\",\"\",VLOOKUP(I598,会場マスタ!$A:$B,2,FALSE))","v":""}]
["",null,null,null,null,null,null,null,null,{"$f":"IF(I599= \"\",\"\",VLOOKUP(I599,会場マスタ!$A:$B,2,FALSE))","v":""}]
["",null,null,null,null,null,null,null,null,{"$f":"IF(I600= \"\",\"\",VLOOKUP(I600,会場マスタ!$A:$B,2,FALSE))","v":""}]
["",null,null,null,null,null,null,null,null,{"$f":"IF(I601= \"\",\"\",VLOOKUP(I601,会場マスタ!$A:$B,2,FALSE))","v":""}]
["",null,null,null,null,null,null,null,null,{"$f":"IF(I602= \"\",\"\",VLOOKUP(I602,会場マスタ!$A:$B,2,FALSE))","v":""}]
["",null,null,null,null,null,null,null,null,{"$f":"IF(I603= \"\",\"\",VLOOKUP(I603,会場マスタ!$A:$B,2,FALSE))","v":""}]
["",null,null,null,null,null,null,null,null,{"$f":"IF(I604= \"\",\"\",VLOOKUP(I604,会場マスタ!$A:$B,2,FALSE))","v":""}]
["",null,null,null,null,null,null,null,null,{"$f":"IF(I605= \"\",\"\",VLOOKUP(I605,会場マスタ!$A:$B,2,FALSE))","v":""}]
["",null,null,null,null,null,null,null,null,{"$f":"IF(I606= \"\",\"\",VLOOKUP(I606,会場マスタ!$A:$B,2,FALSE))","v":""}]
["",null,null,null,null,null,null,null,null,{"$f":"IF(I607= \"\",\"\",VLOOKUP(I607,会場マスタ!$A:$B,2,FALSE))","v":""}]
["",null,null,null,null,null,null,null,null,{"$f":"IF(I608= \"\",\"\",VLOOKUP(I608,会場マスタ!$A:$B,2,FALSE))","v":""}]
["",null,null,null,null,null,null,null,null,{"$f":"IF(I609= \"\",\"\",VLOOKUP(I609,会場マスタ!$A:$B,2,FALSE))","v":""}]
["",null,null,null,null,null,null,null,null,{"$f":"IF(I610= \"\",\"\",VLOOKUP(I610,会場マスタ!$A:$B,2,FALSE))","v":""}]
["",null,null,null,null,null,null,null,null,{"$f":"IF(I611= \"\",\"\",VLOOKUP(I611,会場マスタ!$A:$B,2,FALSE))","v":""}]
["",null,null,null,null,null,null,null,null,{"$f":"IF(I612= \"\",\"\",VLOOKUP(I612,会場マスタ!$A:$B,2,FALSE))","v":""}]
["",null,null,null,null,null,null,null,null,{"$f":"IF(I613= \"\",\"\",VLOOKUP(I613,会場マスタ!$A:$B,2,FALSE))","v":""}]
["",null,null,null,null,null,null,null,null,{"$f":"IF(I614= \"\",\"\",VLOOKUP(I614,会場マスタ!$A:$B,2,FALSE))","v":""}]
["",null,null,null,null,null,null,null,null,{"$f":"IF(I615= \"\",\"\",VLOOKUP(I615,会場マスタ!$A:$B,2,FALSE))","v":""}]
["",null,null,null,null,null,null,null,null,{"$f":"IF(I616= \"\",\"\",VLOOKUP(I616,会場マスタ!$A:$B,2,FALSE))","v":""}]
["",null,null,null,null,null,null,null,null,{"$f":"IF(I617= \"\",\"\",VLOOKUP(I617,会場マスタ!$A:$B,2,FALSE))","v":""}]
["",null,null,null,null,null,null,null,null,{"$f":"IF(I618= \"\",\"\",VLOOKUP(I618,会場マスタ!$A:$B,2,FALSE))","v":""}]
["",null,null,null,null,null,null,null,null,{"$f":"IF(I619= \"\",\"\",VLOOKUP(I619,会場マスタ!$A:$B,2,FALSE))","v":""}]
["",null,null,null,null,null,null,null,null,{"$f":"IF(I620= \"\",\"\",VLOOKUP(I620,会場マスタ!$A:$B,2,FALSE))","v":""}]
["",null,null,null,null,null,null,null,null,{"$f":"IF(I621= \"\",\"\",VLOOKUP(I621,会場マスタ!$A:$B,2,FALSE))","v":""}]
["",null,null,null,null,null,null,null,null,{"$f":"IF(I622= \"\",\"\",VLOOKUP(I622,会場マスタ!$A:$B,2,FALSE))","v":""}]
["",null,null,null,null,null,null,null,null,{"$f":"IF(I623= \"\",\"\",VLOOKUP(I623,会場マスタ!$A:$B,2,FALSE))","v":""}]
["",null,null,null,null,null,null,null,null,{"$f":"IF(I624= \"\",\"\",VLOOKUP(I624,会場マスタ!$A:$B,2,FALSE))","v":""}]
["",null,null,null,null,null,null,null,null,{"$f":"IF(I625= \"\",\"\",VLOOKUP(I625,会場マスタ!$A:$B,2,FALSE))","v":""}]
["",null,null,null,null,null,null,null,null,{"$f":"IF(I626= \"\",\"\",VLOOKUP(I626,会場マスタ!$A:$B,2,FALSE))","v":""}]
["",null,null,null,null,null,null,null,null,{"$f":"IF(I627= \"\",\"\",VLOOKUP(I627,会場マスタ!$A:$B,2,FALSE))","v":""}]
["",null,null,null,null,null,null,null,null,{"$f":"IF(I628= \"\",\"\",VLOOKUP(I628,会場マスタ!$A:$B,2,FALSE))","v":""}]
["",null,null,null,null,null,null,null,null,{"$f":"IF(I629= \"\",\"\",VLOOKUP(I629,会場マスタ!$A:$B,2,FALSE))","v":""}]
["",null,null,null,null,null,null,null,null,{"$f":"IF(I630= \"\",\"\",VLOOKUP(I630,会場マスタ!$A:$B,2,FALSE))","v":""}]
["",null,null,null,null,null,null,null,null,{"$f":"IF(I631= \"\",\"\",VLOOKUP(I631,会場マスタ!$A:$B,2,FALSE))","v":""}]
["",null,null,null,null,null,null,null,null,{"$f":"IF(I632= \"\",\"\",VLOOKUP(I632,会場マスタ!$A:$B,2,FALSE))","v":""}]
["",null,null,null,null,null,null,null,null,{"$f":"IF(I633= \"\",\"\",VLOOKUP(I633,会場マスタ!$A:$B,2,FALSE))","v":""}]
["",null,null,null,null,null,null,null,null,{"$f":"IF(I634= \"\",\"\",VLOOKUP(I634,会場マスタ!$A:$B,2,FALSE))","v":""}]
["",null,null,null,null,null,null,null,null,{"$f":"IF(I635= \"\",\"\",VLOOKUP(I635,会場マスタ!$A:$B,2,FALSE))","v":""}]
["",null,null,null,null,null,null,null,null,{"$f":"IF(I636= \"\",\"\",VLOOKUP(I636,会場マスタ!$A:$B,2,FALSE))","v":""}]
["",null,null,null,null,null,null,null,null,{"$f":"IF(I637= \"\",\"\",VLOOKUP(I637,会場マスタ!$A:$B,2,FALSE))","v":""}]
["",null,null,null,null,null,null,null,null,{"$f":"IF(I638= \"\",\"\",VLOOKUP(I638,会場マスタ!$A:$B,2,FALSE))","v":""}]
["",null,null,null,null,null,null,null,null,{"$f":"IF(I639= \"\",\"\",VLOOKUP(I639,会場マスタ!$A:$B,2,FALSE))","v":""}]
["",null,null,null,null,null,null,null,null,{"$f":"IF(I640= \"\",\"\",VLOOKUP(I640,会場マスタ!$A:$B,2,FALSE))","v":""}]
["",null,null,null,null,null,null,null,null,{"$f":"IF(I641= \"\",\"\",VLOOKUP(I641,会場マスタ!$A:$B,2,FALSE))","v":""}]
["",null,null,null,null,null,null,null,null,{"$f":"IF(I642= \"\",\"\",VLOOKUP(I642,会場マスタ!$A:$B,2,FALSE))","v":""}]
["",null,null,null,null,null,null,null,null,{"$f":"IF(I643= \"\",\"\",VLOOKUP(I643,会場マスタ!$A:$B,2,FALSE))","v":""}]
["",null,null,null,null,null,null,null,null,{"$f":"IF(I644= \"\",\"\",VLOOKUP(I644,会場マスタ!$A:$B,2,FALSE))","v":""}]
["",null,null,null,null,null,null,null,null,{"$f":"IF(I645= \"\",\"\",VLOOKUP(I645,会場マスタ!$A:$B,2,FALSE))","v":""}]
["",null,null,null,null,null,null,null,null,{"$f":"IF(I646= \"\",\"\",VLOOKUP(I646,会場マスタ!$A:$B,2,FALSE))","v":""}]
[{"$f":"IF(B647<>\"\",ROW(A647)-4,\"\")","v":""},null,null,null,null,null,null,null,null,{"$f":"IF(I647= \"\",\"\",VLOOKUP(I647,会場マスタ!$A:$B,2,FALSE))","v":""}]
["",null,null,null,null,null,null,null,null,{"$f":"IF(I648= \"\",\"\",VLOOKUP(I648,会場マスタ!$A:$B,2,FALSE))","v":""}]
["",null,null,null,null,null,null,null,null,{"$f":"IF(I649= \"\",\"\",VLOOKUP(I649,会場マスタ!$A:$B,2,FALSE))","v":""}]
["",null,null,null,null,null,null,null,null,{"$f":"IF(I650= \"\",\"\",VLOOKUP(I650,会場マスタ!$A:$B,2,FALSE))","v":""}]
["",null,null,null,null,null,null,null,null,{"$f":"IF(I651= \"\",\"\",VLOOKUP(I651,会場マスタ!$A:$B,2,FALSE))","v":""}]
["",null,null,null,null,null,null,null,null,{"$f":"IF(I652= \"\",\"\",VLOOKUP(I652,会場マスタ!$A:$B,2,FALSE))","v":""}]
["",null,null,null,null,null,null,null,null,{"$f":"IF(I653= \"\",\"\",VLOOKUP(I653,会場マスタ!$A:$B,2,FALSE))","v":""}]
["",null,null,null,null,null,null,null,null,{"$f":"IF(I654= \"\",\"\",VLOOKUP(I654,会場マスタ!$A:$B,2,FALSE))","v":""}]
["",null,null,null,null,null,null,null,null,{"$f":"IF(I655= \"\",\"\",VLOOKUP(I655,会場マスタ!$A:$B,2,FALSE))","v":""}]
["",null,null,null,null,null,null,null,null,{"$f":"IF(I656= \"\",\"\",VLOOKUP(I656,会場マスタ!$A:$B,2,FALSE))","v":""}]
["",null,null,null,null,null,null,null,null,{"$f":"IF(I657= \"\",\"\",VLOOKUP(I657,会場マスタ!$A:$B,2,FALSE))","v":""}]
["",null,null,null,null,null,null,null,null,{"$f":"IF(I658= \"\",\"\",VLOOKUP(I658,会場マスタ!$A:$B,2,FALSE))","v":""}]
["",null,null,null,null,null,null,null,null,{"$f":"IF(I659= \"\",\"\",VLOOKUP(I659,会場マスタ!$A:$B,2,FALSE))","v":""}]
["",null,null,null,null,null,null,null,null,{"$f":"IF(I660= \"\",\"\",VLOOKUP(I660,会場マスタ!$A:$B,2,FALSE))","v":""}]
["",null,null,null,null,null,null,null,null,{"$f":"IF(I661= \"\",\"\",VLOOKUP(I661,会場マスタ!$A:$B,2,FALSE))","v":""}]
["",null,null,null,null,null,null,null,null,{"$f":"IF(I662= \"\",\"\",VLOOKUP(I662,会場マスタ!$A:$B,2,FALSE))","v":""}]
["",null,null,null,null,null,null,null,null,{"$f":"IF(I663= \"\",\"\",VLOOKUP(I663,会場マスタ!$A:$B,2,FALSE))","v":""}]
["",null,null,null,null,null,null,null,null,{"$f":"IF(I664= \"\",\"\",VLOOKUP(I664,会場マスタ!$A:$B,2,FALSE))","v":""}]
["",null,null,null,null,null,null,null,null,{"$f":"IF(I665= \"\",\"\",VLOOKUP(I665,会場マスタ!$A:$B,2,FALSE))","v":""}]
["",null,null,null,null,null,null,null,null,{"$f":"IF(I666= \"\",\"\",VLOOKUP(I666,会場マスタ!$A:$B,2,FALSE))","v":""}]
["",null,null,null,null,null,null,null,null,{"$f":"IF(I667= \"\",\"\",VLOOKUP(I667,会場マスタ!$A:$B,2,FALSE))","v":""}]
["",null,null,null,null,null,null,null,null,{"$f":"IF(I668= \"\",\"\",VLOOKUP(I668,会場マスタ!$A:$B,2,FALSE))","v":""}]
["",null,null,null,null,null,null,null,null,{"$f":"IF(I669= \"\",\"\",VLOOKUP(I669,会場マスタ!$A:$B,2,FALSE))","v":""}]
["",null,null,null,null,null,null,null,null,{"$f":"IF(I670= \"\",\"\",VLOOKUP(I670,会場マスタ!$A:$B,2,FALSE))","v":""}]
["",null,null,null,null,null,null,null,null,{"$f":"IF(I671= \"\",\"\",VLOOKUP(I671,会場マスタ!$A:$B,2,FALSE))","v":""}]
["",null,null,null,null,null,null,null,null,{"$f":"IF(I672= \"\",\"\",VLOOKUP(I672,会場マスタ!$A:$B,2,FALSE))","v":""}]
["",null,null,null,null,null,null,null,null,{"$f":"IF(I673= \"\",\"\",VLOOKUP(I673,会場マスタ!$A:$B,2,FALSE))","v":""}]
["",null,null,null,null,null,null,null,null,{"$f":"IF(I674= \"\",\"\",VLOOKUP(I674,会場マスタ!$A:$B,2,FALSE))","v":""}]
["",null,null,null,null,null,null,null,null,{"$f":"IF(I675= \"\",\"\",VLOOKUP(I675,会場マスタ!$A:$B,2,FALSE))","v":""}]
["",null,null,null,null,null,null,null,null,{"$f":"IF(I676= \"\",\"\",VLOOKUP(I676,会場マスタ!$A:$B,2,FALSE))","v":""}]
["",null,null,null,null,null,null,null,null,{"$f":"IF(I677= \"\",\"\",VLOOKUP(I677,会場マスタ!$A:$B,2,FALSE))","v":""}]
["",null,null,null,null,null,null,null,null,{"$f":"IF(I678= \"\",\"\",VLOOKUP(I678,会場マスタ!$A:$B,2,FALSE))","v":""}]
["",null,null,null,null,null,null,null,null,{"$f":"IF(I679= \"\",\"\",VLOOKUP(I679,会場マスタ!$A:$B,2,FALSE))","v":""}]
["",null,null,null,null,null,null,null,null,{"$f":"IF(I680= \"\",\"\",VLOOKUP(I680,会場マスタ!$A:$B,2,FALSE))","v":""}]
["",null,null,null,null,null,null,null,null,{"$f":"IF(I681= \"\",\"\",VLOOKUP(I681,会場マスタ!$A:$B,2,FALSE))","v":""}]
["",null,null,null,null,null,null,null,null,{"$f":"IF(I682= \"\",\"\",VLOOKUP(I682,会場マスタ!$A:$B,2,FALSE))","v":""}]
["",null,null,null,null,null,null,null,null,{"$f":"IF(I683= \"\",\"\",VLOOKUP(I683,会場マスタ!$A:$B,2,FALSE))","v":""}]
["",null,null,null,null,null,null,null,null,{"$f":"IF(I684= \"\",\"\",VLOOKUP(I684,会場マスタ!$A:$B,2,FALSE))","v":""}]
["",null,null,null,null,null,null,null,null,{"$f":"IF(I685= \"\",\"\",VLOOKUP(I685,会場マスタ!$A:$B,2,FALSE))","v":""}]
["",null,null,null,null,null,null,null,null,{"$f":"IF(I686= \"\",\"\",VLOOKUP(I686,会場マスタ!$A:$B,2,FALSE))","v":""}]
["",null,null,null,null,null,null,null,null,{"$f":"IF(I687= \"\",\"\",VLOOKUP(I687,会場マスタ!$A:$B,2,FALSE))","v":""}]
["",null,null,null,null,null,null,null,null,{"$f":"IF(I688= \"\",\"\",VLOOKUP(I688,会場マスタ!$A:$B,2,FALSE))","v":""}]
["",null,null,null,null,null,null,null,null,{"$f":"IF(I689= \"\",\"\",VLOOKUP(I689,会場マスタ!$A:$B,2,FALSE))","v":""}]
["",null,null,null,null,null,null,null,null,{"$f":"IF(I690= \"\",\"\",VLOOKUP(I690,会場マスタ!$A:$B,2,FALSE))","v":""}]
["",null,null,null,null,null,null,null,null,{"$f":"IF(I691= \"\",\"\",VLOOKUP(I691,会場マスタ!$A:$B,2,FALSE))","v":""}]
["",null,null,null,null,null,null,null,null,{"$f":"IF(I692= \"\",\"\",VLOOKUP(I692,会場マスタ!$A:$B,2,FALSE))","v":""}]
["",null,null,null,null,null,null,null,null,{"$f":"IF(I693= \"\",\"\",VLOOKUP(I693,会場マスタ!$A:$B,2,FALSE))","v":""}]
["",null,null,null,null,null,null,null,null,{"$f":"IF(I694= \"\",\"\",VLOOKUP(I694,会場マスタ!$A:$B,2,FALSE))","v":""}]
["",null,null,null,null,null,null,null,null,{"$f":"IF(I695= \"\",\"\",VLOOKUP(I695,会場マスタ!$A:$B,2,FALSE))","v":""}]
["",null,null,null,null,null,null,null,null,{"$f":"IF(I696= \"\",\"\",VLOOKUP(I696,会場マスタ!$A:$B,2,FALSE))","v":""}]
["",null,null,null,null,null,null,null,null,{"$f":"IF(I697= \"\",\"\",VLOOKUP(I697,会場マスタ!$A:$B,2,FALSE))","v":""}]
["",null,null,null,null,null,null,null,null,{"$f":"IF(I698= \"\",\"\",VLOOKUP(I698,会場マスタ!$A:$B,2,FALSE))","v":""}]
["",null,null,null,null,null,null,null,null,{"$f":"IF(I699= \"\",\"\",VLOOKUP(I699,会場マスタ!$A:$B,2,FALSE))","v":""}]
["",null,null,null,null,null,null,null,null,{"$f":"IF(I700= \"\",\"\",VLOOKUP(I700,会場マスタ!$A:$B,2,FALSE))","v":""}]
["",null,null,null,null,null,null,null,null,{"$f":"IF(I701= \"\",\"\",VLOOKUP(I701,会場マスタ!$A:$B,2,FALSE))","v":""}]
["",null,null,null,null,null,null,null,null,{"$f":"IF(I702= \"\",\"\",VLOOKUP(I702,会場マスタ!$A:$B,2,FALSE))","v":""}]
["",null,null,null,null,null,null,null,null,{"$f":"IF(I703= \"\",\"\",VLOOKUP(I703,会場マスタ!$A:$B,2,FALSE))","v":""}]
["",null,null,null,null,null,null,null,null,{"$f":"IF(I704= \"\",\"\",VLOOKUP(I704,会場マスタ!$A:$B,2,FALSE))","v":""}]
["",null,null,null,null,null,null,null,null,{"$f":"IF(I705= \"\",\"\",VLOOKUP(I705,会場マスタ!$A:$B,2,FALSE))","v":""}]
["",null,null,null,null,null,null,null,null,{"$f":"IF(I706= \"\",\"\",VLOOKUP(I706,会場マスタ!$A:$B,2,FALSE))","v":""}]
["",null,null,null,null,null,null,null,null,{"$f":"IF(I707= \"\",\"\",VLOOKUP(I707,会場マスタ!$A:$B,2,FALSE))","v":""}]
["",null,null,null,null,null,null,null,null,{"$f":"IF(I708= \"\",\"\",VLOOKUP(I708,会場マスタ!$A:$B,2,FALSE))","v":""}]
["",null,null,null,null,null,null,null,null,{"$f":"IF(I709= \"\",\"\",VLOOKUP(I709,会場マスタ!$A:$B,2,FALSE))","v":""}]
["",null,null,null,null,null,null,null,null,{"$f":"IF(I710= \"\",\"\",VLOOKUP(I710,会場マスタ!$A:$B,2,FALSE))","v":""}]
[{"$f":"IF(B711<>\"\",ROW(A711)-4,\"\")","v":""},null,null,null,null,null,null,null,null,{"$f":"IF(I711= \"\",\"\",VLOOKUP(I711,会場マスタ!$A:$B,2,FALSE))","v":""}]
["",null,null,null,null,null,null,null,null,{"$f":"IF(I712= \"\",\"\",VLOOKUP(I712,会場マスタ!$A:$B,2,FALSE))","v":""}]
["",null,null,null,null,null,null,null,null,{"$f":"IF(I713= \"\",\"\",VLOOKUP(I713,会場マスタ!$A:$B,2,FALSE))","v":""}]
["",null,null,null,null,null,null,null,null,{"$f":"IF(I714= \"\",\"\",VLOOKUP(I714,会場マスタ!$A:$B,2,FALSE))","v":""}]
["",null,null,null,null,null,null,null,null,{"$f":"IF(I715= \"\",\"\",VLOOKUP(I715,会場マスタ!$A:$B,2,FALSE))","v":""}]
["",null,null,null,null,null,null,null,null,{"$f":"IF(I716= \"\",\"\",VLOOKUP(I716,会場マスタ!$A:$B,2,FALSE))","v":""}]
["",null,null,null,null,null,null,null,null,{"$f":"IF(I717= \"\",\"\",VLOOKUP(I717,会場マスタ!$A:$B,2,FALSE))","v":""}]
["",null,null,null,null,null,null,null,null,{"$f":"IF(I718= \"\",\"\",VLOOKUP(I718,会場マスタ!$A:$B,2,FALSE))","v":""}]
["",null,null,null,null,null,null,null,null,{"$f":"IF(I719= \"\",\"\",VLOOKUP(I719,会場マスタ!$A:$B,2,FALSE))","v":""}]
["",null,null,null,null,null,null,null,null,{"$f":"IF(I720= \"\",\"\",VLOOKUP(I720,会場マスタ!$A:$B,2,FALSE))","v":""}]
["",null,null,null,null,null,null,null,null,{"$f":"IF(I721= \"\",\"\",VLOOKUP(I721,会場マスタ!$A:$B,2,FALSE))","v":""}]
["",null,null,null,null,null,null,null,null,{"$f":"IF(I722= \"\",\"\",VLOOKUP(I722,会場マスタ!$A:$B,2,FALSE))","v":""}]
["",null,null,null,null,null,null,null,null,{"$f":"IF(I723= \"\",\"\",VLOOKUP(I723,会場マスタ!$A:$B,2,FALSE))","v":""}]
["",null,null,null,null,null,null,null,null,{"$f":"IF(I724= \"\",\"\",VLOOKUP(I724,会場マスタ!$A:$B,2,FALSE))","v":""}]
["",null,null,null,null,null,null,null,null,{"$f":"IF(I725= \"\",\"\",VLOOKUP(I725,会場マスタ!$A:$B,2,FALSE))","v":""}]
["",null,null,null,null,null,null,null,null,{"$f":"IF(I726= \"\",\"\",VLOOKUP(I726,会場マスタ!$A:$B,2,FALSE))","v":""}]
["",null,null,null,null,null,null,null,null,{"$f":"IF(I727= \"\",\"\",VLOOKUP(I727,会場マスタ!$A:$B,2,FALSE))","v":""}]
["",null,null,null,null,null,null,null,null,{"$f":"IF(I728= \"\",\"\",VLOOKUP(I728,会場マスタ!$A:$B,2,FALSE))","v":""}]
["",null,null,null,null,null,null,null,null,{"$f":"IF(I729= \"\",\"\",VLOOKUP(I729,会場マスタ!$A:$B,2,FALSE))","v":""}]
["",null,null,null,null,null,null,null,null,{"$f":"IF(I730= \"\",\"\",VLOOKUP(I730,会場マスタ!$A:$B,2,FALSE))","v":""}]
["",null,null,null,null,null,null,null,null,{"$f":"IF(I731= \"\",\"\",VLOOKUP(I731,会場マスタ!$A:$B,2,FALSE))","v":""}]
["",null,null,null,null,null,null,null,null,{"$f":"IF(I732= \"\",\"\",VLOOKUP(I732,会場マスタ!$A:$B,2,FALSE))","v":""}]
["",null,null,null,null,null,null,null,null,{"$f":"IF(I733= \"\",\"\",VLOOKUP(I733,会場マスタ!$A:$B,2,FALSE))","v":""}]
["",null,null,null,null,null,null,null,null,{"$f":"IF(I734= \"\",\"\",VLOOKUP(I734,会場マスタ!$A:$B,2,FALSE))","v":""}]
["",null,null,null,null,null,null,null,null,{"$f":"IF(I735= \"\",\"\",VLOOKUP(I735,会場マスタ!$A:$B,2,FALSE))","v":""}]
["",null,null,null,null,null,null,null,null,{"$f":"IF(I736= \"\",\"\",VLOOKUP(I736,会場マスタ!$A:$B,2,FALSE))","v":""}]
["",null,null,null,null,null,null,null,null,{"$f":"IF(I737= \"\",\"\",VLOOKUP(I737,会場マスタ!$A:$B,2,FALSE))","v":""}]
["",null,null,null,null,null,null,null,null,{"$f":"IF(I738= \"\",\"\",VLOOKUP(I738,会場マスタ!$A:$B,2,FALSE))","v":""}]
["",null,null,null,null,null,null,null,null,{"$f":"IF(I739= \"\",\"\",VLOOKUP(I739,会場マスタ!$A:$B,2,FALSE))","v":""}]
["",null,null,null,null,null,null,null,null,{"$f":"IF(I740= \"\",\"\",VLOOKUP(I740,会場マスタ!$A:$B,2,FALSE))","v":""}]
["",null,null,null,null,null,null,null,null,{"$f":"IF(I741= \"\",\"\",VLOOKUP(I741,会場マスタ!$A:$B,2,FALSE))","v":""}]
["",null,null,null,null,null,null,null,null,{"$f":"IF(I742= \"\",\"\",VLOOKUP(I742,会場マスタ!$A:$B,2,FALSE))","v":""}]
["",null,null,null,null,null,null,null,null,{"$f":"IF(I743= \"\",\"\",VLOOKUP(I743,会場マスタ!$A:$B,2,FALSE))","v":""}]
["",null,null,null,null,null,null,null,null,{"$f":"IF(I744= \"\",\"\",VLOOKUP(I744,会場マスタ!$A:$B,2,FALSE))","v":""}]
["",null,null,null,null,null,null,null,null,{"$f":"IF(I745= \"\",\"\",VLOOKUP(I745,会場マスタ!$A:$B,2,FALSE))","v":""}]
["",null,null,null,null,null,null,null,null,{"$f":"IF(I746= \"\",\"\",VLOOKUP(I746,会場マスタ!$A:$B,2,FALSE))","v":""}]
["",null,null,null,null,null,null,null,null,{"$f":"IF(I747= \"\",\"\",VLOOKUP(I747,会場マスタ!$A:$B,2,FALSE))","v":""}]
["",null,null,null,null,null,null,null,null,{"$f":"IF(I748= \"\",\"\",VLOOKUP(I748,会場マスタ!$A:$B,2,FALSE))","v":""}]
["",null,null,null,null,null,null,null,null,{"$f":"IF(I749= \"\",\"\",VLOOKUP(I749,会場マスタ!$A:$B,2,FALSE))","v":""}]
["",null,null,null,null,null,null,null,null,{"$f":"IF(I750= \"\",\"\",VLOOKUP(I750,会場マスタ!$A:$B,2,FALSE))","v":""}]
["",null,null,null,null,null,null,null,null,{"$f":"IF(I751= \"\",\"\",VLOOKUP(I751,会場マスタ!$A:$B,2,FALSE))","v":""}]
["",null,null,null,null,null,null,null,null,{"$f":"IF(I752= \"\",\"\",VLOOKUP(I752,会場マスタ!$A:$B,2,FALSE))","v":""}]
["",null,null,null,null,null,null,null,null,{"$f":"IF(I753= \"\",\"\",VLOOKUP(I753,会場マスタ!$A:$B,2,FALSE))","v":""}]
["",null,null,null,null,null,null,null,null,{"$f":"IF(I754= \"\",\"\",VLOOKUP(I754,会場マスタ!$A:$B,2,FALSE))","v":""}]
["",null,null,null,null,null,null,null,null,{"$f":"IF(I755= \"\",\"\",VLOOKUP(I755,会場マスタ!$A:$B,2,FALSE))","v":""}]
["",null,null,null,null,null,null,null,null,{"$f":"IF(I756= \"\",\"\",VLOOKUP(I756,会場マスタ!$A:$B,2,FALSE))","v":""}]
["",null,null,null,null,null,null,null,null,{"$f":"IF(I757= \"\",\"\",VLOOKUP(I757,会場マスタ!$A:$B,2,FALSE))","v":""}]
["",null,null,null,null,null,null,null,null,{"$f":"IF(I758= \"\",\"\",VLOOKUP(I758,会場マスタ!$A:$B,2,FALSE))","v":""}]
["",null,null,null,null,null,null,null,null,{"$f":"IF(I759= \"\",\"\",VLOOKUP(I759,会場マスタ!$A:$B,2,FALSE))","v":""}]
["",null,null,null,null,null,null,null,null,{"$f":"IF(I760= \"\",\"\",VLOOKUP(I760,会場マスタ!$A:$B,2,FALSE))","v":""}]
["",null,null,null,null,null,null,null,null,{"$f":"IF(I761= \"\",\"\",VLOOKUP(I761,会場マスタ!$A:$B,2,FALSE))","v":""}]
["",null,null,null,null,null,null,null,null,{"$f":"IF(I762= \"\",\"\",VLOOKUP(I762,会場マスタ!$A:$B,2,FALSE))","v":""}]
["",null,null,null,null,null,null,null,null,{"$f":"IF(I763= \"\",\"\",VLOOKUP(I763,会場マスタ!$A:$B,2,FALSE))","v":""}]
["",null,null,null,null,null,null,null,null,{"$f":"IF(I764= \"\",\"\",VLOOKUP(I764,会場マスタ!$A:$B,2,FALSE))","v":""}]
["",null,null,null,null,null,null,null,null,{"$f":"IF(I765= \"\",\"\",VLOOKUP(I765,会場マスタ!$A:$B,2,FALSE))","v":""}]
["",null,null,null,null,null,null,null,null,{"$f":"IF(I766= \"\",\"\",VLOOKUP(I766,会場マスタ!$A:$B,2,FALSE))","v":""}]
["",null,null,null,null,null,null,null,null,{"$f":"IF(I767= \"\",\"\",VLOOKUP(I767,会場マスタ!$A:$B,2,FALSE))","v":""}]
["",null,null,null,null,null,null,null,null,{"$f":"IF(I768= \"\",\"\",VLOOKUP(I768,会場マスタ!$A:$B,2,FALSE))","v":""}]
["",null,null,null,null,null,null,null,null,{"$f":"IF(I769= \"\",\"\",VLOOKUP(I769,会場マスタ!$A:$B,2,FALSE))","v":""}]
["",null,null,null,null,null,null,null,null,{"$f":"IF(I770= \"\",\"\",VLOOKUP(I770,会場マスタ!$A:$B,2,FALSE))","v":""}]
["",null,null,null,null,null,null,null,null,{"$f":"IF(I771= \"\",\"\",VLOOKUP(I771,会場マスタ!$A:$B,2,FALSE))","v":""}]
["",null,null,null,null,null,null,null,null,{"$f":"IF(I772= \"\",\"\",VLOOKUP(I772,会場マスタ!$A:$B,2,FALSE))","v":""}]
["",null,null,null,null,null,null,null,null,{"$f":"IF(I773= \"\",\"\",VLOOKUP(I773,会場マスタ!$A:$B,2,FALSE))","v":""}]
["",null,null,null,null,null,null,null,null,{"$f":"IF(I774= \"\",\"\",VLOOKUP(I774,会場マスタ!$A:$B,2,FALSE))","v":""}]
[{"$f":"IF(B775<>\"\",ROW(A775)-4,\"\")","v":""},null,null,null,null,null,null,null,null,{"$f":"IF(I775= \"\",\"\",VLOOKUP(I775,会場マスタ!$A:$B,2,FALSE))","v":""}]
["",null,null,null,null,null,null,null,null,{"$f":"IF(I776= \"\",\"\",VLOOKUP(I776,会場マスタ!$A:$B,2,FALSE))","v":""}]
["",null,null,null,null,null,null,null,null,{"$f":"IF(I777= \"\",\"\",VLOOKUP(I777,会場マスタ!$A:$B,2,FALSE))","v":""}]
["",null,null,null,null,null,null,null,null,{"$f":"IF(I778= \"\",\"\",VLOOKUP(I778,会場マスタ!$A:$B,2,FALSE))","v":""}]
["",null,null,null,null,null,null,null,null,{"$f":"IF(I779= \"\",\"\",VLOOKUP(I779,会場マスタ!$A:$B,2,FALSE))","v":""}]
["",null,null,null,null,null,null,null,null,{"$f":"IF(I780= \"\",\"\",VLOOKUP(I780,会場マスタ!$A:$B,2,FALSE))","v":""}]
["",null,null,null,null,null,null,null,null,{"$f":"IF(I781= \"\",\"\",VLOOKUP(I781,会場マスタ!$A:$B,2,FALSE))","v":""}]
["",null,null,null,null,null,null,null,null,{"$f":"IF(I782= \"\",\"\",VLOOKUP(I782,会場マスタ!$A:$B,2,FALSE))","v":""}]
["",null,null,null,null,null,null,null,null,{"$f":"IF(I783= \"\",\"\",VLOOKUP(I783,会場マスタ!$A:$B,2,FALSE))","v":""}]
["",null,null,null,null,null,null,null,null,{"$f":"IF(I784= \"\",\"\",VLOOKUP(I784,会場マスタ!$A:$B,2,FALSE))","v":""}]
["",null,null,null,null,null,null,null,null,{"$f":"IF(I785= \"\",\"\",VLOOKUP(I785,会場マスタ!$A:$B,2,FALSE))","v":""}]
["",null,null,null,null,null,null,null,null,{"$f":"IF(I786= \"\",\"\",VLOOKUP(I786,会場マスタ!$A:$B,2,FALSE))","v":""}]
["",null,null,null,null,null,null,null,null,{"$f":"IF(I787= \"\",\"\",VLOOKUP(I787,会場マスタ!$A:$B,2,FALSE))","v":""}]
["",null,null,null,null,null,null,null,null,{"$f":"IF(I788= \"\",\"\",VLOOKUP(I788,会場マスタ!$A:$B,2,FALSE))","v":""}]
["",null,null,null,null,null,null,null,null,{"$f":"IF(I789= \"\",\"\",VLOOKUP(I789,会場マスタ!$A:$B,2,FALSE))","v":""}]
["",null,null,null,null,null,null,null,null,{"$f":"IF(I790= \"\",\"\",VLOOKUP(I790,会場マスタ!$A:$B,2,FALSE))","v":""}]
["",null,null,null,null,null,null,null,null,{"$f":"IF(I791= \"\",\"\",VLOOKUP(I791,会場マスタ!$A:$B,2,FALSE))","v":""}]
["",null,null,null,null,null,null,null,null,{"$f":"IF(I792= \"\",\"\",VLOOKUP(I792,会場マスタ!$A:$B,2,FALSE))","v":""}]
["",null,null,null,null,null,null,null,null,{"$f":"IF(I793= \"\",\"\",VLOOKUP(I793,会場マスタ!$A:$B,2,FALSE))","v":""}]
["",null,null,null,null,null,null,null,null,{"$f":"IF(I794= \"\",\"\",VLOOKUP(I794,会場マスタ!$A:$B,2,FALSE))","v":""}]
["",null,null,null,null,null,null,null,null,{"$f":"IF(I795= \"\",\"\",VLOOKUP(I795,会場マスタ!$A:$B,2,FALSE))","v":""}]
["",null,null,null,null,null,null,null,null,{"$f":"IF(I796= \"\",\"\",VLOOKUP(I796,会場マスタ!$A:$B,2,FALSE))","v":""}]
["",null,null,null,null,null,null,null,null,{"$f":"IF(I797= \"\",\"\",VLOOKUP(I797,会場マスタ!$A:$B,2,FALSE))","v":""}]
["",null,null,null,null,null,null,null,null,{"$f":"IF(I798= \"\",\"\",VLOOKUP(I798,会場マスタ!$A:$B,2,FALSE))","v":""}]
["",null,null,null,null,null,null,null,null,{"$f":"IF(I799= \"\",\"\",VLOOKUP(I799,会場マスタ!$A:$B,2,FALSE))","v":""}]
["",null,null,null,null,null,null,null,null,{"$f":"IF(I800= \"\",\"\",VLOOKUP(I800,会場マスタ!$A:$B,2,FALSE))","v":""}]
["",null,null,null,null,null,null,null,null,{"$f":"IF(I801= \"\",\"\",VLOOKUP(I801,会場マスタ!$A:$B,2,FALSE))","v":""}]
["",null,null,null,null,null,null,null,null,{"$f":"IF(I802= \"\",\"\",VLOOKUP(I802,会場マスタ!$A:$B,2,FALSE))","v":""}]
["",null,null,null,null,null,null,null,null,{"$f":"IF(I803= \"\",\"\",VLOOKUP(I803,会場マスタ!$A:$B,2,FALSE))","v":""}]
["",null,null,null,null,null,null,null,null,{"$f":"IF(I804= \"\",\"\",VLOOKUP(I804,会場マスタ!$A:$B,2,FALSE))","v":""}]
["",null,null,null,null,null,null,null,null,{"$f":"IF(I805= \"\",\"\",VLOOKUP(I805,会場マスタ!$A:$B,2,FALSE))","v":""}]
["",null,null,null,null,null,null,null,null,{"$f":"IF(I806= \"\",\"\",VLOOKUP(I806,会場マスタ!$A:$B,2,FALSE))","v":""}]
["",null,null,null,null,null,null,null,null,{"$f":"IF(I807= \"\",\"\",VLOOKUP(I807,会場マスタ!$A:$B,2,FALSE))","v":""}]
["",null,null,null,null,null,null,null,null,{"$f":"IF(I808= \"\",\"\",VLOOKUP(I808,会場マスタ!$A:$B,2,FALSE))","v":""}]
["",null,null,null,null,null,null,null,null,{"$f":"IF(I809= \"\",\"\",VLOOKUP(I809,会場マスタ!$A:$B,2,FALSE))","v":""}]
["",null,null,null,null,null,null,null,null,{"$f":"IF(I810= \"\",\"\",VLOOKUP(I810,会場マスタ!$A:$B,2,FALSE))","v":""}]
["",null,null,null,null,null,null,null,null,{"$f":"IF(I811= \"\",\"\",VLOOKUP(I811,会場マスタ!$A:$B,2,FALSE))","v":""}]
["",null,null,null,null,null,null,null,null,{"$f":"IF(I812= \"\",\"\",VLOOKUP(I812,会場マスタ!$A:$B,2,FALSE))","v":""}]
["",null,null,null,null,null,null,null,null,{"$f":"IF(I813= \"\",\"\",VLOOKUP(I813,会場マスタ!$A:$B,2,FALSE))","v":""}]
["",null,null,null,null,null,null,null,null,{"$f":"IF(I814= \"\",\"\",VLOOKUP(I814,会場マスタ!$A:$B,2,FALSE))","v":""}]
["",null,null,null,null,null,null,null,null,{"$f":"IF(I815= \"\",\"\",VLOOKUP(I815,会場マスタ!$A:$B,2,FALSE))","v":""}]
["",null,null,null,null,null,null,null,null,{"$f":"IF(I816= \"\",\"\",VLOOKUP(I816,会場マスタ!$A:$B,2,FALSE))","v":""}]
["",null,null,null,null,null,null,null,null,{"$f":"IF(I817= \"\",\"\",VLOOKUP(I817,会場マスタ!$A:$B,2,FALSE))","v":""}]
["",null,null,null,null,null,null,null,null,{"$f":"IF(I818= \"\",\"\",VLOOKUP(I818,会場マスタ!$A:$B,2,FALSE))","v":""}]
["",null,null,null,null,null,null,null,null,{"$f":"IF(I819= \"\",\"\",VLOOKUP(I819,会場マスタ!$A:$B,2,FALSE))","v":""}]
["",null,null,null,null,null,null,null,null,{"$f":"IF(I820= \"\",\"\",VLOOKUP(I820,会場マスタ!$A:$B,2,FALSE))","v":""}]
["",null,null,null,null,null,null,null,null,{"$f":"IF(I821= \"\",\"\",VLOOKUP(I821,会場マスタ!$A:$B,2,FALSE))","v":""}]
["",null,null,null,null,null,null,null,null,{"$f":"IF(I822= \"\",\"\",VLOOKUP(I822,会場マスタ!$A:$B,2,FALSE))","v":""}]
["",null,null,null,null,null,null,null,null,{"$f":"IF(I823= \"\",\"\",VLOOKUP(I823,会場マスタ!$A:$B,2,FALSE))","v":""}]
["",null,null,null,null,null,null,null,null,{"$f":"IF(I824= \"\",\"\",VLOOKUP(I824,会場マスタ!$A:$B,2,FALSE))","v":""}]
["",null,null,null,null,null,null,null,null,{"$f":"IF(I825= \"\",\"\",VLOOKUP(I825,会場マスタ!$A:$B,2,FALSE))","v":""}]
["",null,null,null,null,null,null,null,null,{"$f":"IF(I826= \"\",\"\",VLOOKUP(I826,会場マスタ!$A:$B,2,FALSE))","v":""}]
["",null,null,null,null,null,null,null,null,{"$f":"IF(I827= \"\",\"\",VLOOKUP(I827,会場マスタ!$A:$B,2,FALSE))","v":""}]
["",null,null,null,null,null,null,null,null,{"$f":"IF(I828= \"\",\"\",VLOOKUP(I828,会場マスタ!$A:$B,2,FALSE))","v":""}]
["",null,null,null,null,null,null,null,null,{"$f":"IF(I829= \"\",\"\",VLOOKUP(I829,会場マスタ!$A:$B,2,FALSE))","v":""}]
["",null,null,null,null,null,null,null,null,{"$f":"IF(I830= \"\",\"\",VLOOKUP(I830,会場マスタ!$A:$B,2,FALSE))","v":""}]
["",null,null,null,null,null,null,null,null,{"$f":"IF(I831= \"\",\"\",VLOOKUP(I831,会場マスタ!$A:$B,2,FALSE))","v":""}]
["",null,null,null,null,null,null,null,null,{"$f":"IF(I832= \"\",\"\",VLOOKUP(I832,会場マスタ!$A:$B,2,FALSE))","v":""}]
["",null,null,null,null,null,null,null,null,{"$f":"IF(I833= \"\",\"\",VLOOKUP(I833,会場マスタ!$A:$B,2,FALSE))","v":""}]
["",null,null,null,null,null,null,null,null,{"$f":"IF(I834= \"\",\"\",VLOOKUP(I834,会場マスタ!$A:$B,2,FALSE))","v":""}]
["",null,null,null,null,null,null,null,null,{"$f":"IF(I835= \"\",\"\",VLOOKUP(I835,会場マスタ!$A:$B,2,FALSE))","v":""}]
["",null,null,null,null,null,null,null,null,{"$f":"IF(I836= \"\",\"\",VLOOKUP(I836,会場マスタ!$A:$B,2,FALSE))","v":""}]
["",null,null,null,null,null,null,null,null,{"$f":"IF(I837= \"\",\"\",VLOOKUP(I837,会場マスタ!$A:$B,2,FALSE))","v":""}]
["",null,null,null,null,null,null,null,null,{"$f":"IF(I838= \"\",\"\",VLOOKUP(I838,会場マスタ!$A:$B,2,FALSE))","v":""}]
[{"$f":"IF(B839<>\"\",ROW(A839)-4,\"\")","v":""},null,null,null,null,null,null,null,null,{"$f":"IF(I839= \"\",\"\",VLOOKUP(I839,会場マスタ!$A:$B,2,FALSE))","v":""}]
["",null,null,null,null,null,null,null,null,{"$f":"IF(I840= \"\",\"\",VLOOKUP(I840,会場マスタ!$A:$B,2,FALSE))","v":""}]
["",null,null,null,null,null,null,null,null,{"$f":"IF(I841= \"\",\"\",VLOOKUP(I841,会場マスタ!$A:$B,2,FALSE))","v":""}]
["",null,null,null,null,null,null,null,null,{"$f":"IF(I842= \"\",\"\",VLOOKUP(I842,会場マスタ!$A:$B,2,FALSE))","v":""}]
["",null,null,null,null,null,null,null,null,{"$f":"IF(I843= \"\",\"\",VLOOKUP(I843,会場マスタ!$A:$B,2,FALSE))","v":""}]
["",null,null,null,null,null,null,null,null,{"$f":"IF(I844= \"\",\"\",VLOOKUP(I844,会場マスタ!$A:$B,2,FALSE))","v":""}]
["",null,null,null,null,null,null,null,null,{"$f":"IF(I845= \"\",\"\",VLOOKUP(I845,会場マスタ!$A:$B,2,FALSE))","v":""}]
["",null,null,null,null,null,null,null,null,{"$f":"IF(I846= \"\",\"\",VLOOKUP(I846,会場マスタ!$A:$B,2,FALSE))","v":""}]
["",null,null,null,null,null,null,null,null,{"$f":"IF(I847= \"\",\"\",VLOOKUP(I847,会場マスタ!$A:$B,2,FALSE))","v":""}]
["",null,null,null,null,null,null,null,null,{"$f":"IF(I848= \"\",\"\",VLOOKUP(I848,会場マスタ!$A:$B,2,FALSE))","v":""}]
["",null,null,null,null,null,null,null,null,{"$f":"IF(I849= \"\",\"\",VLOOKUP(I849,会場マスタ!$A:$B,2,FALSE))","v":""}]
["",null,null,null,null,null,null,null,null,{"$f":"IF(I850= \"\",\"\",VLOOKUP(I850,会場マスタ!$A:$B,2,FALSE))","v":""}]
["",null,null,null,null,null,null,null,null,{"$f":"IF(I851= \"\",\"\",VLOOKUP(I851,会場マスタ!$A:$B,2,FALSE))","v":""}]
["",null,null,null,null,null,null,null,null,{"$f":"IF(I852= \"\",\"\",VLOOKUP(I852,会場マスタ!$A:$B,2,FALSE))","v":""}]
["",null,null,null,null,null,null,null,null,{"$f":"IF(I853= \"\",\"\",VLOOKUP(I853,会場マスタ!$A:$B,2,FALSE))","v":""}]
["",null,null,null,null,null,null,null,null,{"$f":"IF(I854= \"\",\"\",VLOOKUP(I854,会場マスタ!$A:$B,2,FALSE))","v":""}]
["",null,null,null,null,null,null,null,null,{"$f":"IF(I855= \"\",\"\",VLOOKUP(I855,会場マスタ!$A:$B,2,FALSE))","v":""}]
["",null,null,null,null,null,null,null,null,{"$f":"IF(I856= \"\",\"\",VLOOKUP(I856,会場マスタ!$A:$B,2,FALSE))","v":""}]
["",null,null,null,null,null,null,null,null,{"$f":"IF(I857= \"\",\"\",VLOOKUP(I857,会場マスタ!$A:$B,2,FALSE))","v":""}]
["",null,null,null,null,null,null,null,null,{"$f":"IF(I858= \"\",\"\",VLOOKUP(I858,会場マスタ!$A:$B,2,FALSE))","v":""}]
["",null,null,null,null,null,null,null,null,{"$f":"IF(I859= \"\",\"\",VLOOKUP(I859,会場マスタ!$A:$B,2,FALSE))","v":""}]
["",null,null,null,null,null,null,null,null,{"$f":"IF(I860= \"\",\"\",VLOOKUP(I860,会場マスタ!$A:$B,2,FALSE))","v":""}]
["",null,null,null,null,null,null,null,null,{"$f":"IF(I861= \"\",\"\",VLOOKUP(I861,会場マスタ!$A:$B,2,FALSE))","v":""}]
["",null,null,null,null,null,null,null,null,{"$f":"IF(I862= \"\",\"\",VLOOKUP(I862,会場マスタ!$A:$B,2,FALSE))","v":""}]
["",null,null,null,null,null,null,null,null,{"$f":"IF(I863= \"\",\"\",VLOOKUP(I863,会場マスタ!$A:$B,2,FALSE))","v":""}]
["",null,null,null,null,null,null,null,null,{"$f":"IF(I864= \"\",\"\",VLOOKUP(I864,会場マスタ!$A:$B,2,FALSE))","v":""}]
["",null,null,null,null,null,null,null,null,{"$f":"IF(I865= \"\",\"\",VLOOKUP(I865,会場マスタ!$A:$B,2,FALSE))","v":""}]
["",null,null,null,null,null,null,null,null,{"$f":"IF(I866= \"\",\"\",VLOOKUP(I866,会場マスタ!$A:$B,2,FALSE))","v":""}]
["",null,null,null,null,null,null,null,null,{"$f":"IF(I867= \"\",\"\",VLOOKUP(I867,会場マスタ!$A:$B,2,FALSE))","v":""}]
["",null,null,null,null,null,null,null,null,{"$f":"IF(I868= \"\",\"\",VLOOKUP(I868,会場マスタ!$A:$B,2,FALSE))","v":""}]
["",null,null,null,null,null,null,null,null,{"$f":"IF(I869= \"\",\"\",VLOOKUP(I869,会場マスタ!$A:$B,2,FALSE))","v":""}]
["",null,null,null,null,null,null,null,null,{"$f":"IF(I870= \"\",\"\",VLOOKUP(I870,会場マスタ!$A:$B,2,FALSE))","v":""}]
["",null,null,null,null,null,null,null,null,{"$f":"IF(I871= \"\",\"\",VLOOKUP(I871,会場マスタ!$A:$B,2,FALSE))","v":""}]
["",null,null,null,null,null,null,null,null,{"$f":"IF(I872= \"\",\"\",VLOOKUP(I872,会場マスタ!$A:$B,2,FALSE))","v":""}]
["",null,null,null,null,null,null,null,null,{"$f":"IF(I873= \"\",\"\",VLOOKUP(I873,会場マスタ!$A:$B,2,FALSE))","v":""}]
["",null,null,null,null,null,null,null,null,{"$f":"IF(I874= \"\",\"\",VLOOKUP(I874,会場マスタ!$A:$B,2,FALSE))","v":""}]
["",null,null,null,null,null,null,null,null,{"$f":"IF(I875= \"\",\"\",VLOOKUP(I875,会場マスタ!$A:$B,2,FALSE))","v":""}]
["",null,null,null,null,null,null,null,null,{"$f":"IF(I876= \"\",\"\",VLOOKUP(I876,会場マスタ!$A:$B,2,FALSE))","v":""}]
["",null,null,null,null,null,null,null,null,{"$f":"IF(I877= \"\",\"\",VLOOKUP(I877,会場マスタ!$A:$B,2,FALSE))","v":""}]
["",null,null,null,null,null,null,null,null,{"$f":"IF(I878= \"\",\"\",VLOOKUP(I878,会場マスタ!$A:$B,2,FALSE))","v":""}]
["",null,null,null,null,null,null,null,null,{"$f":"IF(I879= \"\",\"\",VLOOKUP(I879,会場マスタ!$A:$B,2,FALSE))","v":""}]
["",null,null,null,null,null,null,null,null,{"$f":"IF(I880= \"\",\"\",VLOOKUP(I880,会場マスタ!$A:$B,2,FALSE))","v":""}]
["",null,null,null,null,null,null,null,null,{"$f":"IF(I881= \"\",\"\",VLOOKUP(I881,会場マスタ!$A:$B,2,FALSE))","v":""}]
["",null,null,null,null,null,null,null,null,{"$f":"IF(I882= \"\",\"\",VLOOKUP(I882,会場マスタ!$A:$B,2,FALSE))","v":""}]
["",null,null,null,null,null,null,null,null,{"$f":"IF(I883= \"\",\"\",VLOOKUP(I883,会場マスタ!$A:$B,2,FALSE))","v":""}]
["",null,null,null,null,null,null,null,null,{"$f":"IF(I884= \"\",\"\",VLOOKUP(I884,会場マスタ!$A:$B,2,FALSE))","v":""}]
["",null,null,null,null,null,null,null,null,{"$f":"IF(I885= \"\",\"\",VLOOKUP(I885,会場マスタ!$A:$B,2,FALSE))","v":""}]
["",null,null,null,null,null,null,null,null,{"$f":"IF(I886= \"\",\"\",VLOOKUP(I886,会場マスタ!$A:$B,2,FALSE))","v":""}]
["",null,null,null,null,null,null,null,null,{"$f":"IF(I887= \"\",\"\",VLOOKUP(I887,会場マスタ!$A:$B,2,FALSE))","v":""}]
["",null,null,null,null,null,null,null,null,{"$f":"IF(I888= \"\",\"\",VLOOKUP(I888,会場マスタ!$A:$B,2,FALSE))","v":""}]
["",null,null,null,null,null,null,null,null,{"$f":"IF(I889= \"\",\"\",VLOOKUP(I889,会場マスタ!$A:$B,2,FALSE))","v":""}]
["",null,null,null,null,null,null,null,null,{"$f":"IF(I890= \"\",\"\",VLOOKUP(I890,会場マスタ!$A:$B,2,FALSE))","v":""}]
["",null,null,null,null,null,null,null,null,{"$f":"IF(I891= \"\",\"\",VLOOKUP(I891,会場マスタ!$A:$B,2,FALSE))","v":""}]
["",null,null,null,null,null,null,null,null,{"$f":"IF(I892= \"\",\"\",VLOOKUP(I892,会場マスタ!$A:$B,2,FALSE))","v":""}]
["",null,null,null,null,null,null,null,null,{"$f":"IF(I893= \"\",\"\",VLOOKUP(I893,会場マスタ!$A:$B,2,FALSE))","v":""}]
["",null,null,null,null,null,null,null,null,{"$f":"IF(I894= \"\",\"\",VLOOKUP(I894,会場マスタ!$A:$B,2,FALSE))","v":""}]
["",null,null,null,null,null,null,null,null,{"$f":"IF(I895= \"\",\"\",VLOOKUP(I895,会場マスタ!$A:$B,2,FALSE))","v":""}]
["",null,null,null,null,null,null,null,null,{"$f":"IF(I896= \"\",\"\",VLOOKUP(I896,会場マスタ!$A:$B,2,FALSE))","v":""}]
["",null,null,null,null,null,null,null,null,{"$f":"IF(I897= \"\",\"\",VLOOKUP(I897,会場マスタ!$A:$B,2,FALSE))","v":""}]
["",null,null,null,null,null,null,null,null,{"$f":"IF(I898= \"\",\"\",VLOOKUP(I898,会場マスタ!$A:$B,2,FALSE))","v":""}]
["",null,null,null,null,null,null,null,null,{"$f":"IF(I899= \"\",\"\",VLOOKUP(I899,会場マスタ!$A:$B,2,FALSE))","v":""}]
["",null,null,null,null,null,null,null,null,{"$f":"IF(I900= \"\",\"\",VLOOKUP(I900,会場マスタ!$A:$B,2,FALSE))","v":""}]
["",null,null,null,null,null,null,null,null,{"$f":"IF(I901= \"\",\"\",VLOOKUP(I901,会場マスタ!$A:$B,2,FALSE))","v":""}]
["",null,null,null,null,null,null,null,null,{"$f":"IF(I902= \"\",\"\",VLOOKUP(I902,会場マスタ!$A:$B,2,FALSE))","v":""}]
[{"$f":"IF(B903<>\"\",ROW(A903)-4,\"\")","v":""},null,null,null,null,null,null,null,null,{"$f":"IF(I903= \"\",\"\",VLOOKUP(I903,会場マスタ!$A:$B,2,FALSE))","v":""}]
["",null,null,null,null,null,null,null,null,{"$f":"IF(I904= \"\",\"\",VLOOKUP(I904,会場マスタ!$A:$B,2,FALSE))","v":""}]
["",null,null,null,null,null,null,null,null,{"$f":"IF(I905= \"\",\"\",VLOOKUP(I905,会場マスタ!$A:$B,2,FALSE))","v":""}]
["",null,null,null,null,null,null,null,null,{"$f":"IF(I906= \"\",\"\",VLOOKUP(I906,会場マスタ!$A:$B,2,FALSE))","v":""}]
["",null,null,null,null,null,null,null,null,{"$f":"IF(I907= \"\",\"\",VLOOKUP(I907,会場マスタ!$A:$B,2,FALSE))","v":""}]
["",null,null,null,null,null,null,null,null,{"$f":"IF(I908= \"\",\"\",VLOOKUP(I908,会場マスタ!$A:$B,2,FALSE))","v":""}]
["",null,null,null,null,null,null,null,null,{"$f":"IF(I909= \"\",\"\",VLOOKUP(I909,会場マスタ!$A:$B,2,FALSE))","v":""}]
["",null,null,null,null,null,null,null,null,{"$f":"IF(I910= \"\",\"\",VLOOKUP(I910,会場マスタ!$A:$B,2,FALSE))","v":""}]
["",null,null,null,null,null,null,null,null,{"$f":"IF(I911= \"\",\"\",VLOOKUP(I911,会場マスタ!$A:$B,2,FALSE))","v":""}]
["",null,null,null,null,null,null,null,null,{"$f":"IF(I912= \"\",\"\",VLOOKUP(I912,会場マスタ!$A:$B,2,FALSE))","v":""}]
["",null,null,null,null,null,null,null,null,{"$f":"IF(I913= \"\",\"\",VLOOKUP(I913,会場マスタ!$A:$B,2,FALSE))","v":""}]
["",null,null,null,null,null,null,null,null,{"$f":"IF(I914= \"\",\"\",VLOOKUP(I914,会場マスタ!$A:$B,2,FALSE))","v":""}]
["",null,null,null,null,null,null,null,null,{"$f":"IF(I915= \"\",\"\",VLOOKUP(I915,会場マスタ!$A:$B,2,FALSE))","v":""}]
["",null,null,null,null,null,null,null,null,{"$f":"IF(I916= \"\",\"\",VLOOKUP(I916,会場マスタ!$A:$B,2,FALSE))","v":""}]
["",null,null,null,null,null,null,null,null,{"$f":"IF(I917= \"\",\"\",VLOOKUP(I917,会場マスタ!$A:$B,2,FALSE))","v":""}]
["",null,null,null,null,null,null,null,null,{"$f":"IF(I918= \"\",\"\",VLOOKUP(I918,会場マスタ!$A:$B,2,FALSE))","v":""}]
["",null,null,null,null,null,null,null,null,{"$f":"IF(I919= \"\",\"\",VLOOKUP(I919,会場マスタ!$A:$B,2,FALSE))","v":""}]
["",null,null,null,null,null,null,null,null,{"$f":"IF(I920= \"\",\"\",VLOOKUP(I920,会場マスタ!$A:$B,2,FALSE))","v":""}]
["",null,null,null,null,null,null,null,null,{"$f":"IF(I921= \"\",\"\",VLOOKUP(I921,会場マスタ!$A:$B,2,FALSE))","v":""}]
["",null,null,null,null,null,null,null,null,{"$f":"IF(I922= \"\",\"\",VLOOKUP(I922,会場マスタ!$A:$B,2,FALSE))","v":""}]
["",null,null,null,null,null,null,null,null,{"$f":"IF(I923= \"\",\"\",VLOOKUP(I923,会場マスタ!$A:$B,2,FALSE))","v":""}]
["",null,null,null,null,null,null,null,null,{"$f":"IF(I924= \"\",\"\",VLOOKUP(I924,会場マスタ!$A:$B,2,FALSE))","v":""}]
["",null,null,null,null,null,null,null,null,{"$f":"IF(I925= \"\",\"\",VLOOKUP(I925,会場マスタ!$A:$B,2,FALSE))","v":""}]
["",null,null,null,null,null,null,null,null,{"$f":"IF(I926= \"\",\"\",VLOOKUP(I926,会場マスタ!$A:$B,2,FALSE))","v":""}]
["",null,null,null,null,null,null,null,null,{"$f":"IF(I927= \"\",\"\",VLOOKUP(I927,会場マスタ!$A:$B,2,FALSE))","v":""}]
["",null,null,null,null,null,null,null,null,{"$f":"IF(I928= \"\",\"\",VLOOKUP(I928,会場マスタ!$A:$B,2,FALSE))","v":""}]
["",null,null,null,null,null,null,null,null,{"$f":"IF(I929= \"\",\"\",VLOOKUP(I929,会場マスタ!$A:$B,2,FALSE))","v":""}]
["",null,null,null,null,null,null,null,null,{"$f":"IF(I930= \"\",\"\",VLOOKUP(I930,会場マスタ!$A:$B,2,FALSE))","v":""}]
["",null,null,null,null,null,null,null,null,{"$f":"IF(I931= \"\",\"\",VLOOKUP(I931,会場マスタ!$A:$B,2,FALSE))","v":""}]
["",null,null,null,null,null,null,null,null,{"$f":"IF(I932= \"\",\"\",VLOOKUP(I932,会場マスタ!$A:$B,2,FALSE))","v":""}]
["",null,null,null,null,null,null,null,null,{"$f":"IF(I933= \"\",\"\",VLOOKUP(I933,会場マスタ!$A:$B,2,FALSE))","v":""}]
["",null,null,null,null,null,null,null,null,{"$f":"IF(I934= \"\",\"\",VLOOKUP(I934,会場マスタ!$A:$B,2,FALSE))","v":""}]
["",null,null,null,null,null,null,null,null,{"$f":"IF(I935= \"\",\"\",VLOOKUP(I935,会場マスタ!$A:$B,2,FALSE))","v":""}]
["",null,null,null,null,null,null,null,null,{"$f":"IF(I936= \"\",\"\",VLOOKUP(I936,会場マスタ!$A:$B,2,FALSE))","v":""}]
["",null,null,null,null,null,null,null,null,{"$f":"IF(I937= \"\",\"\",VLOOKUP(I937,会場マスタ!$A:$B,2,FALSE))","v":""}]
["",null,null,null,null,null,null,null,null,{"$f":"IF(I938= \"\",\"\",VLOOKUP(I938,会場マスタ!$A:$B,2,FALSE))","v":""}]
["",null,null,null,null,null,null,null,null,{"$f":"IF(I939= \"\",\"\",VLOOKUP(I939,会場マスタ!$A:$B,2,FALSE))","v":""}]
["",null,null,null,null,null,null,null,null,{"$f":"IF(I940= \"\",\"\",VLOOKUP(I940,会場マスタ!$A:$B,2,FALSE))","v":""}]
["",null,null,null,null,null,null,null,null,{"$f":"IF(I941= \"\",\"\",VLOOKUP(I941,会場マスタ!$A:$B,2,FALSE))","v":""}]
["",null,null,null,null,null,null,null,null,{"$f":"IF(I942= \"\",\"\",VLOOKUP(I942,会場マスタ!$A:$B,2,FALSE))","v":""}]
["",null,null,null,null,null,null,null,null,{"$f":"IF(I943= \"\",\"\",VLOOKUP(I943,会場マスタ!$A:$B,2,FALSE))","v":""}]
["",null,null,null,null,null,null,null,null,{"$f":"IF(I944= \"\",\"\",VLOOKUP(I944,会場マスタ!$A:$B,2,FALSE))","v":""}]
["",null,null,null,null,null,null,null,null,{"$f":"IF(I945= \"\",\"\",VLOOKUP(I945,会場マスタ!$A:$B,2,FALSE))","v":""}]
["",null,null,null,null,null,null,null,null,{"$f":"IF(I946= \"\",\"\",VLOOKUP(I946,会場マスタ!$A:$B,2,FALSE))","v":""}]
["",null,null,null,null,null,null,null,null,{"$f":"IF(I947= \"\",\"\",VLOOKUP(I947,会場マスタ!$A:$B,2,FALSE))","v":""}]
["",null,null,null,null,null,null,null,null,{"$f":"IF(I948= \"\",\"\",VLOOKUP(I948,会場マスタ!$A:$B,2,FALSE))","v":""}]
["",null,null,null,null,null,null,null,null,{"$f":"IF(I949= \"\",\"\",VLOOKUP(I949,会場マスタ!$A:$B,2,FALSE))","v":""}]
["",null,null,null,null,null,null,null,null,{"$f":"IF(I950= \"\",\"\",VLOOKUP(I950,会場マスタ!$A:$B,2,FALSE))","v":""}]
["",null,null,null,null,null,null,null,null,{"$f":"IF(I951= \"\",\"\",VLOOKUP(I951,会場マスタ!$A:$B,2,FALSE))","v":""}]
["",null,null,null,null,null,null,null,null,{"$f":"IF(I952= \"\",\"\",VLOOKUP(I952,会場マスタ!$A:$B,2,FALSE))","v":""}]
["",null,null,null,null,null,null,null,null,{"$f":"IF(I953= \"\",\"\",VLOOKUP(I953,会場マスタ!$A:$B,2,FALSE))","v":""}]
["",null,null,null,null,null,null,null,null,{"$f":"IF(I954= \"\",\"\",VLOOKUP(I954,会場マスタ!$A:$B,2,FALSE))","v":""}]
["",null,null,null,null,null,null,null,null,{"$f":"IF(I955= \"\",\"\",VLOOKUP(I955,会場マスタ!$A:$B,2,FALSE))","v":""}]
["",null,null,null,null,null,null,null,null,{"$f":"IF(I956= \"\",\"\",VLOOKUP(I956,会場マスタ!$A:$B,2,FALSE))","v":""}]
["",null,null,null,null,null,null,null,null,{"$f":"IF(I957= \"\",\"\",VLOOKUP(I957,会場マスタ!$A:$B,2,FALSE))","v":""}]
["",null,null,null,null,null,null,null,null,{"$f":"IF(I958= \"\",\"\",VLOOKUP(I958,会場マスタ!$A:$B,2,FALSE))","v":""}]
["",null,null,null,null,null,null,null,null,{"$f":"IF(I959= \"\",\"\",VLOOKUP(I959,会場マスタ!$A:$B,2,FALSE))","v":""}]
["",null,null,null,null,null,null,null,null,{"$f":"IF(I960= \"\",\"\",VLOOKUP(I960,会場マスタ!$A:$B,2,FALSE))","v":""}]
["",null,null,null,null,null,null,null,null,{"$f":"IF(I961= \"\",\"\",VLOOKUP(I961,会場マスタ!$A:$B,2,FALSE))","v":""}]
["",null,null,null,null,null,null,null,null,{"$f":"IF(I962= \"\",\"\",VLOOKUP(I962,会場マスタ!$A:$B,2,FALSE))","v":""}]
["",null,null,null,null,null,null,null,null,{"$f":"IF(I963= \"\",\"\",VLOOKUP(I963,会場マスタ!$A:$B,2,FALSE))","v":""}]
["",null,null,null,null,null,null,null,null,{"$f":"IF(I964= \"\",\"\",VLOOKUP(I964,会場マスタ!$A:$B,2,FALSE))","v":""}]
["",null,null,null,null,null,null,null,null,{"$f":"IF(I965= \"\",\"\",VLOOKUP(I965,会場マスタ!$A:$B,2,FALSE))","v":""}]
["",null,null,null,null,null,null,null,null,{"$f":"IF(I966= \"\",\"\",VLOOKUP(I966,会場マスタ!$A:$B,2,FALSE))","v":""}]
[{"$f":"IF(B967<>\"\",ROW(A967)-4,\"\")","v":""},null,null,null,null,null,null,null,null,{"$f":"IF(I967= \"\",\"\",VLOOKUP(I967,会場マスタ!$A:$B,2,FALSE))","v":""}]
["",null,null,null,null,null,null,null,null,{"$f":"IF(I968= \"\",\"\",VLOOKUP(I968,会場マスタ!$A:$B,2,FALSE))","v":""}]
["",null,null,null,null,null,null,null,null,{"$f":"IF(I969= \"\",\"\",VLOOKUP(I969,会場マスタ!$A:$B,2,FALSE))","v":""}]
["",null,null,null,null,null,null,null,null,{"$f":"IF(I970= \"\",\"\",VLOOKUP(I970,会場マスタ!$A:$B,2,FALSE))","v":""}]
["",null,null,null,null,null,null,null,null,{"$f":"IF(I971= \"\",\"\",VLOOKUP(I971,会場マスタ!$A:$B,2,FALSE))","v":""}]
["",null,null,null,null,null,null,null,null,{"$f":"IF(I972= \"\",\"\",VLOOKUP(I972,会場マスタ!$A:$B,2,FALSE))","v":""}]
["",null,null,null,null,null,null,null,null,{"$f":"IF(I973= \"\",\"\",VLOOKUP(I973,会場マスタ!$A:$B,2,FALSE))","v":""}]
["",null,null,null,null,null,null,null,null,{"$f":"IF(I974= \"\",\"\",VLOOKUP(I974,会場マスタ!$A:$B,2,FALSE))","v":""}]
["",null,null,null,null,null,null,null,null,{"$f":"IF(I975= \"\",\"\",VLOOKUP(I975,会場マスタ!$A:$B,2,FALSE))","v":""}]
["",null,null,null,null,null,null,null,null,{"$f":"IF(I976= \"\",\"\",VLOOKUP(I976,会場マスタ!$A:$B,2,FALSE))","v":""}]
["",null,null,null,null,null,null,null,null,{"$f":"IF(I977= \"\",\"\",VLOOKUP(I977,会場マスタ!$A:$B,2,FALSE))","v":""}]
["",null,null,null,null,null,null,null,null,{"$f":"IF(I978= \"\",\"\",VLOOKUP(I978,会場マスタ!$A:$B,2,FALSE))","v":""}]
["",null,null,null,null,null,null,null,null,{"$f":"IF(I979= \"\",\"\",VLOOKUP(I979,会場マスタ!$A:$B,2,FALSE))","v":""}]
["",null,null,null,null,null,null,null,null,{"$f":"IF(I980= \"\",\"\",VLOOKUP(I980,会場マスタ!$A:$B,2,FALSE))","v":""}]
["",null,null,null,null,null,null,null,null,{"$f":"IF(I981= \"\",\"\",VLOOKUP(I981,会場マスタ!$A:$B,2,FALSE))","v":""}]
["",null,null,null,null,null,null,null,null,{"$f":"IF(I982= \"\",\"\",VLOOKUP(I982,会場マスタ!$A:$B,2,FALSE))","v":""}]
["",null,null,null,null,null,null,null,null,{"$f":"IF(I983= \"\",\"\",VLOOKUP(I983,会場マスタ!$A:$B,2,FALSE))","v":""}]
["",null,null,null,null,null,null,null,null,{"$f":"IF(I984= \"\",\"\",VLOOKUP(I984,会場マスタ!$A:$B,2,FALSE))","v":""}]
["",null,null,null,null,null,null,null,null,{"$f":"IF(I985= \"\",\"\",VLOOKUP(I985,会場マスタ!$A:$B,2,FALSE))","v":""}]
["",null,null,null,null,null,null,null,null,{"$f":"IF(I986= \"\",\"\",VLOOKUP(I986,会場マスタ!$A:$B,2,FALSE))","v":""}]
["",null,null,null,null,null,null,null,null,{"$f":"IF(I987= \"\",\"\",VLOOKUP(I987,会場マスタ!$A:$B,2,FALSE))","v":""}]
["",null,null,null,null,null,null,null,null,{"$f":"IF(I988= \"\",\"\",VLOOKUP(I988,会場マスタ!$A:$B,2,FALSE))","v":""}]
["",null,null,null,null,null,null,null,null,{"$f":"IF(I989= \"\",\"\",VLOOKUP(I989,会場マスタ!$A:$B,2,FALSE))","v":""}]
["",null,null,null,null,null,null,null,null,{"$f":"IF(I990= \"\",\"\",VLOOKUP(I990,会場マスタ!$A:$B,2,FALSE))","v":""}]
["",null,null,null,null,null,null,null,null,{"$f":"IF(I991= \"\",\"\",VLOOKUP(I991,会場マスタ!$A:$B,2,FALSE))","v":""}]
["",null,null,null,null,null,null,null,null,{"$f":"IF(I992= \"\",\"\",VLOOKUP(I992,会場マスタ!$A:$B,2,FALSE))","v":""}]
["",null,null,null,null,null,null,null,null,{"$f":"IF(I993= \"\",\"\",VLOOKUP(I993,会場マスタ!$A:$B,2,FALSE))","v":""}]
["",null,null,null,null,null,null,null,null,{"$f":"IF(I994= \"\",\"\",VLOOKUP(I994,会場マスタ!$A:$B,2,FALSE))","v":""}]
["",null,null,null,null,null,null,null,null,{"$f":"IF(I995= \"\",\"\",VLOOKUP(I995,会場マスタ!$A:$B,2,FALSE))","v":""}]
["",null,null,null,null,null,null,null,null,{"$f":"IF(I996= \"\",\"\",VLOOKUP(I996,会場マスタ!$A:$B,2,FALSE))","v":""}]
["",null,null,null,null,null,null,null,null,{"$f":"IF(I997= \"\",\"\",VLOOKUP(I997,会場マスタ!$A:$B,2,FALSE))","v":""}]
["",null,null,null,null,null,null,null,null,{"$f":"IF(I998= \"\",\"\",VLOOKUP(I998,会場マスタ!$A:$B,2,FALSE))","v":""}]
["",null,null,null,null,null,null,null,null,{"$f":"IF(I999= \"\",\"\",VLOOKUP(I999,会場マスタ!$A:$B,2,FALSE))","v":""}]
["",null,null,null,null,null,null,null,null,{"$f":"IF(I1000= \"\",\"\",VLOOKUP(I1000,会場マスタ!$A:$B,2,FALSE))","v":""}]
["",null,null,null,null,null,null,null,null,{"$f":"IF(I1001= \"\",\"\",VLOOKUP(I1001,会場マスタ!$A:$B,2,FALSE))","v":""}]
["",null,null,null,null,null,null,null,null,{"$f":"IF(I1002= \"\",\"\",VLOOKUP(I1002,会場マスタ!$A:$B,2,FALSE))","v":""}]
["",null,null,null,null,null,null,null,null,{"$f":"IF(I1003= \"\",\"\",VLOOKUP(I1003,会場マスタ!$A:$B,2,FALSE))","v":""}]
["",null,null,null,null,null,null,null,null,{"$f":"IF(I1004= \"\",\"\",VLOOKUP(I1004,会場マスタ!$A:$B,2,FALSE))","v":""}]
["",null,null,null,null,null,null,null,null,{"$f":"IF(I1005= \"\",\"\",VLOOKUP(I1005,会場マスタ!$A:$B,2,FALSE))","v":""}]
["",null,null,null,null,null,null,null,null,{"$f":"IF(I1006= \"\",\"\",VLOOKUP(I1006,会場マスタ!$A:$B,2,FALSE))","v":""}]
["",null,null,null,null,null,null,null,null,{"$f":"IF(I1007= \"\",\"\",VLOOKUP(I1007,会場マスタ!$A:$B,2,FALSE))","v":""}]
["",null,null,null,null,null,null,null,null,{"$f":"IF(I1008= \"\",\"\",VLOOKUP(I1008,会場マスタ!$A:$B,2,FALSE))","v":""}]
["",null,null,null,null,null,null,null,null,{"$f":"IF(I1009= \"\",\"\",VLOOKUP(I1009,会場マスタ!$A:$B,2,FALSE))","v":""}]
["",null,null,null,null,null,null,null,null,{"$f":"IF(I1010= \"\",\"\",VLOOKUP(I1010,会場マスタ!$A:$B,2,FALSE))","v":""}]
["",null,null,null,null,null,null,null,null,{"$f":"IF(I1011= \"\",\"\",VLOOKUP(I1011,会場マスタ!$A:$B,2,FALSE))","v":""}]
["",null,null,null,null,null,null,null,null,{"$f":"IF(I1012= \"\",\"\",VLOOKUP(I1012,会場マスタ!$A:$B,2,FALSE))","v":""}]
["",null,null,null,null,null,null,null,null,{"$f":"IF(I1013= \"\",\"\",VLOOKUP(I1013,会場マスタ!$A:$B,2,FALSE))","v":""}]
["",null,null,null,null,null,null,null,null,{"$f":"IF(I1014= \"\",\"\",VLOOKUP(I1014,会場マスタ!$A:$B,2,FALSE))","v":""}]
["",null,null,null,null,null,null,null,null,{"$f":"IF(I1015= \"\",\"\",VLOOKUP(I1015,会場マスタ!$A:$B,2,FALSE))","v":""}]
["",null,null,null,null,null,null,null,null,{"$f":"IF(I1016= \"\",\"\",VLOOKUP(I1016,会場マスタ!$A:$B,2,FALSE))","v":""}]
["",null,null,null,null,null,null,null,null,{"$f":"IF(I1017= \"\",\"\",VLOOKUP(I1017,会場マスタ!$A:$B,2,FALSE))","v":""}]
["",null,null,null,null,null,null,null,null,{"$f":"IF(I1018= \"\",\"\",VLOOKUP(I1018,会場マスタ!$A:$B,2,FALSE))","v":""}]
["",null,null,null,null,null,null,null,null,{"$f":"IF(I1019= \"\",\"\",VLOOKUP(I1019,会場マスタ!$A:$B,2,FALSE))","v":""}]
["",null,null,null,null,null,null,null,null,{"$f":"IF(I1020= \"\",\"\",VLOOKUP(I1020,会場マスタ!$A:$B,2,FALSE))","v":""}]
["",null,null,null,null,null,null,null,null,{"$f":"IF(I1021= \"\",\"\",VLOOKUP(I1021,会場マスタ!$A:$B,2,FALSE))","v":""}]
["",null,null,null,null,null,null,null,null,{"$f":"IF(I1022= \"\",\"\",VLOOKUP(I1022,会場マスタ!$A:$B,2,FALSE))","v":""}]
["",null,null,null,null,null,null,null,null,{"$f":"IF(I1023= \"\",\"\",VLOOKUP(I1023,会場マスタ!$A:$B,2,FALSE))","v":""}]
["",null,null,null,null,null,null,null,null,{"$f":"IF(I1024= \"\",\"\",VLOOKUP(I1024,会場マスタ!$A:$B,2,FALSE))","v":""}]
["",null,null,null,null,null,null,null,null,{"$f":"IF(I1025= \"\",\"\",VLOOKUP(I1025,会場マスタ!$A:$B,2,FALSE))","v":""}]
["",null,null,null,null,null,null,null,null,{"$f":"IF(I1026= \"\",\"\",VLOOKUP(I1026,会場マスタ!$A:$B,2,FALSE))","v":""}]
["",null,null,null,null,null,null,null,null,{"$f":"IF(I1027= \"\",\"\",VLOOKUP(I1027,会場マスタ!$A:$B,2,FALSE))","v":""}]
["",null,null,null,null,null,null,null,null,{"$f":"IF(I1028= \"\",\"\",VLOOKUP(I1028,会場マスタ!$A:$B,2,FALSE))","v":""}]
["",null,null,null,null,null,null,null,null,{"$f":"IF(I1029= \"\",\"\",VLOOKUP(I1029,会場マスタ!$A:$B,2,FALSE))","v":""}]
["",null,null,null,null,null,null,null,null,{"$f":"IF(I1030= \"\",\"\",VLOOKUP(I1030,会場マスタ!$A:$B,2,FALSE))","v":""}]
[{"$f":"IF(B1031<>\"\",ROW(A1031)-4,\"\")","v":""},null,null,null,null,null,null,null,null,{"$f":"IF(I1031= \"\",\"\",VLOOKUP(I1031,会場マスタ!$A:$B,2,FALSE))","v":""}]
["",null,null,null,null,null,null,null,null,{"$f":"IF(I1032= \"\",\"\",VLOOKUP(I1032,会場マスタ!$A:$B,2,FALSE))","v":""}]
["",null,null,null,null,null,null,null,null,{"$f":"IF(I1033= \"\",\"\",VLOOKUP(I1033,会場マスタ!$A:$B,2,FALSE))","v":""}]
["",null,null,null,null,null,null,null,null,{"$f":"IF(I1034= \"\",\"\",VLOOKUP(I1034,会場マスタ!$A:$B,2,FALSE))","v":""}]
["",null,null,null,null,null,null,null,null,{"$f":"IF(I1035= \"\",\"\",VLOOKUP(I1035,会場マスタ!$A:$B,2,FALSE))","v":""}]
["",null,null,null,null,null,null,null,null,{"$f":"IF(I1036= \"\",\"\",VLOOKUP(I1036,会場マスタ!$A:$B,2,FALSE))","v":""}]
["",null,null,null,null,null,null,null,null,{"$f":"IF(I1037= \"\",\"\",VLOOKUP(I1037,会場マスタ!$A:$B,2,FALSE))","v":""}]
["",null,null,null,null,null,null,null,null,{"$f":"IF(I1038= \"\",\"\",VLOOKUP(I1038,会場マスタ!$A:$B,2,FALSE))","v":""}]
["",null,null,null,null,null,null,null,null,{"$f":"IF(I1039= \"\",\"\",VLOOKUP(I1039,会場マスタ!$A:$B,2,FALSE))","v":""}]
["",null,null,null,null,null,null,null,null,{"$f":"IF(I1040= \"\",\"\",VLOOKUP(I1040,会場マスタ!$A:$B,2,FALSE))","v":""}]
["",null,null,null,null,null,null,null,null,{"$f":"IF(I1041= \"\",\"\",VLOOKUP(I1041,会場マスタ!$A:$B,2,FALSE))","v":""}]
["",null,null,null,null,null,null,null,null,{"$f":"IF(I1042= \"\",\"\",VLOOKUP(I1042,会場マスタ!$A:$B,2,FALSE))","v":""}]
["",null,null,null,null,null,null,null,null,{"$f":"IF(I1043= \"\",\"\",VLOOKUP(I1043,会場マスタ!$A:$B,2,FALSE))","v":""}]
["",null,null,null,null,null,null,null,null,{"$f":"IF(I1044= \"\",\"\",VLOOKUP(I1044,会場マスタ!$A:$B,2,FALSE))","v":""}]
["",null,null,null,null,null,null,null,null,{"$f":"IF(I1045= \"\",\"\",VLOOKUP(I1045,会場マスタ!$A:$B,2,FALSE))","v":""}]
["",null,null,null,null,null,null,null,null,{"$f":"IF(I1046= \"\",\"\",VLOOKUP(I1046,会場マスタ!$A:$B,2,FALSE))","v":""}]
["",null,null,null,null,null,null,null,null,{"$f":"IF(I1047= \"\",\"\",VLOOKUP(I1047,会場マスタ!$A:$B,2,FALSE))","v":""}]
["",null,null,null,null,null,null,null,null,{"$f":"IF(I1048= \"\",\"\",VLOOKUP(I1048,会場マスタ!$A:$B,2,FALSE))","v":""}]
["",null,null,null,null,null,null,null,null,{"$f":"IF(I1049= \"\",\"\",VLOOKUP(I1049,会場マスタ!$A:$B,2,FALSE))","v":""}]
["",null,null,null,null,null,null,null,null,{"$f":"IF(I1050= \"\",\"\",VLOOKUP(I1050,会場マスタ!$A:$B,2,FALSE))","v":""}]
["",null,null,null,null,null,null,null,null,{"$f":"IF(I1051= \"\",\"\",VLOOKUP(I1051,会場マスタ!$A:$B,2,FALSE))","v":""}]
["",null,null,null,null,null,null,null,null,{"$f":"IF(I1052= \"\",\"\",VLOOKUP(I1052,会場マスタ!$A:$B,2,FALSE))","v":""}]
["",null,null,null,null,null,null,null,null,{"$f":"IF(I1053= \"\",\"\",VLOOKUP(I1053,会場マスタ!$A:$B,2,FALSE))","v":""}]
["",null,null,null,null,null,null,null,null,{"$f":"IF(I1054= \"\",\"\",VLOOKUP(I1054,会場マスタ!$A:$B,2,FALSE))","v":""}]
["",null,null,null,null,null,null,null,null,{"$f":"IF(I1055= \"\",\"\",VLOOKUP(I1055,会場マスタ!$A:$B,2,FALSE))","v":""}]
["",null,null,null,null,null,null,null,null,{"$f":"IF(I1056= \"\",\"\",VLOOKUP(I1056,会場マスタ!$A:$B,2,FALSE))","v":""}]
["",null,null,null,null,null,null,null,null,{"$f":"IF(I1057= \"\",\"\",VLOOKUP(I1057,会場マスタ!$A:$B,2,FALSE))","v":""}]
["",null,null,null,null,null,null,null,null,{"$f":"IF(I1058= \"\",\"\",VLOOKUP(I1058,会場マスタ!$A:$B,2,FALSE))","v":""}]
["",null,null,null,null,null,null,null,null,{"$f":"IF(I1059= \"\",\"\",VLOOKUP(I1059,会場マスタ!$A:$B,2,FALSE))","v":""}]
["",null,null,null,null,null,null,null,null,{"$f":"IF(I1060= \"\",\"\",VLOOKUP(I1060,会場マスタ!$A:$B,2,FALSE))","v":""}]
["",null,null,null,null,null,null,null,null,{"$f":"IF(I1061= \"\",\"\",VLOOKUP(I1061,会場マスタ!$A:$B,2,FALSE))","v":""}]
["",null,null,null,null,null,null,null,null,{"$f":"IF(I1062= \"\",\"\",VLOOKUP(I1062,会場マスタ!$A:$B,2,FALSE))","v":""}]
["",null,null,null,null,null,null,null,null,{"$f":"IF(I1063= \"\",\"\",VLOOKUP(I1063,会場マスタ!$A:$B,2,FALSE))","v":""}]
["",null,null,null,null,null,null,null,null,{"$f":"IF(I1064= \"\",\"\",VLOOKUP(I1064,会場マスタ!$A:$B,2,FALSE))","v":""}]
["",null,null,null,null,null,null,null,null,{"$f":"IF(I1065= \"\",\"\",VLOOKUP(I1065,会場マスタ!$A:$B,2,FALSE))","v":""}]
["",null,null,null,null,null,null,null,null,{"$f":"IF(I1066= \"\",\"\",VLOOKUP(I1066,会場マスタ!$A:$B,2,FALSE))","v":""}]
["",null,null,null,null,null,null,null,null,{"$f":"IF(I1067= \"\",\"\",VLOOKUP(I1067,会場マスタ!$A:$B,2,FALSE))","v":""}]
["",null,null,null,null,null,null,null,null,{"$f":"IF(I1068= \"\",\"\",VLOOKUP(I1068,会場マスタ!$A:$B,2,FALSE))","v":""}]
["",null,null,null,null,null,null,null,null,{"$f":"IF(I1069= \"\",\"\",VLOOKUP(I1069,会場マスタ!$A:$B,2,FALSE))","v":""}]
["",null,null,null,null,null,null,null,null,{"$f":"IF(I1070= \"\",\"\",VLOOKUP(I1070,会場マスタ!$A:$B,2,FALSE))","v":""}]
["",null,null,null,null,null,null,null,null,{"$f":"IF(I1071= \"\",\"\",VLOOKUP(I1071,会場マスタ!$A:$B,2,FALSE))","v":""}]
["",null,null,null,null,null,null,null,null,{"$f":"IF(I1072= \"\",\"\",VLOOKUP(I1072,会場マスタ!$A:$B,2,FALSE))","v":""}]
["",null,null,null,null,null,null,null,null,{"$f":"IF(I1073= \"\",\"\",VLOOKUP(I1073,会場マスタ!$A:$B,2,FALSE))","v":""}]
["",null,null,null,null,null,null,null,null,{"$f":"IF(I1074= \"\",\"\",VLOOKUP(I1074,会場マスタ!$A:$B,2,FALSE))","v":""}]
["",null,null,null,null,null,null,null,null,{"$f":"IF(I1075= \"\",\"\",VLOOKUP(I1075,会場マスタ!$A:$B,2,FALSE))","v":""}]
["",null,null,null,null,null,null,null,null,{"$f":"IF(I1076= \"\",\"\",VLOOKUP(I1076,会場マスタ!$A:$B,2,FALSE))","v":""}]
["",null,null,null,null,null,null,null,null,{"$f":"IF(I1077= \"\",\"\",VLOOKUP(I1077,会場マスタ!$A:$B,2,FALSE))","v":""}]
["",null,null,null,null,null,null,null,null,{"$f":"IF(I1078= \"\",\"\",VLOOKUP(I1078,会場マスタ!$A:$B,2,FALSE))","v":""}]
["",null,null,null,null,null,null,null,null,{"$f":"IF(I1079= \"\",\"\",VLOOKUP(I1079,会場マスタ!$A:$B,2,FALSE))","v":""}]
["",null,null,null,null,null,null,null,null,{"$f":"IF(I1080= \"\",\"\",VLOOKUP(I1080,会場マスタ!$A:$B,2,FALSE))","v":""}]
["",null,null,null,null,null,null,null,null,{"$f":"IF(I1081= \"\",\"\",VLOOKUP(I1081,会場マスタ!$A:$B,2,FALSE))","v":""}]
["",null,null,null,null,null,null,null,null,{"$f":"IF(I1082= \"\",\"\",VLOOKUP(I1082,会場マスタ!$A:$B,2,FALSE))","v":""}]
["",null,null,null,null,null,null,null,null,{"$f":"IF(I1083= \"\",\"\",VLOOKUP(I1083,会場マスタ!$A:$B,2,FALSE))","v":""}]
["",null,null,null,null,null,null,null,null,{"$f":"IF(I1084= \"\",\"\",VLOOKUP(I1084,会場マスタ!$A:$B,2,FALSE))","v":""}]
["",null,null,null,null,null,null,null,null,{"$f":"IF(I1085= \"\",\"\",VLOOKUP(I1085,会場マスタ!$A:$B,2,FALSE))","v":""}]
["",null,null,null,null,null,null,null,null,{"$f":"IF(I1086= \"\",\"\",VLOOKUP(I1086,会場マスタ!$A:$B,2,FALSE))","v":""}]
["",null,null,null,null,null,null,null,null,{"$f":"IF(I1087= \"\",\"\",VLOOKUP(I1087,会場マスタ!$A:$B,2,FALSE))","v":""}]
["",null,null,null,null,null,null,null,null,{"$f":"IF(I1088= \"\",\"\",VLOOKUP(I1088,会場マスタ!$A:$B,2,FALSE))","v":""}]
["",null,null,null,null,null,null,null,null,{"$f":"IF(I1089= \"\",\"\",VLOOKUP(I1089,会場マスタ!$A:$B,2,FALSE))","v":""}]
["",null,null,null,null,null,null,null,null,{"$f":"IF(I1090= \"\",\"\",VLOOKUP(I1090,会場マスタ!$A:$B,2,FALSE))","v":""}]
["",null,null,null,null,null,null,null,null,{"$f":"IF(I1091= \"\",\"\",VLOOKUP(I1091,会場マスタ!$A:$B,2,FALSE))","v":""}]
["",null,null,null,null,null,null,null,null,{"$f":"IF(I1092= \"\",\"\",VLOOKUP(I1092,会場マスタ!$A:$B,2,FALSE))","v":""}]
["",null,null,null,null,null,null,null,null,{"$f":"IF(I1093= \"\",\"\",VLOOKUP(I1093,会場マスタ!$A:$B,2,FALSE))","v":""}]
["",null,null,null,null,null,null,null,null,{"$f":"IF(I1094= \"\",\"\",VLOOKUP(I1094,会場マスタ!$A:$B,2,FALSE))","v":""}]
[{"$f":"IF(B1095<>\"\",ROW(A1095)-4,\"\")","v":""},null,null,null,null,null,null,null,null,{"$f":"IF(I1095= \"\",\"\",VLOOKUP(I1095,会場マスタ!$A:$B,2,FALSE))","v":""}]
["",null,null,null,null,null,null,null,null,{"$f":"IF(I1096= \"\",\"\",VLOOKUP(I1096,会場マスタ!$A:$B,2,FALSE))","v":""}]
["",null,null,null,null,null,null,null,null,{"$f":"IF(I1097= \"\",\"\",VLOOKUP(I1097,会場マスタ!$A:$B,2,FALSE))","v":""}]
["",null,null,null,null,null,null,null,null,{"$f":"IF(I1098= \"\",\"\",VLOOKUP(I1098,会場マスタ!$A:$B,2,FALSE))","v":""}]
["",null,null,null,null,null,null,null,null,{"$f":"IF(I1099= \"\",\"\",VLOOKUP(I1099,会場マスタ!$A:$B,2,FALSE))","v":""}]
["",null,null,null,null,null,null,null,null,{"$f":"IF(I1100= \"\",\"\",VLOOKUP(I1100,会場マスタ!$A:$B,2,FALSE))","v":""}]
["",null,null,null,null,null,null,null,null,{"$f":"IF(I1101= \"\",\"\",VLOOKUP(I1101,会場マスタ!$A:$B,2,FALSE))","v":""}]
["",null,null,null,null,null,null,null,null,{"$f":"IF(I1102= \"\",\"\",VLOOKUP(I1102,会場マスタ!$A:$B,2,FALSE))","v":""}]
["",null,null,null,null,null,null,null,null,{"$f":"IF(I1103= \"\",\"\",VLOOKUP(I1103,会場マスタ!$A:$B,2,FALSE))","v":""}]
["",null,null,null,null,null,null,null,null,{"$f":"IF(I1104= \"\",\"\",VLOOKUP(I1104,会場マスタ!$A:$B,2,FALSE))","v":""}]
["",null,null,null,null,null,null,null,null,{"$f":"IF(I1105= \"\",\"\",VLOOKUP(I1105,会場マスタ!$A:$B,2,FALSE))","v":""}]
["",null,null,null,null,null,null,null,null,{"$f":"IF(I1106= \"\",\"\",VLOOKUP(I1106,会場マスタ!$A:$B,2,FALSE))","v":""}]
["",null,null,null,null,null,null,null,null,{"$f":"IF(I1107= \"\",\"\",VLOOKUP(I1107,会場マスタ!$A:$B,2,FALSE))","v":""}]
["",null,null,null,null,null,null,null,null,{"$f":"IF(I1108= \"\",\"\",VLOOKUP(I1108,会場マスタ!$A:$B,2,FALSE))","v":""}]
["",null,null,null,null,null,null,null,null,{"$f":"IF(I1109= \"\",\"\",VLOOKUP(I1109,会場マスタ!$A:$B,2,FALSE))","v":""}]
["",null,null,null,null,null,null,null,null,{"$f":"IF(I1110= \"\",\"\",VLOOKUP(I1110,会場マスタ!$A:$B,2,FALSE))","v":""}]
["",null,null,null,null,null,null,null,null,{"$f":"IF(I1111= \"\",\"\",VLOOKUP(I1111,会場マスタ!$A:$B,2,FALSE))","v":""}]
["",null,null,null,null,null,null,null,null,{"$f":"IF(I1112= \"\",\"\",VLOOKUP(I1112,会場マスタ!$A:$B,2,FALSE))","v":""}]
["",null,null,null,null,null,null,null,null,{"$f":"IF(I1113= \"\",\"\",VLOOKUP(I1113,会場マスタ!$A:$B,2,FALSE))","v":""}]
["",null,null,null,null,null,null,null,null,{"$f":"IF(I1114= \"\",\"\",VLOOKUP(I1114,会場マスタ!$A:$B,2,FALSE))","v":""}]
["",null,null,null,null,null,null,null,null,{"$f":"IF(I1115= \"\",\"\",VLOOKUP(I1115,会場マスタ!$A:$B,2,FALSE))","v":""}]
["",null,null,null,null,null,null,null,null,{"$f":"IF(I1116= \"\",\"\",VLOOKUP(I1116,会場マスタ!$A:$B,2,FALSE))","v":""}]
["",null,null,null,null,null,null,null,null,{"$f":"IF(I1117= \"\",\"\",VLOOKUP(I1117,会場マスタ!$A:$B,2,FALSE))","v":""}]
["",null,null,null,null,null,null,null,null,{"$f":"IF(I1118= \"\",\"\",VLOOKUP(I1118,会場マスタ!$A:$B,2,FALSE))","v":""}]
["",null,null,null,null,null,null,null,null,{"$f":"IF(I1119= \"\",\"\",VLOOKUP(I1119,会場マスタ!$A:$B,2,FALSE))","v":""}]
["",null,null,null,null,null,null,null,null,{"$f":"IF(I1120= \"\",\"\",VLOOKUP(I1120,会場マスタ!$A:$B,2,FALSE))","v":""}]
["",null,null,null,null,null,null,null,null,{"$f":"IF(I1121= \"\",\"\",VLOOKUP(I1121,会場マスタ!$A:$B,2,FALSE))","v":""}]
["",null,null,null,null,null,null,null,null,{"$f":"IF(I1122= \"\",\"\",VLOOKUP(I1122,会場マスタ!$A:$B,2,FALSE))","v":""}]
["",null,null,null,null,null,null,null,null,{"$f":"IF(I1123= \"\",\"\",VLOOKUP(I1123,会場マスタ!$A:$B,2,FALSE))","v":""}]
["",null,null,null,null,null,null,null,null,{"$f":"IF(I1124= \"\",\"\",VLOOKUP(I1124,会場マスタ!$A:$B,2,FALSE))","v":""}]
["",null,null,null,null,null,null,null,null,{"$f":"IF(I1125= \"\",\"\",VLOOKUP(I1125,会場マスタ!$A:$B,2,FALSE))","v":""}]
["",null,null,null,null,null,null,null,null,{"$f":"IF(I1126= \"\",\"\",VLOOKUP(I1126,会場マスタ!$A:$B,2,FALSE))","v":""}]
["",null,null,null,null,null,null,null,null,{"$f":"IF(I1127= \"\",\"\",VLOOKUP(I1127,会場マスタ!$A:$B,2,FALSE))","v":""}]
["",null,null,null,null,null,null,null,null,{"$f":"IF(I1128= \"\",\"\",VLOOKUP(I1128,会場マスタ!$A:$B,2,FALSE))","v":""}]
["",null,null,null,null,null,null,null,null,{"$f":"IF(I1129= \"\",\"\",VLOOKUP(I1129,会場マスタ!$A:$B,2,FALSE))","v":""}]
["",null,null,null,null,null,null,null,null,{"$f":"IF(I1130= \"\",\"\",VLOOKUP(I1130,会場マスタ!$A:$B,2,FALSE))","v":""}]
["",null,null,null,null,null,null,null,null,{"$f":"IF(I1131= \"\",\"\",VLOOKUP(I1131,会場マスタ!$A:$B,2,FALSE))","v":""}]
["",null,null,null,null,null,null,null,null,{"$f":"IF(I1132= \"\",\"\",VLOOKUP(I1132,会場マスタ!$A:$B,2,FALSE))","v":""}]
["",null,null,null,null,null,null,null,null,{"$f":"IF(I1133= \"\",\"\",VLOOKUP(I1133,会場マスタ!$A:$B,2,FALSE))","v":""}]
["",null,null,null,null,null,null,null,null,{"$f":"IF(I1134= \"\",\"\",VLOOKUP(I1134,会場マスタ!$A:$B,2,FALSE))","v":""}]
["",null,null,null,null,null,null,null,null,{"$f":"IF(I1135= \"\",\"\",VLOOKUP(I1135,会場マスタ!$A:$B,2,FALSE))","v":""}]
["",null,null,null,null,null,null,null,null,{"$f":"IF(I1136= \"\",\"\",VLOOKUP(I1136,会場マスタ!$A:$B,2,FALSE))","v":""}]
["",null,null,null,null,null,null,null,null,{"$f":"IF(I1137= \"\",\"\",VLOOKUP(I1137,会場マスタ!$A:$B,2,FALSE))","v":""}]
["",null,null,null,null,null,null,null,null,{"$f":"IF(I1138= \"\",\"\",VLOOKUP(I1138,会場マスタ!$A:$B,2,FALSE))","v":""}]
["",null,null,null,null,null,null,null,null,{"$f":"IF(I1139= \"\",\"\",VLOOKUP(I1139,会場マスタ!$A:$B,2,FALSE))","v":""}]
["",null,null,null,null,null,null,null,null,{"$f":"IF(I1140= \"\",\"\",VLOOKUP(I1140,会場マスタ!$A:$B,2,FALSE))","v":""}]
["",null,null,null,null,null,null,null,null,{"$f":"IF(I1141= \"\",\"\",VLOOKUP(I1141,会場マスタ!$A:$B,2,FALSE))","v":""}]
["",null,null,null,null,null,null,null,null,{"$f":"IF(I1142= \"\",\"\",VLOOKUP(I1142,会場マスタ!$A:$B,2,FALSE))","v":""}]
["",null,null,null,null,null,null,null,null,{"$f":"IF(I1143= \"\",\"\",VLOOKUP(I1143,会場マスタ!$A:$B,2,FALSE))","v":""}]
["",null,null,null,null,null,null,null,null,{"$f":"IF(I1144= \"\",\"\",VLOOKUP(I1144,会場マスタ!$A:$B,2,FALSE))","v":""}]
["",null,null,null,null,null,null,null,null,{"$f":"IF(I1145= \"\",\"\",VLOOKUP(I1145,会場マスタ!$A:$B,2,FALSE))","v":""}]
["",null,null,null,null,null,null,null,null,{"$f":"IF(I1146= \"\",\"\",VLOOKUP(I1146,会場マスタ!$A:$B,2,FALSE))","v":""}]
["",null,null,null,null,null,null,null,null,{"$f":"IF(I1147= \"\",\"\",VLOOKUP(I1147,会場マスタ!$A:$B,2,FALSE))","v":""}]
["",null,null,null,null,null,null,null,null,{"$f":"IF(I1148= \"\",\"\",VLOOKUP(I1148,会場マスタ!$A:$B,2,FALSE))","v":""}]
["",null,null,null,null,null,null,null,null,{"$f":"IF(I1149= \"\",\"\",VLOOKUP(I1149,会場マスタ!$A:$B,2,FALSE))","v":""}]
["",null,null,null,null,null,null,null,null,{"$f":"IF(I1150= \"\",\"\",VLOOKUP(I1150,会場マスタ!$A:$B,2,FALSE))","v":""}]
["",null,null,null,null,null,null,null,null,{"$f":"IF(I1151= \"\",\"\",VLOOKUP(I1151,会場マスタ!$A:$B,2,FALSE))","v":""}]
["",null,null,null,null,null,null,null,null,{"$f":"IF(I1152= \"\",\"\",VLOOKUP(I1152,会場マスタ!$A:$B,2,FALSE))","v":""}]
["",null,null,null,null,null,null,null,null,{"$f":"IF(I1153= \"\",\"\",VLOOKUP(I1153,会場マスタ!$A:$B,2,FALSE))","v":""}]
["",null,null,null,null,null,null,null,null,{"$f":"IF(I1154= \"\",\"\",VLOOKUP(I1154,会場マスタ!$A:$B,2,FALSE))","v":""}]
["",null,null,null,null,null,null,null,null,{"$f":"IF(I1155= \"\",\"\",VLOOKUP(I1155,会場マスタ!$A:$B,2,FALSE))","v":""}]
["",null,null,null,null,null,null,null,null,{"$f":"IF(I1156= \"\",\"\",VLOOKUP(I1156,会場マスタ!$A:$B,2,FALSE))","v":""}]
["",null,null,null,null,null,null,null,null,{"$f":"IF(I1157= \"\",\"\",VLOOKUP(I1157,会場マスタ!$A:$B,2,FALSE))","v":""}]
["",null,null,null,null,null,null,null,null,{"$f":"IF(I1158= \"\",\"\",VLOOKUP(I1158,会場マスタ!$A:$B,2,FALSE))","v":""}]
[{"$f":"IF(B1159<>\"\",ROW(A1159)-4,\"\")","v":""},null,null,null,null,null,null,null,null,{"$f":"IF(I1159= \"\",\"\",VLOOKUP(I1159,会場マスタ!$A:$B,2,FALSE))","v":""}]
["",null,null,null,null,null,null,null,null,{"$f":"IF(I1160= \"\",\"\",VLOOKUP(I1160,会場マスタ!$A:$B,2,FALSE))","v":""}]
["",null,null,null,null,null,null,null,null,{"$f":"IF(I1161= \"\",\"\",VLOOKUP(I1161,会場マスタ!$A:$B,2,FALSE))","v":""}]
["",null,null,null,null,null,null,null,null,{"$f":"IF(I1162= \"\",\"\",VLOOKUP(I1162,会場マスタ!$A:$B,2,FALSE))","v":""}]
["",null,null,null,null,null,null,null,null,{"$f":"IF(I1163= \"\",\"\",VLOOKUP(I1163,会場マスタ!$A:$B,2,FALSE))","v":""}]
["",null,null,null,null,null,null,null,null,{"$f":"IF(I1164= \"\",\"\",VLOOKUP(I1164,会場マスタ!$A:$B,2,FALSE))","v":""}]
["",null,null,null,null,null,null,null,null,{"$f":"IF(I1165= \"\",\"\",VLOOKUP(I1165,会場マスタ!$A:$B,2,FALSE))","v":""}]
["",null,null,null,null,null,null,null,null,{"$f":"IF(I1166= \"\",\"\",VLOOKUP(I1166,会場マスタ!$A:$B,2,FALSE))","v":""}]
["",null,null,null,null,null,null,null,null,{"$f":"IF(I1167= \"\",\"\",VLOOKUP(I1167,会場マスタ!$A:$B,2,FALSE))","v":""}]
["",null,null,null,null,null,null,null,null,{"$f":"IF(I1168= \"\",\"\",VLOOKUP(I1168,会場マスタ!$A:$B,2,FALSE))","v":""}]
["",null,null,null,null,null,null,null,null,{"$f":"IF(I1169= \"\",\"\",VLOOKUP(I1169,会場マスタ!$A:$B,2,FALSE))","v":""}]
["",null,null,null,null,null,null,null,null,{"$f":"IF(I1170= \"\",\"\",VLOOKUP(I1170,会場マスタ!$A:$B,2,FALSE))","v":""}]
["",null,null,null,null,null,null,null,null,{"$f":"IF(I1171= \"\",\"\",VLOOKUP(I1171,会場マスタ!$A:$B,2,FALSE))","v":""}]
["",null,null,null,null,null,null,null,null,{"$f":"IF(I1172= \"\",\"\",VLOOKUP(I1172,会場マスタ!$A:$B,2,FALSE))","v":""}]
["",null,null,null,null,null,null,null,null,{"$f":"IF(I1173= \"\",\"\",VLOOKUP(I1173,会場マスタ!$A:$B,2,FALSE))","v":""}]
["",null,null,null,null,null,null,null,null,{"$f":"IF(I1174= \"\",\"\",VLOOKUP(I1174,会場マスタ!$A:$B,2,FALSE))","v":""}]
["",null,null,null,null,null,null,null,null,{"$f":"IF(I1175= \"\",\"\",VLOOKUP(I1175,会場マスタ!$A:$B,2,FALSE))","v":""}]
["",null,null,null,null,null,null,null,null,{"$f":"IF(I1176= \"\",\"\",VLOOKUP(I1176,会場マスタ!$A:$B,2,FALSE))","v":""}]
["",null,null,null,null,null,null,null,null,{"$f":"IF(I1177= \"\",\"\",VLOOKUP(I1177,会場マスタ!$A:$B,2,FALSE))","v":""}]
["",null,null,null,null,null,null,null,null,{"$f":"IF(I1178= \"\",\"\",VLOOKUP(I1178,会場マスタ!$A:$B,2,FALSE))","v":""}]
["",null,null,null,null,null,null,null,null,{"$f":"IF(I1179= \"\",\"\",VLOOKUP(I1179,会場マスタ!$A:$B,2,FALSE))","v":""}]
["",null,null,null,null,null,null,null,null,{"$f":"IF(I1180= \"\",\"\",VLOOKUP(I1180,会場マスタ!$A:$B,2,FALSE))","v":""}]
["",null,null,null,null,null,null,null,null,{"$f":"IF(I1181= \"\",\"\",VLOOKUP(I1181,会場マスタ!$A:$B,2,FALSE))","v":""}]
["",null,null,null,null,null,null,null,null,{"$f":"IF(I1182= \"\",\"\",VLOOKUP(I1182,会場マスタ!$A:$B,2,FALSE))","v":""}]
["",null,null,null,null,null,null,null,null,{"$f":"IF(I1183= \"\",\"\",VLOOKUP(I1183,会場マスタ!$A:$B,2,FALSE))","v":""}]
["",null,null,null,null,null,null,null,null,{"$f":"IF(I1184= \"\",\"\",VLOOKUP(I1184,会場マスタ!$A:$B,2,FALSE))","v":""}]
["",null,null,null,null,null,null,null,null,{"$f":"IF(I1185= \"\",\"\",VLOOKUP(I1185,会場マスタ!$A:$B,2,FALSE))","v":""}]
["",null,null,null,null,null,null,null,null,{"$f":"IF(I1186= \"\",\"\",VLOOKUP(I1186,会場マスタ!$A:$B,2,FALSE))","v":""}]
["",null,null,null,null,null,null,null,null,{"$f":"IF(I1187= \"\",\"\",VLOOKUP(I1187,会場マスタ!$A:$B,2,FALSE))","v":""}]
["",null,null,null,null,null,null,null,null,{"$f":"IF(I1188= \"\",\"\",VLOOKUP(I1188,会場マスタ!$A:$B,2,FALSE))","v":""}]
["",null,null,null,null,null,null,null,null,{"$f":"IF(I1189= \"\",\"\",VLOOKUP(I1189,会場マスタ!$A:$B,2,FALSE))","v":""}]
["",null,null,null,null,null,null,null,null,{"$f":"IF(I1190= \"\",\"\",VLOOKUP(I1190,会場マスタ!$A:$B,2,FALSE))","v":""}]
["",null,null,null,null,null,null,null,null,{"$f":"IF(I1191= \"\",\"\",VLOOKUP(I1191,会場マスタ!$A:$B,2,FALSE))","v":""}]
["",null,null,null,null,null,null,null,null,{"$f":"IF(I1192= \"\",\"\",VLOOKUP(I1192,会場マスタ!$A:$B,2,FALSE))","v":""}]
["",null,null,null,null,null,null,null,null,{"$f":"IF(I1193= \"\",\"\",VLOOKUP(I1193,会場マスタ!$A:$B,2,FALSE))","v":""}]
["",null,null,null,null,null,null,null,null,{"$f":"IF(I1194= \"\",\"\",VLOOKUP(I1194,会場マスタ!$A:$B,2,FALSE))","v":""}]
["",null,null,null,null,null,null,null,null,{"$f":"IF(I1195= \"\",\"\",VLOOKUP(I1195,会場マスタ!$A:$B,2,FALSE))","v":""}]
["",null,null,null,null,null,null,null,null,{"$f":"IF(I1196= \"\",\"\",VLOOKUP(I1196,会場マスタ!$A:$B,2,FALSE))","v":""}]
["",null,null,null,null,null,null,null,null,{"$f":"IF(I1197= \"\",\"\",VLOOKUP(I1197,会場マスタ!$A:$B,2,FALSE))","v":""}]
["",null,null,null,null,null,null,null,null,{"$f":"IF(I1198= \"\",\"\",VLOOKUP(I1198,会場マスタ!$A:$B,2,FALSE))","v":""}]
["",null,null,null,null,null,null,null,null,{"$f":"IF(I1199= \"\",\"\",VLOOKUP(I1199,会場マスタ!$A:$B,2,FALSE))","v":""}]
["",null,null,null,null,null,null,null,null,{"$f":"IF(I1200= \"\",\"\",VLOOKUP(I1200,会場マスタ!$A:$B,2,FALSE))","v":""}]
["",null,null,null,null,null,null,null,null,{"$f":"IF(I1201= \"\",\"\",VLOOKUP(I1201,会場マスタ!$A:$B,2,FALSE))","v":""}]
["",null,null,null,null,null,null,null,null,{"$f":"IF(I1202= \"\",\"\",VLOOKUP(I1202,会場マスタ!$A:$B,2,FALSE))","v":""}]
["",null,null,null,null,null,null,null,null,{"$f":"IF(I1203= \"\",\"\",VLOOKUP(I1203,会場マスタ!$A:$B,2,FALSE))","v":""}]
["",null,null,null,null,null,null,null,null,{"$f":"IF(I1204= \"\",\"\",VLOOKUP(I1204,会場マスタ!$A:$B,2,FALSE))","v":""}]
["",null,null,null,null,null,null,null,null,{"$f":"IF(I1205= \"\",\"\",VLOOKUP(I1205,会場マスタ!$A:$B,2,FALSE))","v":""}]
["",null,null,null,null,null,null,null,null,{"$f":"IF(I1206= \"\",\"\",VLOOKUP(I1206,会場マスタ!$A:$B,2,FALSE))","v":""}]
["",null,null,null,null,null,null,null,null,{"$f":"IF(I1207= \"\",\"\",VLOOKUP(I1207,会場マスタ!$A:$B,2,FALSE))","v":""}]
["",null,null,null,null,null,null,null,null,{"$f":"IF(I1208= \"\",\"\",VLOOKUP(I1208,会場マスタ!$A:$B,2,FALSE))","v":""}]
["",null,null,null,null,null,null,null,null,{"$f":"IF(I1209= \"\",\"\",VLOOKUP(I1209,会場マスタ!$A:$B,2,FALSE))","v":""}]
["",null,null,null,null,null,null,null,null,{"$f":"IF(I1210= \"\",\"\",VLOOKUP(I1210,会場マスタ!$A:$B,2,FALSE))","v":""}]
["",null,null,null,null,null,null,null,null,{"$f":"IF(I1211= \"\",\"\",VLOOKUP(I1211,会場マスタ!$A:$B,2,FALSE))","v":""}]
["",null,null,null,null,null,null,null,null,{"$f":"IF(I1212= \"\",\"\",VLOOKUP(I1212,会場マスタ!$A:$B,2,FALSE))","v":""}]
["",null,null,null,null,null,null,null,null,{"$f":"IF(I1213= \"\",\"\",VLOOKUP(I1213,会場マスタ!$A:$B,2,FALSE))","v":""}]
["",null,null,null,null,null,null,null,null,{"$f":"IF(I1214= \"\",\"\",VLOOKUP(I1214,会場マスタ!$A:$B,2,FALSE))","v":""}]
["",null,null,null,null,null,null,null,null,{"$f":"IF(I1215= \"\",\"\",VLOOKUP(I1215,会場マスタ!$A:$B,2,FALSE))","v":""}]
["",null,null,null,null,null,null,null,null,{"$f":"IF(I1216= \"\",\"\",VLOOKUP(I1216,会場マスタ!$A:$B,2,FALSE))","v":""}]
["",null,null,null,null,null,null,null,null,{"$f":"IF(I1217= \"\",\"\",VLOOKUP(I1217,会場マスタ!$A:$B,2,FALSE))","v":""}]
["",null,null,null,null,null,null,null,null,{"$f":"IF(I1218= \"\",\"\",VLOOKUP(I1218,会場マスタ!$A:$B,2,FALSE))","v":""}]
["",null,null,null,null,null,null,null,null,{"$f":"IF(I1219= \"\",\"\",VLOOKUP(I1219,会場マスタ!$A:$B,2,FALSE))","v":""}]
["",null,null,null,null,null,null,null,null,{"$f":"IF(I1220= \"\",\"\",VLOOKUP(I1220,会場マスタ!$A:$B,2,FALSE))","v":""}]
["",null,null,null,null,null,null,null,null,{"$f":"IF(I1221= \"\",\"\",VLOOKUP(I1221,会場マスタ!$A:$B,2,FALSE))","v":""}]
["",null,null,null,null,null,null,null,null,{"$f":"IF(I1222= \"\",\"\",VLOOKUP(I1222,会場マスタ!$A:$B,2,FALSE))","v":""}]
[{"$f":"IF(B1223<>\"\",ROW(A1223)-4,\"\")","v":""},null,null,null,null,null,null,null,null,{"$f":"IF(I1223= \"\",\"\",VLOOKUP(I1223,会場マスタ!$A:$B,2,FALSE))","v":""}]
["",null,null,null,null,null,null,null,null,{"$f":"IF(I1224= \"\",\"\",VLOOKUP(I1224,会場マスタ!$A:$B,2,FALSE))","v":""}]
["",null,null,null,null,null,null,null,null,{"$f":"IF(I1225= \"\",\"\",VLOOKUP(I1225,会場マスタ!$A:$B,2,FALSE))","v":""}]
["",null,null,null,null,null,null,null,null,{"$f":"IF(I1226= \"\",\"\",VLOOKUP(I1226,会場マスタ!$A:$B,2,FALSE))","v":""}]
["",null,null,null,null,null,null,null,null,{"$f":"IF(I1227= \"\",\"\",VLOOKUP(I1227,会場マスタ!$A:$B,2,FALSE))","v":""}]
["",null,null,null,null,null,null,null,null,{"$f":"IF(I1228= \"\",\"\",VLOOKUP(I1228,会場マスタ!$A:$B,2,FALSE))","v":""}]
["",null,null,null,null,null,null,null,null,{"$f":"IF(I1229= \"\",\"\",VLOOKUP(I1229,会場マスタ!$A:$B,2,FALSE))","v":""}]
["",null,null,null,null,null,null,null,null,{"$f":"IF(I1230= \"\",\"\",VLOOKUP(I1230,会場マスタ!$A:$B,2,FALSE))","v":""}]
["",null,null,null,null,null,null,null,null,{"$f":"IF(I1231= \"\",\"\",VLOOKUP(I1231,会場マスタ!$A:$B,2,FALSE))","v":""}]
["",null,null,null,null,null,null,null,null,{"$f":"IF(I1232= \"\",\"\",VLOOKUP(I1232,会場マスタ!$A:$B,2,FALSE))","v":""}]
["",null,null,null,null,null,null,null,null,{"$f":"IF(I1233= \"\",\"\",VLOOKUP(I1233,会場マスタ!$A:$B,2,FALSE))","v":""}]
["",null,null,null,null,null,null,null,null,{"$f":"IF(I1234= \"\",\"\",VLOOKUP(I1234,会場マスタ!$A:$B,2,FALSE))","v":""}]
["",null,null,null,null,null,null,null,null,{"$f":"IF(I1235= \"\",\"\",VLOOKUP(I1235,会場マスタ!$A:$B,2,FALSE))","v":""}]
["",null,null,null,null,null,null,null,null,{"$f":"IF(I1236= \"\",\"\",VLOOKUP(I1236,会場マスタ!$A:$B,2,FALSE))","v":""}]
["",null,null,null,null,null,null,null,null,{"$f":"IF(I1237= \"\",\"\",VLOOKUP(I1237,会場マスタ!$A:$B,2,FALSE))","v":""}]
["",null,null,null,null,null,null,null,null,{"$f":"IF(I1238= \"\",\"\",VLOOKUP(I1238,会場マスタ!$A:$B,2,FALSE))","v":""}]
["",null,null,null,null,null,null,null,null,{"$f":"IF(I1239= \"\",\"\",VLOOKUP(I1239,会場マスタ!$A:$B,2,FALSE))","v":""}]
["",null,null,null,null,null,null,null,null,{"$f":"IF(I1240= \"\",\"\",VLOOKUP(I1240,会場マスタ!$A:$B,2,FALSE))","v":""}]
["",null,null,null,null,null,null,null,null,{"$f":"IF(I1241= \"\",\"\",VLOOKUP(I1241,会場マスタ!$A:$B,2,FALSE))","v":""}]
["",null,null,null,null,null,null,null,null,{"$f":"IF(I1242= \"\",\"\",VLOOKUP(I1242,会場マスタ!$A:$B,2,FALSE))","v":""}]
["",null,null,null,null,null,null,null,null,{"$f":"IF(I1243= \"\",\"\",VLOOKUP(I1243,会場マスタ!$A:$B,2,FALSE))","v":""}]
["",null,null,null,null,null,null,null,null,{"$f":"IF(I1244= \"\",\"\",VLOOKUP(I1244,会場マスタ!$A:$B,2,FALSE))","v":""}]
["",null,null,null,null,null,null,null,null,{"$f":"IF(I1245= \"\",\"\",VLOOKUP(I1245,会場マスタ!$A:$B,2,FALSE))","v":""}]
["",null,null,null,null,null,null,null,null,{"$f":"IF(I1246= \"\",\"\",VLOOKUP(I1246,会場マスタ!$A:$B,2,FALSE))","v":""}]
["",null,null,null,null,null,null,null,null,{"$f":"IF(I1247= \"\",\"\",VLOOKUP(I1247,会場マスタ!$A:$B,2,FALSE))","v":""}]
["",null,null,null,null,null,null,null,null,{"$f":"IF(I1248= \"\",\"\",VLOOKUP(I1248,会場マスタ!$A:$B,2,FALSE))","v":""}]
["",null,null,null,null,null,null,null,null,{"$f":"IF(I1249= \"\",\"\",VLOOKUP(I1249,会場マスタ!$A:$B,2,FALSE))","v":""}]
["",null,null,null,null,null,null,null,null,{"$f":"IF(I1250= \"\",\"\",VLOOKUP(I1250,会場マスタ!$A:$B,2,FALSE))","v":""}]
["",null,null,null,null,null,null,null,null,{"$f":"IF(I1251= \"\",\"\",VLOOKUP(I1251,会場マスタ!$A:$B,2,FALSE))","v":""}]
["",null,null,null,null,null,null,null,null,{"$f":"IF(I1252= \"\",\"\",VLOOKUP(I1252,会場マスタ!$A:$B,2,FALSE))","v":""}]
["",null,null,null,null,null,null,null,null,{"$f":"IF(I1253= \"\",\"\",VLOOKUP(I1253,会場マスタ!$A:$B,2,FALSE))","v":""}]
["",null,null,null,null,null,null,null,null,{"$f":"IF(I1254= \"\",\"\",VLOOKUP(I1254,会場マスタ!$A:$B,2,FALSE))","v":""}]
["",null,null,null,null,null,null,null,null,{"$f":"IF(I1255= \"\",\"\",VLOOKUP(I1255,会場マスタ!$A:$B,2,FALSE))","v":""}]
["",null,null,null,null,null,null,null,null,{"$f":"IF(I1256= \"\",\"\",VLOOKUP(I1256,会場マスタ!$A:$B,2,FALSE))","v":""}]
["",null,null,null,null,null,null,null,null,{"$f":"IF(I1257= \"\",\"\",VLOOKUP(I1257,会場マスタ!$A:$B,2,FALSE))","v":""}]
["",null,null,null,null,null,null,null,null,{"$f":"IF(I1258= \"\",\"\",VLOOKUP(I1258,会場マスタ!$A:$B,2,FALSE))","v":""}]
["",null,null,null,null,null,null,null,null,{"$f":"IF(I1259= \"\",\"\",VLOOKUP(I1259,会場マスタ!$A:$B,2,FALSE))","v":""}]
["",null,null,null,null,null,null,null,null,{"$f":"IF(I1260= \"\",\"\",VLOOKUP(I1260,会場マスタ!$A:$B,2,FALSE))","v":""}]
["",null,null,null,null,null,null,null,null,{"$f":"IF(I1261= \"\",\"\",VLOOKUP(I1261,会場マスタ!$A:$B,2,FALSE))","v":""}]
["",null,null,null,null,null,null,null,null,{"$f":"IF(I1262= \"\",\"\",VLOOKUP(I1262,会場マスタ!$A:$B,2,FALSE))","v":""}]
["",null,null,null,null,null,null,null,null,{"$f":"IF(I1263= \"\",\"\",VLOOKUP(I1263,会場マスタ!$A:$B,2,FALSE))","v":""}]
["",null,null,null,null,null,null,null,null,{"$f":"IF(I1264= \"\",\"\",VLOOKUP(I1264,会場マスタ!$A:$B,2,FALSE))","v":""}]
["",null,null,null,null,null,null,null,null,{"$f":"IF(I1265= \"\",\"\",VLOOKUP(I1265,会場マスタ!$A:$B,2,FALSE))","v":""}]
["",null,null,null,null,null,null,null,null,{"$f":"IF(I1266= \"\",\"\",VLOOKUP(I1266,会場マスタ!$A:$B,2,FALSE))","v":""}]
["",null,null,null,null,null,null,null,null,{"$f":"IF(I1267= \"\",\"\",VLOOKUP(I1267,会場マスタ!$A:$B,2,FALSE))","v":""}]
["",null,null,null,null,null,null,null,null,{"$f":"IF(I1268= \"\",\"\",VLOOKUP(I1268,会場マスタ!$A:$B,2,FALSE))","v":""}]
["",null,null,null,null,null,null,null,null,{"$f":"IF(I1269= \"\",\"\",VLOOKUP(I1269,会場マスタ!$A:$B,2,FALSE))","v":""}]
["",null,null,null,null,null,null,null,null,{"$f":"IF(I1270= \"\",\"\",VLOOKUP(I1270,会場マスタ!$A:$B,2,FALSE))","v":""}]
["",null,null,null,null,null,null,null,null,{"$f":"IF(I1271= \"\",\"\",VLOOKUP(I1271,会場マスタ!$A:$B,2,FALSE))","v":""}]
["",null,null,null,null,null,null,null,null,{"$f":"IF(I1272= \"\",\"\",VLOOKUP(I1272,会場マスタ!$A:$B,2,FALSE))","v":""}]
["",null,null,null,null,null,null,null,null,{"$f":"IF(I1273= \"\",\"\",VLOOKUP(I1273,会場マスタ!$A:$B,2,FALSE))","v":""}]
["",null,null,null,null,null,null,null,null,{"$f":"IF(I1274= \"\",\"\",VLOOKUP(I1274,会場マスタ!$A:$B,2,FALSE))","v":""}]
["",null,null,null,null,null,null,null,null,{"$f":"IF(I1275= \"\",\"\",VLOOKUP(I1275,会場マスタ!$A:$B,2,FALSE))","v":""}]
["",null,null,null,null,null,null,null,null,{"$f":"IF(I1276= \"\",\"\",VLOOKUP(I1276,会場マスタ!$A:$B,2,FALSE))","v":""}]
["",null,null,null,null,null,null,null,null,{"$f":"IF(I1277= \"\",\"\",VLOOKUP(I1277,会場マスタ!$A:$B,2,FALSE))","v":""}]
["",null,null,null,null,null,null,null,null,{"$f":"IF(I1278= \"\",\"\",VLOOKUP(I1278,会場マスタ!$A:$B,2,FALSE))","v":""}]
["",null,null,null,null,null,null,null,null,{"$f":"IF(I1279= \"\",\"\",VLOOKUP(I1279,会場マスタ!$A:$B,2,FALSE))","v":""}]
["",null,null,null,null,null,null,null,null,{"$f":"IF(I1280= \"\",\"\",VLOOKUP(I1280,会場マスタ!$A:$B,2,FALSE))","v":""}]
["",null,null,null,null,null,null,null,null,{"$f":"IF(I1281= \"\",\"\",VLOOKUP(I1281,会場マスタ!$A:$B,2,FALSE))","v":""}]
["",null,null,null,null,null,null,null,null,{"$f":"IF(I1282= \"\",\"\",VLOOKUP(I1282,会場マスタ!$A:$B,2,FALSE))","v":""}]
["",null,null,null,null,null,null,null,null,{"$f":"IF(I1283= \"\",\"\",VLOOKUP(I1283,会場マスタ!$A:$B,2,FALSE))","v":""}]
["",null,null,null,null,null,null,null,null,{"$f":"IF(I1284= \"\",\"\",VLOOKUP(I1284,会場マスタ!$A:$B,2,FALSE))","v":""}]
["",null,null,null,null,null,null,null,null,{"$f":"IF(I1285= \"\",\"\",VLOOKUP(I1285,会場マスタ!$A:$B,2,FALSE))","v":""}]
["",null,null,null,null,null,null,null,null,{"$f":"IF(I1286= \"\",\"\",VLOOKUP(I1286,会場マスタ!$A:$B,2,FALSE))","v":""}]
[{"$f":"IF(B1287<>\"\",ROW(A1287)-4,\"\")","v":""},null,null,null,null,null,null,null,null,{"$f":"IF(I1287= \"\",\"\",VLOOKUP(I1287,会場マスタ!$A:$B,2,FALSE))","v":""}]
["",null,null,null,null,null,null,null,null,{"$f":"IF(I1288= \"\",\"\",VLOOKUP(I1288,会場マスタ!$A:$B,2,FALSE))","v":""}]
["",null,null,null,null,null,null,null,null,{"$f":"IF(I1289= \"\",\"\",VLOOKUP(I1289,会場マスタ!$A:$B,2,FALSE))","v":""}]
["",null,null,null,null,null,null,null,null,{"$f":"IF(I1290= \"\",\"\",VLOOKUP(I1290,会場マスタ!$A:$B,2,FALSE))","v":""}]
["",null,null,null,null,null,null,null,null,{"$f":"IF(I1291= \"\",\"\",VLOOKUP(I1291,会場マスタ!$A:$B,2,FALSE))","v":""}]
["",null,null,null,null,null,null,null,null,{"$f":"IF(I1292= \"\",\"\",VLOOKUP(I1292,会場マスタ!$A:$B,2,FALSE))","v":""}]
["",null,null,null,null,null,null,null,null,{"$f":"IF(I1293= \"\",\"\",VLOOKUP(I1293,会場マスタ!$A:$B,2,FALSE))","v":""}]
["",null,null,null,null,null,null,null,null,{"$f":"IF(I1294= \"\",\"\",VLOOKUP(I1294,会場マスタ!$A:$B,2,FALSE))","v":""}]
["",null,null,null,null,null,null,null,null,{"$f":"IF(I1295= \"\",\"\",VLOOKUP(I1295,会場マスタ!$A:$B,2,FALSE))","v":""}]
["",null,null,null,null,null,null,null,null,{"$f":"IF(I1296= \"\",\"\",VLOOKUP(I1296,会場マスタ!$A:$B,2,FALSE))","v":""}]
["",null,null,null,null,null,null,null,null,{"$f":"IF(I1297= \"\",\"\",VLOOKUP(I1297,会場マスタ!$A:$B,2,FALSE))","v":""}]
["",null,null,null,null,null,null,null,null,{"$f":"IF(I1298= \"\",\"\",VLOOKUP(I1298,会場マスタ!$A:$B,2,FALSE))","v":""}]
["",null,null,null,null,null,null,null,null,{"$f":"IF(I1299= \"\",\"\",VLOOKUP(I1299,会場マスタ!$A:$B,2,FALSE))","v":""}]
["",null,null,null,null,null,null,null,null,{"$f":"IF(I1300= \"\",\"\",VLOOKUP(I1300,会場マスタ!$A:$B,2,FALSE))","v":""}]
["",null,null,null,null,null,null,null,null,{"$f":"IF(I1301= \"\",\"\",VLOOKUP(I1301,会場マスタ!$A:$B,2,FALSE))","v":""}]
["",null,null,null,null,null,null,null,null,{"$f":"IF(I1302= \"\",\"\",VLOOKUP(I1302,会場マスタ!$A:$B,2,FALSE))","v":""}]
["",null,null,null,null,null,null,null,null,{"$f":"IF(I1303= \"\",\"\",VLOOKUP(I1303,会場マスタ!$A:$B,2,FALSE))","v":""}]
["",null,null,null,null,null,null,null,null,{"$f":"IF(I1304= \"\",\"\",VLOOKUP(I1304,会場マスタ!$A:$B,2,FALSE))","v":""}]
["",null,null,null,null,null,null,null,null,{"$f":"IF(I1305= \"\",\"\",VLOOKUP(I1305,会場マスタ!$A:$B,2,FALSE))","v":""}]
["",null,null,null,null,null,null,null,null,{"$f":"IF(I1306= \"\",\"\",VLOOKUP(I1306,会場マスタ!$A:$B,2,FALSE))","v":""}]
["",null,null,null,null,null,null,null,null,{"$f":"IF(I1307= \"\",\"\",VLOOKUP(I1307,会場マスタ!$A:$B,2,FALSE))","v":""}]
["",null,null,null,null,null,null,null,null,{"$f":"IF(I1308= \"\",\"\",VLOOKUP(I1308,会場マスタ!$A:$B,2,FALSE))","v":""}]
["",null,null,null,null,null,null,null,null,{"$f":"IF(I1309= \"\",\"\",VLOOKUP(I1309,会場マスタ!$A:$B,2,FALSE))","v":""}]
["",null,null,null,null,null,null,null,null,{"$f":"IF(I1310= \"\",\"\",VLOOKUP(I1310,会場マスタ!$A:$B,2,FALSE))","v":""}]
["",null,null,null,null,null,null,null,null,{"$f":"IF(I1311= \"\",\"\",VLOOKUP(I1311,会場マスタ!$A:$B,2,FALSE))","v":""}]
["",null,null,null,null,null,null,null,null,{"$f":"IF(I1312= \"\",\"\",VLOOKUP(I1312,会場マスタ!$A:$B,2,FALSE))","v":""}]
["",null,null,null,null,null,null,null,null,{"$f":"IF(I1313= \"\",\"\",VLOOKUP(I1313,会場マスタ!$A:$B,2,FALSE))","v":""}]
["",null,null,null,null,null,null,null,null,{"$f":"IF(I1314= \"\",\"\",VLOOKUP(I1314,会場マスタ!$A:$B,2,FALSE))","v":""}]
["",null,null,null,null,null,null,null,null,{"$f":"IF(I1315= \"\",\"\",VLOOKUP(I1315,会場マスタ!$A:$B,2,FALSE))","v":""}]
["",null,null,null,null,null,null,null,null,{"$f":"IF(I1316= \"\",\"\",VLOOKUP(I1316,会場マスタ!$A:$B,2,FALSE))","v":""}]
["",null,null,null,null,null,null,null,null,{"$f":"IF(I1317= \"\",\"\",VLOOKUP(I1317,会場マスタ!$A:$B,2,FALSE))","v":""}]
["",null,null,null,null,null,null,null,null,{"$f":"IF(I1318= \"\",\"\",VLOOKUP(I1318,会場マスタ!$A:$B,2,FALSE))","v":""}]
["",null,null,null,null,null,null,null,null,{"$f":"IF(I1319= \"\",\"\",VLOOKUP(I1319,会場マスタ!$A:$B,2,FALSE))","v":""}]
["",null,null,null,null,null,null,null,null,{"$f":"IF(I1320= \"\",\"\",VLOOKUP(I1320,会場マスタ!$A:$B,2,FALSE))","v":""}]
["",null,null,null,null,null,null,null,null,{"$f":"IF(I1321= \"\",\"\",VLOOKUP(I1321,会場マスタ!$A:$B,2,FALSE))","v":""}]
["",null,null,null,null,null,null,null,null,{"$f":"IF(I1322= \"\",\"\",VLOOKUP(I1322,会場マスタ!$A:$B,2,FALSE))","v":""}]
["",null,null,null,null,null,null,null,null,{"$f":"IF(I1323= \"\",\"\",VLOOKUP(I1323,会場マスタ!$A:$B,2,FALSE))","v":""}]
["",null,null,null,null,null,null,null,null,{"$f":"IF(I1324= \"\",\"\",VLOOKUP(I1324,会場マスタ!$A:$B,2,FALSE))","v":""}]
["",null,null,null,null,null,null,null,null,{"$f":"IF(I1325= \"\",\"\",VLOOKUP(I1325,会場マスタ!$A:$B,2,FALSE))","v":""}]
["",null,null,null,null,null,null,null,null,{"$f":"IF(I1326= \"\",\"\",VLOOKUP(I1326,会場マスタ!$A:$B,2,FALSE))","v":""}]
["",null,null,null,null,null,null,null,null,{"$f":"IF(I1327= \"\",\"\",VLOOKUP(I1327,会場マスタ!$A:$B,2,FALSE))","v":""}]
["",null,null,null,null,null,null,null,null,{"$f":"IF(I1328= \"\",\"\",VLOOKUP(I1328,会場マスタ!$A:$B,2,FALSE))","v":""}]
["",null,null,null,null,null,null,null,null,{"$f":"IF(I1329= \"\",\"\",VLOOKUP(I1329,会場マスタ!$A:$B,2,FALSE))","v":""}]
["",null,null,null,null,null,null,null,null,{"$f":"IF(I1330= \"\",\"\",VLOOKUP(I1330,会場マスタ!$A:$B,2,FALSE))","v":""}]
["",null,null,null,null,null,null,null,null,{"$f":"IF(I1331= \"\",\"\",VLOOKUP(I1331,会場マスタ!$A:$B,2,FALSE))","v":""}]
["",null,null,null,null,null,null,null,null,{"$f":"IF(I1332= \"\",\"\",VLOOKUP(I1332,会場マスタ!$A:$B,2,FALSE))","v":""}]
["",null,null,null,null,null,null,null,null,{"$f":"IF(I1333= \"\",\"\",VLOOKUP(I1333,会場マスタ!$A:$B,2,FALSE))","v":""}]
["",null,null,null,null,null,null,null,null,{"$f":"IF(I1334= \"\",\"\",VLOOKUP(I1334,会場マスタ!$A:$B,2,FALSE))","v":""}]
["",null,null,null,null,null,null,null,null,{"$f":"IF(I1335= \"\",\"\",VLOOKUP(I1335,会場マスタ!$A:$B,2,FALSE))","v":""}]
["",null,null,null,null,null,null,null,null,{"$f":"IF(I1336= \"\",\"\",VLOOKUP(I1336,会場マスタ!$A:$B,2,FALSE))","v":""}]
["",null,null,null,null,null,null,null,null,{"$f":"IF(I1337= \"\",\"\",VLOOKUP(I1337,会場マスタ!$A:$B,2,FALSE))","v":""}]
["",null,null,null,null,null,null,null,null,{"$f":"IF(I1338= \"\",\"\",VLOOKUP(I1338,会場マスタ!$A:$B,2,FALSE))","v":""}]
["",null,null,null,null,null,null,null,null,{"$f":"IF(I1339= \"\",\"\",VLOOKUP(I1339,会場マスタ!$A:$B,2,FALSE))","v":""}]
["",null,null,null,null,null,null,null,null,{"$f":"IF(I1340= \"\",\"\",VLOOKUP(I1340,会場マスタ!$A:$B,2,FALSE))","v":""}]
["",null,null,null,null,null,null,null,null,{"$f":"IF(I1341= \"\",\"\",VLOOKUP(I1341,会場マスタ!$A:$B,2,FALSE))","v":""}]
["",null,null,null,null,null,null,null,null,{"$f":"IF(I1342= \"\",\"\",VLOOKUP(I1342,会場マスタ!$A:$B,2,FALSE))","v":""}]
["",null,null,null,null,null,null,null,null,{"$f":"IF(I1343= \"\",\"\",VLOOKUP(I1343,会場マスタ!$A:$B,2,FALSE))","v":""}]
["",null,null,null,null,null,null,null,null,{"$f":"IF(I1344= \"\",\"\",VLOOKUP(I1344,会場マスタ!$A:$B,2,FALSE))","v":""}]
["",null,null,null,null,null,null,null,null,{"$f":"IF(I1345= \"\",\"\",VLOOKUP(I1345,会場マスタ!$A:$B,2,FALSE))","v":""}]
["",null,null,null,null,null,null,null,null,{"$f":"IF(I1346= \"\",\"\",VLOOKUP(I1346,会場マスタ!$A:$B,2,FALSE))","v":""}]
["",null,null,null,null,null,null,null,null,{"$f":"IF(I1347= \"\",\"\",VLOOKUP(I1347,会場マスタ!$A:$B,2,FALSE))","v":""}]
["",null,null,null,null,null,null,null,null,{"$f":"IF(I1348= \"\",\"\",VLOOKUP(I1348,会場マスタ!$A:$B,2,FALSE))","v":""}]
["",null,null,null,null,null,null,null,null,{"$f":"IF(I1349= \"\",\"\",VLOOKUP(I1349,会場マスタ!$A:$B,2,FALSE))","v":""}]
["",null,null,null,null,null,null,null,null,{"$f":"IF(I1350= \"\",\"\",VLOOKUP(I1350,会場マスタ!$A:$B,2,FALSE))","v":""}]
[{"$f":"IF(B1351<>\"\",ROW(A1351)-4,\"\")","v":""},null,null,null,null,null,null,null,null,{"$f":"IF(I1351= \"\",\"\",VLOOKUP(I1351,会場マスタ!$A:$B,2,FALSE))","v":""}]
["",null,null,null,null,null,null,null,null,{"$f":"IF(I1352= \"\",\"\",VLOOKUP(I1352,会場マスタ!$A:$B,2,FALSE))","v":""}]
["",null,null,null,null,null,null,null,null,{"$f":"IF(I1353= \"\",\"\",VLOOKUP(I1353,会場マスタ!$A:$B,2,FALSE))","v":""}]
["",null,null,null,null,null,null,null,null,{"$f":"IF(I1354= \"\",\"\",VLOOKUP(I1354,会場マスタ!$A:$B,2,FALSE))","v":""}]
["",null,null,null,null,null,null,null,null,{"$f":"IF(I1355= \"\",\"\",VLOOKUP(I1355,会場マスタ!$A:$B,2,FALSE))","v":""}]
["",null,null,null,null,null,null,null,null,{"$f":"IF(I1356= \"\",\"\",VLOOKUP(I1356,会場マスタ!$A:$B,2,FALSE))","v":""}]
["",null,null,null,null,null,null,null,null,{"$f":"IF(I1357= \"\",\"\",VLOOKUP(I1357,会場マスタ!$A:$B,2,FALSE))","v":""}]
["",null,null,null,null,null,null,null,null,{"$f":"IF(I1358= \"\",\"\",VLOOKUP(I1358,会場マスタ!$A:$B,2,FALSE))","v":""}]
["",null,null,null,null,null,null,null,null,{"$f":"IF(I1359= \"\",\"\",VLOOKUP(I1359,会場マスタ!$A:$B,2,FALSE))","v":""}]
["",null,null,null,null,null,null,null,null,{"$f":"IF(I1360= \"\",\"\",VLOOKUP(I1360,会場マスタ!$A:$B,2,FALSE))","v":""}]
["",null,null,null,null,null,null,null,null,{"$f":"IF(I1361= \"\",\"\",VLOOKUP(I1361,会場マスタ!$A:$B,2,FALSE))","v":""}]
["",null,null,null,null,null,null,null,null,{"$f":"IF(I1362= \"\",\"\",VLOOKUP(I1362,会場マスタ!$A:$B,2,FALSE))","v":""}]
["",null,null,null,null,null,null,null,null,{"$f":"IF(I1363= \"\",\"\",VLOOKUP(I1363,会場マスタ!$A:$B,2,FALSE))","v":""}]
["",null,null,null,null,null,null,null,null,{"$f":"IF(I1364= \"\",\"\",VLOOKUP(I1364,会場マスタ!$A:$B,2,FALSE))","v":""}]
["",null,null,null,null,null,null,null,null,{"$f":"IF(I1365= \"\",\"\",VLOOKUP(I1365,会場マスタ!$A:$B,2,FALSE))","v":""}]
["",null,null,null,null,null,null,null,null,{"$f":"IF(I1366= \"\",\"\",VLOOKUP(I1366,会場マスタ!$A:$B,2,FALSE))","v":""}]
["",null,null,null,null,null,null,null,null,{"$f":"IF(I1367= \"\",\"\",VLOOKUP(I1367,会場マスタ!$A:$B,2,FALSE))","v":""}]
["",null,null,null,null,null,null,null,null,{"$f":"IF(I1368= \"\",\"\",VLOOKUP(I1368,会場マスタ!$A:$B,2,FALSE))","v":""}]
["",null,null,null,null,null,null,null,null,{"$f":"IF(I1369= \"\",\"\",VLOOKUP(I1369,会場マスタ!$A:$B,2,FALSE))","v":""}]
["",null,null,null,null,null,null,null,null,{"$f":"IF(I1370= \"\",\"\",VLOOKUP(I1370,会場マスタ!$A:$B,2,FALSE))","v":""}]
["",null,null,null,null,null,null,null,null,{"$f":"IF(I1371= \"\",\"\",VLOOKUP(I1371,会場マスタ!$A:$B,2,FALSE))","v":""}]
["",null,null,null,null,null,null,null,null,{"$f":"IF(I1372= \"\",\"\",VLOOKUP(I1372,会場マスタ!$A:$B,2,FALSE))","v":""}]
["",null,null,null,null,null,null,null,null,{"$f":"IF(I1373= \"\",\"\",VLOOKUP(I1373,会場マスタ!$A:$B,2,FALSE))","v":""}]
["",null,null,null,null,null,null,null,null,{"$f":"IF(I1374= \"\",\"\",VLOOKUP(I1374,会場マスタ!$A:$B,2,FALSE))","v":""}]
["",null,null,null,null,null,null,null,null,{"$f":"IF(I1375= \"\",\"\",VLOOKUP(I1375,会場マスタ!$A:$B,2,FALSE))","v":""}]
["",null,null,null,null,null,null,null,null,{"$f":"IF(I1376= \"\",\"\",VLOOKUP(I1376,会場マスタ!$A:$B,2,FALSE))","v":""}]
["",null,null,null,null,null,null,null,null,{"$f":"IF(I1377= \"\",\"\",VLOOKUP(I1377,会場マスタ!$A:$B,2,FALSE))","v":""}]
["",null,null,null,null,null,null,null,null,{"$f":"IF(I1378= \"\",\"\",VLOOKUP(I1378,会場マスタ!$A:$B,2,FALSE))","v":""}]
["",null,null,null,null,null,null,null,null,{"$f":"IF(I1379= \"\",\"\",VLOOKUP(I1379,会場マスタ!$A:$B,2,FALSE))","v":""}]
["",null,null,null,null,null,null,null,null,{"$f":"IF(I1380= \"\",\"\",VLOOKUP(I1380,会場マスタ!$A:$B,2,FALSE))","v":""}]
["",null,null,null,null,null,null,null,null,{"$f":"IF(I1381= \"\",\"\",VLOOKUP(I1381,会場マスタ!$A:$B,2,FALSE))","v":""}]
["",null,null,null,null,null,null,null,null,{"$f":"IF(I1382= \"\",\"\",VLOOKUP(I1382,会場マスタ!$A:$B,2,FALSE))","v":""}]
["",null,null,null,null,null,null,null,null,{"$f":"IF(I1383= \"\",\"\",VLOOKUP(I1383,会場マスタ!$A:$B,2,FALSE))","v":""}]
["",null,null,null,null,null,null,null,null,{"$f":"IF(I1384= \"\",\"\",VLOOKUP(I1384,会場マスタ!$A:$B,2,FALSE))","v":""}]
["",null,null,null,null,null,null,null,null,{"$f":"IF(I1385= \"\",\"\",VLOOKUP(I1385,会場マスタ!$A:$B,2,FALSE))","v":""}]
["",null,null,null,null,null,null,null,null,{"$f":"IF(I1386= \"\",\"\",VLOOKUP(I1386,会場マスタ!$A:$B,2,FALSE))","v":""}]
["",null,null,null,null,null,null,null,null,{"$f":"IF(I1387= \"\",\"\",VLOOKUP(I1387,会場マスタ!$A:$B,2,FALSE))","v":""}]
["",null,null,null,null,null,null,null,null,{"$f":"IF(I1388= \"\",\"\",VLOOKUP(I1388,会場マスタ!$A:$B,2,FALSE))","v":""}]
["",null,null,null,null,null,null,null,null,{"$f":"IF(I1389= \"\",\"\",VLOOKUP(I1389,会場マスタ!$A:$B,2,FALSE))","v":""}]
["",null,null,null,null,null,null,null,null,{"$f":"IF(I1390= \"\",\"\",VLOOKUP(I1390,会場マスタ!$A:$B,2,FALSE))","v":""}]
["",null,null,null,null,null,null,null,null,{"$f":"IF(I1391= \"\",\"\",VLOOKUP(I1391,会場マスタ!$A:$B,2,FALSE))","v":""}]
["",null,null,null,null,null,null,null,null,{"$f":"IF(I1392= \"\",\"\",VLOOKUP(I1392,会場マスタ!$A:$B,2,FALSE))","v":""}]
["",null,null,null,null,null,null,null,null,{"$f":"IF(I1393= \"\",\"\",VLOOKUP(I1393,会場マスタ!$A:$B,2,FALSE))","v":""}]
["",null,null,null,null,null,null,null,null,{"$f":"IF(I1394= \"\",\"\",VLOOKUP(I1394,会場マスタ!$A:$B,2,FALSE))","v":""}]
["",null,null,null,null,null,null,null,null,{"$f":"IF(I1395= \"\",\"\",VLOOKUP(I1395,会場マスタ!$A:$B,2,FALSE))","v":""}]
["",null,null,null,null,null,null,null,null,{"$f":"IF(I1396= \"\",\"\",VLOOKUP(I1396,会場マスタ!$A:$B,2,FALSE))","v":""}]
["",null,null,null,null,null,null,null,null,{"$f":"IF(I1397= \"\",\"\",VLOOKUP(I1397,会場マスタ!$A:$B,2,FALSE))","v":""}]
["",null,null,null,null,null,null,null,null,{"$f":"IF(I1398= \"\",\"\",VLOOKUP(I1398,会場マスタ!$A:$B,2,FALSE))","v":""}]
["",null,null,null,null,null,null,null,null,{"$f":"IF(I1399= \"\",\"\",VLOOKUP(I1399,会場マスタ!$A:$B,2,FALSE))","v":""}]
["",null,null,null,null,null,null,null,null,{"$f":"IF(I1400= \"\",\"\",VLOOKUP(I1400,会場マスタ!$A:$B,2,FALSE))","v":""}]
["",null,null,null,null,null,null,null,null,{"$f":"IF(I1401= \"\",\"\",VLOOKUP(I1401,会場マスタ!$A:$B,2,FALSE))","v":""}]
["",null,null,null,null,null,null,null,null,{"$f":"IF(I1402= \"\",\"\",VLOOKUP(I1402,会場マスタ!$A:$B,2,FALSE))","v":""}]
["",null,null,null,null,null,null,null,null,{"$f":"IF(I1403= \"\",\"\",VLOOKUP(I1403,会場マスタ!$A:$B,2,FALSE))","v":""}]
["",null,null,null,null,null,null,null,null,{"$f":"IF(I1404= \"\",\"\",VLOOKUP(I1404,会場マスタ!$A:$B,2,FALSE))","v":""}]
["",null,null,null,null,null,null,null,null,{"$f":"IF(I1405= \"\",\"\",VLOOKUP(I1405,会場マスタ!$A:$B,2,FALSE))","v":""}]
["",null,null,null,null,null,null,null,null,{"$f":"IF(I1406= \"\",\"\",VLOOKUP(I1406,会場マスタ!$A:$B,2,FALSE))","v":""}]
["",null,null,null,null,null,null,null,null,{"$f":"IF(I1407= \"\",\"\",VLOOKUP(I1407,会場マスタ!$A:$B,2,FALSE))","v":""}]
["",null,null,null,null,null,null,null,null,{"$f":"IF(I1408= \"\",\"\",VLOOKUP(I1408,会場マスタ!$A:$B,2,FALSE))","v":""}]
["",null,null,null,null,null,null,null,null,{"$f":"IF(I1409= \"\",\"\",VLOOKUP(I1409,会場マスタ!$A:$B,2,FALSE))","v":""}]
["",null,null,null,null,null,null,null,null,{"$f":"IF(I1410= \"\",\"\",VLOOKUP(I1410,会場マスタ!$A:$B,2,FALSE))","v":""}]
["",null,null,null,null,null,null,null,null,{"$f":"IF(I1411= \"\",\"\",VLOOKUP(I1411,会場マスタ!$A:$B,2,FALSE))","v":""}]
["",null,null,null,null,null,null,null,null,{"$f":"IF(I1412= \"\",\"\",VLOOKUP(I1412,会場マスタ!$A:$B,2,FALSE))","v":""}]
["",null,null,null,null,null,null,null,null,{"$f":"IF(I1413= \"\",\"\",VLOOKUP(I1413,会場マスタ!$A:$B,2,FALSE))","v":""}]
["",null,null,null,null,null,null,null,null,{"$f":"IF(I1414= \"\",\"\",VLOOKUP(I1414,会場マスタ!$A:$B,2,FALSE))","v":""}]
[{"$f":"IF(B1415<>\"\",ROW(A1415)-4,\"\")","v":""},null,null,null,null,null,null,null,null,{"$f":"IF(I1415= \"\",\"\",VLOOKUP(I1415,会場マスタ!$A:$B,2,FALSE))","v":""}]
["",null,null,null,null,null,null,null,null,{"$f":"IF(I1416= \"\",\"\",VLOOKUP(I1416,会場マスタ!$A:$B,2,FALSE))","v":""}]
["",null,null,null,null,null,null,null,null,{"$f":"IF(I1417= \"\",\"\",VLOOKUP(I1417,会場マスタ!$A:$B,2,FALSE))","v":""}]
["",null,null,null,null,null,null,null,null,{"$f":"IF(I1418= \"\",\"\",VLOOKUP(I1418,会場マスタ!$A:$B,2,FALSE))","v":""}]
["",null,null,null,null,null,null,null,null,{"$f":"IF(I1419= \"\",\"\",VLOOKUP(I1419,会場マスタ!$A:$B,2,FALSE))","v":""}]
["",null,null,null,null,null,null,null,null,{"$f":"IF(I1420= \"\",\"\",VLOOKUP(I1420,会場マスタ!$A:$B,2,FALSE))","v":""}]
["",null,null,null,null,null,null,null,null,{"$f":"IF(I1421= \"\",\"\",VLOOKUP(I1421,会場マスタ!$A:$B,2,FALSE))","v":""}]
["",null,null,null,null,null,null,null,null,{"$f":"IF(I1422= \"\",\"\",VLOOKUP(I1422,会場マスタ!$A:$B,2,FALSE))","v":""}]
["",null,null,null,null,null,null,null,null,{"$f":"IF(I1423= \"\",\"\",VLOOKUP(I1423,会場マスタ!$A:$B,2,FALSE))","v":""}]
["",null,null,null,null,null,null,null,null,{"$f":"IF(I1424= \"\",\"\",VLOOKUP(I1424,会場マスタ!$A:$B,2,FALSE))","v":""}]
["",null,null,null,null,null,null,null,null,{"$f":"IF(I1425= \"\",\"\",VLOOKUP(I1425,会場マスタ!$A:$B,2,FALSE))","v":""}]
["",null,null,null,null,null,null,null,null,{"$f":"IF(I1426= \"\",\"\",VLOOKUP(I1426,会場マスタ!$A:$B,2,FALSE))","v":""}]
["",null,null,null,null,null,null,null,null,{"$f":"IF(I1427= \"\",\"\",VLOOKUP(I1427,会場マスタ!$A:$B,2,FALSE))","v":""}]
["",null,null,null,null,null,null,null,null,{"$f":"IF(I1428= \"\",\"\",VLOOKUP(I1428,会場マスタ!$A:$B,2,FALSE))","v":""}]
["",null,null,null,null,null,null,null,null,{"$f":"IF(I1429= \"\",\"\",VLOOKUP(I1429,会場マスタ!$A:$B,2,FALSE))","v":""}]
["",null,null,null,null,null,null,null,null,{"$f":"IF(I1430= \"\",\"\",VLOOKUP(I1430,会場マスタ!$A:$B,2,FALSE))","v":""}]
["",null,null,null,null,null,null,null,null,{"$f":"IF(I1431= \"\",\"\",VLOOKUP(I1431,会場マスタ!$A:$B,2,FALSE))","v":""}]
["",null,null,null,null,null,null,null,null,{"$f":"IF(I1432= \"\",\"\",VLOOKUP(I1432,会場マスタ!$A:$B,2,FALSE))","v":""}]
["",null,null,null,null,null,null,null,null,{"$f":"IF(I1433= \"\",\"\",VLOOKUP(I1433,会場マスタ!$A:$B,2,FALSE))","v":""}]
["",null,null,null,null,null,null,null,null,{"$f":"IF(I1434= \"\",\"\",VLOOKUP(I1434,会場マスタ!$A:$B,2,FALSE))","v":""}]
["",null,null,null,null,null,null,null,null,{"$f":"IF(I1435= \"\",\"\",VLOOKUP(I1435,会場マスタ!$A:$B,2,FALSE))","v":""}]
["",null,null,null,null,null,null,null,null,{"$f":"IF(I1436= \"\",\"\",VLOOKUP(I1436,会場マスタ!$A:$B,2,FALSE))","v":""}]
["",null,null,null,null,null,null,null,null,{"$f":"IF(I1437= \"\",\"\",VLOOKUP(I1437,会場マスタ!$A:$B,2,FALSE))","v":""}]
["",null,null,null,null,null,null,null,null,{"$f":"IF(I1438= \"\",\"\",VLOOKUP(I1438,会場マスタ!$A:$B,2,FALSE))","v":""}]
["",null,null,null,null,null,null,null,null,{"$f":"IF(I1439= \"\",\"\",VLOOKUP(I1439,会場マスタ!$A:$B,2,FALSE))","v":""}]
["",null,null,null,null,null,null,null,null,{"$f":"IF(I1440= \"\",\"\",VLOOKUP(I1440,会場マスタ!$A:$B,2,FALSE))","v":""}]
["",null,null,null,null,null,null,null,null,{"$f":"IF(I1441= \"\",\"\",VLOOKUP(I1441,会場マスタ!$A:$B,2,FALSE))","v":""}]
["",null,null,null,null,null,null,null,null,{"$f":"IF(I1442= \"\",\"\",VLOOKUP(I1442,会場マスタ!$A:$B,2,FALSE))","v":""}]
["",null,null,null,null,null,null,null,null,{"$f":"IF(I1443= \"\",\"\",VLOOKUP(I1443,会場マスタ!$A:$B,2,FALSE))","v":""}]
["",null,null,null,null,null,null,null,null,{"$f":"IF(I1444= \"\",\"\",VLOOKUP(I1444,会場マスタ!$A:$B,2,FALSE))","v":""}]
["",null,null,null,null,null,null,null,null,{"$f":"IF(I1445= \"\",\"\",VLOOKUP(I1445,会場マスタ!$A:$B,2,FALSE))","v":""}]
["",null,null,null,null,null,null,null,null,{"$f":"IF(I1446= \"\",\"\",VLOOKUP(I1446,会場マスタ!$A:$B,2,FALSE))","v":""}]
["",null,null,null,null,null,null,null,null,{"$f":"IF(I1447= \"\",\"\",VLOOKUP(I1447,会場マスタ!$A:$B,2,FALSE))","v":""}]
["",null,null,null,null,null,null,null,null,{"$f":"IF(I1448= \"\",\"\",VLOOKUP(I1448,会場マスタ!$A:$B,2,FALSE))","v":""}]
["",null,null,null,null,null,null,null,null,{"$f":"IF(I1449= \"\",\"\",VLOOKUP(I1449,会場マスタ!$A:$B,2,FALSE))","v":""}]
["",null,null,null,null,null,null,null,null,{"$f":"IF(I1450= \"\",\"\",VLOOKUP(I1450,会場マスタ!$A:$B,2,FALSE))","v":""}]
["",null,null,null,null,null,null,null,null,{"$f":"IF(I1451= \"\",\"\",VLOOKUP(I1451,会場マスタ!$A:$B,2,FALSE))","v":""}]
["",null,null,null,null,null,null,null,null,{"$f":"IF(I1452= \"\",\"\",VLOOKUP(I1452,会場マスタ!$A:$B,2,FALSE))","v":""}]
["",null,null,null,null,null,null,null,null,{"$f":"IF(I1453= \"\",\"\",VLOOKUP(I1453,会場マスタ!$A:$B,2,FALSE))","v":""}]
["",null,null,null,null,null,null,null,null,{"$f":"IF(I1454= \"\",\"\",VLOOKUP(I1454,会場マスタ!$A:$B,2,FALSE))","v":""}]
["",null,null,null,null,null,null,null,null,{"$f":"IF(I1455= \"\",\"\",VLOOKUP(I1455,会場マスタ!$A:$B,2,FALSE))","v":""}]
["",null,null,null,null,null,null,null,null,{"$f":"IF(I1456= \"\",\"\",VLOOKUP(I1456,会場マスタ!$A:$B,2,FALSE))","v":""}]
["",null,null,null,null,null,null,null,null,{"$f":"IF(I1457= \"\",\"\",VLOOKUP(I1457,会場マスタ!$A:$B,2,FALSE))","v":""}]
["",null,null,null,null,null,null,null,null,{"$f":"IF(I1458= \"\",\"\",VLOOKUP(I1458,会場マスタ!$A:$B,2,FALSE))","v":""}]
["",null,null,null,null,null,null,null,null,{"$f":"IF(I1459= \"\",\"\",VLOOKUP(I1459,会場マスタ!$A:$B,2,FALSE))","v":""}]
["",null,null,null,null,null,null,null,null,{"$f":"IF(I1460= \"\",\"\",VLOOKUP(I1460,会場マスタ!$A:$B,2,FALSE))","v":""}]
["",null,null,null,null,null,null,null,null,{"$f":"IF(I1461= \"\",\"\",VLOOKUP(I1461,会場マスタ!$A:$B,2,FALSE))","v":""}]
["",null,null,null,null,null,null,null,null,{"$f":"IF(I1462= \"\",\"\",VLOOKUP(I1462,会場マスタ!$A:$B,2,FALSE))","v":""}]
["",null,null,null,null,null,null,null,null,{"$f":"IF(I1463= \"\",\"\",VLOOKUP(I1463,会場マスタ!$A:$B,2,FALSE))","v":""}]
["",null,null,null,null,null,null,null,null,{"$f":"IF(I1464= \"\",\"\",VLOOKUP(I1464,会場マスタ!$A:$B,2,FALSE))","v":""}]
["",null,null,null,null,null,null,null,null,{"$f":"IF(I1465= \"\",\"\",VLOOKUP(I1465,会場マスタ!$A:$B,2,FALSE))","v":""}]
["",null,null,null,null,null,null,null,null,{"$f":"IF(I1466= \"\",\"\",VLOOKUP(I1466,会場マスタ!$A:$B,2,FALSE))","v":""}]
["",null,null,null,null,null,null,null,null,{"$f":"IF(I1467= \"\",\"\",VLOOKUP(I1467,会場マスタ!$A:$B,2,FALSE))","v":""}]
["",null,null,null,null,null,null,null,null,{"$f":"IF(I1468= \"\",\"\",VLOOKUP(I1468,会場マスタ!$A:$B,2,FALSE))","v":""}]
["",null,null,null,null,null,null,null,null,{"$f":"IF(I1469= \"\",\"\",VLOOKUP(I1469,会場マスタ!$A:$B,2,FALSE))","v":""}]
["",null,null,null,null,null,null,null,null,{"$f":"IF(I1470= \"\",\"\",VLOOKUP(I1470,会場マスタ!$A:$B,2,FALSE))","v":""}]
["",null,null,null,null,null,null,null,null,{"$f":"IF(I1471= \"\",\"\",VLOOKUP(I1471,会場マスタ!$A:$B,2,FALSE))","v":""}]
["",null,null,null,null,null,null,null,null,{"$f":"IF(I1472= \"\",\"\",VLOOKUP(I1472,会場マスタ!$A:$B,2,FALSE))","v":""}]
["",null,null,null,null,null,null,null,null,{"$f":"IF(I1473= \"\",\"\",VLOOKUP(I1473,会場マスタ!$A:$B,2,FALSE))","v":""}]
["",null,null,null,null,null,null,null,null,{"$f":"IF(I1474= \"\",\"\",VLOOKUP(I1474,会場マスタ!$A:$B,2,FALSE))","v":""}]
["",null,null,null,null,null,null,null,null,{"$f":"IF(I1475= \"\",\"\",VLOOKUP(I1475,会場マスタ!$A:$B,2,FALSE))","v":""}]
["",null,null,null,null,null,null,null,null,{"$f":"IF(I1476= \"\",\"\",VLOOKUP(I1476,会場マスタ!$A:$B,2,FALSE))","v":""}]
["",null,null,null,null,null,null,null,null,{"$f":"IF(I1477= \"\",\"\",VLOOKUP(I1477,会場マスタ!$A:$B,2,FALSE))","v":""}]
["",null,null,null,null,null,null,null,null,{"$f":"IF(I1478= \"\",\"\",VLOOKUP(I1478,会場マスタ!$A:$B,2,FALSE))","v":""}]
[{"$f":"IF(B1479<>\"\",ROW(A1479)-4,\"\")","v":""},null,null,null,null,null,null,null,null,{"$f":"IF(I1479= \"\",\"\",VLOOKUP(I1479,会場マスタ!$A:$B,2,FALSE))","v":""}]
["",null,null,null,null,null,null,null,null,{"$f":"IF(I1480= \"\",\"\",VLOOKUP(I1480,会場マスタ!$A:$B,2,FALSE))","v":""}]
["",null,null,null,null,null,null,null,null,{"$f":"IF(I1481= \"\",\"\",VLOOKUP(I1481,会場マスタ!$A:$B,2,FALSE))","v":""}]
["",null,null,null,null,null,null,null,null,{"$f":"IF(I1482= \"\",\"\",VLOOKUP(I1482,会場マスタ!$A:$B,2,FALSE))","v":""}]
["",null,null,null,null,null,null,null,null,{"$f":"IF(I1483= \"\",\"\",VLOOKUP(I1483,会場マスタ!$A:$B,2,FALSE))","v":""}]
["",null,null,null,null,null,null,null,null,{"$f":"IF(I1484= \"\",\"\",VLOOKUP(I1484,会場マスタ!$A:$B,2,FALSE))","v":""}]
["",null,null,null,null,null,null,null,null,{"$f":"IF(I1485= \"\",\"\",VLOOKUP(I1485,会場マスタ!$A:$B,2,FALSE))","v":""}]
["",null,null,null,null,null,null,null,null,{"$f":"IF(I1486= \"\",\"\",VLOOKUP(I1486,会場マスタ!$A:$B,2,FALSE))","v":""}]
["",null,null,null,null,null,null,null,null,{"$f":"IF(I1487= \"\",\"\",VLOOKUP(I1487,会場マスタ!$A:$B,2,FALSE))","v":""}]
["",null,null,null,null,null,null,null,null,{"$f":"IF(I1488= \"\",\"\",VLOOKUP(I1488,会場マスタ!$A:$B,2,FALSE))","v":""}]
["",null,null,null,null,null,null,null,null,{"$f":"IF(I1489= \"\",\"\",VLOOKUP(I1489,会場マスタ!$A:$B,2,FALSE))","v":""}]
["",null,null,null,null,null,null,null,null,{"$f":"IF(I1490= \"\",\"\",VLOOKUP(I1490,会場マスタ!$A:$B,2,FALSE))","v":""}]
["",null,null,null,null,null,null,null,null,{"$f":"IF(I1491= \"\",\"\",VLOOKUP(I1491,会場マスタ!$A:$B,2,FALSE))","v":""}]
["",null,null,null,null,null,null,null,null,{"$f":"IF(I1492= \"\",\"\",VLOOKUP(I1492,会場マスタ!$A:$B,2,FALSE))","v":""}]
["",null,null,null,null,null,null,null,null,{"$f":"IF(I1493= \"\",\"\",VLOOKUP(I1493,会場マスタ!$A:$B,2,FALSE))","v":""}]
["",null,null,null,null,null,null,null,null,{"$f":"IF(I1494= \"\",\"\",VLOOKUP(I1494,会場マスタ!$A:$B,2,FALSE))","v":""}]
["",null,null,null,null,null,null,null,null,{"$f":"IF(I1495= \"\",\"\",VLOOKUP(I1495,会場マスタ!$A:$B,2,FALSE))","v":""}]
["",null,null,null,null,null,null,null,null,{"$f":"IF(I1496= \"\",\"\",VLOOKUP(I1496,会場マスタ!$A:$B,2,FALSE))","v":""}]
["",null,null,null,null,null,null,null,null,{"$f":"IF(I1497= \"\",\"\",VLOOKUP(I1497,会場マスタ!$A:$B,2,FALSE))","v":""}]
["",null,null,null,null,null,null,null,null,{"$f":"IF(I1498= \"\",\"\",VLOOKUP(I1498,会場マスタ!$A:$B,2,FALSE))","v":""}]
["",null,null,null,null,null,null,null,null,{"$f":"IF(I1499= \"\",\"\",VLOOKUP(I1499,会場マスタ!$A:$B,2,FALSE))","v":""}]
["",null,null,null,null,null,null,null,null,{"$f":"IF(I1500= \"\",\"\",VLOOKUP(I1500,会場マスタ!$A:$B,2,FALSE))","v":""}]
["",null,null,null,null,null,null,null,null,{"$f":"IF(I1501= \"\",\"\",VLOOKUP(I1501,会場マスタ!$A:$B,2,FALSE))","v":""}]
["",null,null,null,null,null,null,null,null,{"$f":"IF(I1502= \"\",\"\",VLOOKUP(I1502,会場マスタ!$A:$B,2,FALSE))","v":""}]
["",null,null,null,null,null,null,null,null,{"$f":"IF(I1503= \"\",\"\",VLOOKUP(I1503,会場マスタ!$A:$B,2,FALSE))","v":""}]
["",null,null,null,null,null,null,null,null,{"$f":"IF(I1504= \"\",\"\",VLOOKUP(I1504,会場マスタ!$A:$B,2,FALSE))","v":""}]
["",null,null,null,null,null,null,null,null,{"$f":"IF(I1505= \"\",\"\",VLOOKUP(I1505,会場マスタ!$A:$B,2,FALSE))","v":""}]
["",null,null,null,null,null,null,null,null,{"$f":"IF(I1506= \"\",\"\",VLOOKUP(I1506,会場マスタ!$A:$B,2,FALSE))","v":""}]
["",null,null,null,null,null,null,null,null,{"$f":"IF(I1507= \"\",\"\",VLOOKUP(I1507,会場マスタ!$A:$B,2,FALSE))","v":""}]
["",null,null,null,null,null,null,null,null,{"$f":"IF(I1508= \"\",\"\",VLOOKUP(I1508,会場マスタ!$A:$B,2,FALSE))","v":""}]
["",null,null,null,null,null,null,null,null,{"$f":"IF(I1509= \"\",\"\",VLOOKUP(I1509,会場マスタ!$A:$B,2,FALSE))","v":""}]
["",null,null,null,null,null,null,null,null,{"$f":"IF(I1510= \"\",\"\",VLOOKUP(I1510,会場マスタ!$A:$B,2,FALSE))","v":""}]
["",null,null,null,null,null,null,null,null,{"$f":"IF(I1511= \"\",\"\",VLOOKUP(I1511,会場マスタ!$A:$B,2,FALSE))","v":""}]
["",null,null,null,null,null,null,null,null,{"$f":"IF(I1512= \"\",\"\",VLOOKUP(I1512,会場マスタ!$A:$B,2,FALSE))","v":""}]
["",null,null,null,null,null,null,null,null,{"$f":"IF(I1513= \"\",\"\",VLOOKUP(I1513,会場マスタ!$A:$B,2,FALSE))","v":""}]
["",null,null,null,null,null,null,null,null,{"$f":"IF(I1514= \"\",\"\",VLOOKUP(I1514,会場マスタ!$A:$B,2,FALSE))","v":""}]
["",null,null,null,null,null,null,null,null,{"$f":"IF(I1515= \"\",\"\",VLOOKUP(I1515,会場マスタ!$A:$B,2,FALSE))","v":""}]
["",null,null,null,null,null,null,null,null,{"$f":"IF(I1516= \"\",\"\",VLOOKUP(I1516,会場マスタ!$A:$B,2,FALSE))","v":""}]
["",null,null,null,null,null,null,null,null,{"$f":"IF(I1517= \"\",\"\",VLOOKUP(I1517,会場マスタ!$A:$B,2,FALSE))","v":""}]
["",null,null,null,null,null,null,null,null,{"$f":"IF(I1518= \"\",\"\",VLOOKUP(I1518,会場マスタ!$A:$B,2,FALSE))","v":""}]
["",null,null,null,null,null,null,null,null,{"$f":"IF(I1519= \"\",\"\",VLOOKUP(I1519,会場マスタ!$A:$B,2,FALSE))","v":""}]
["",null,null,null,null,null,null,null,null,{"$f":"IF(I1520= \"\",\"\",VLOOKUP(I1520,会場マスタ!$A:$B,2,FALSE))","v":""}]
["",null,null,null,null,null,null,null,null,{"$f":"IF(I1521= \"\",\"\",VLOOKUP(I1521,会場マスタ!$A:$B,2,FALSE))","v":""}]
["",null,null,null,null,null,null,null,null,{"$f":"IF(I1522= \"\",\"\",VLOOKUP(I1522,会場マスタ!$A:$B,2,FALSE))","v":""}]
["",null,null,null,null,null,null,null,null,{"$f":"IF(I1523= \"\",\"\",VLOOKUP(I1523,会場マスタ!$A:$B,2,FALSE))","v":""}]
["",null,null,null,null,null,null,null,null,{"$f":"IF(I1524= \"\",\"\",VLOOKUP(I1524,会場マスタ!$A:$B,2,FALSE))","v":""}]
["",null,null,null,null,null,null,null,null,{"$f":"IF(I1525= \"\",\"\",VLOOKUP(I1525,会場マスタ!$A:$B,2,FALSE))","v":""}]
["",null,null,null,null,null,null,null,null,{"$f":"IF(I1526= \"\",\"\",VLOOKUP(I1526,会場マスタ!$A:$B,2,FALSE))","v":""}]
["",null,null,null,null,null,null,null,null,{"$f":"IF(I1527= \"\",\"\",VLOOKUP(I1527,会場マスタ!$A:$B,2,FALSE))","v":""}]
["",null,null,null,null,null,null,null,null,{"$f":"IF(I1528= \"\",\"\",VLOOKUP(I1528,会場マスタ!$A:$B,2,FALSE))","v":""}]
["",null,null,null,null,null,null,null,null,{"$f":"IF(I1529= \"\",\"\",VLOOKUP(I1529,会場マスタ!$A:$B,2,FALSE))","v":""}]
["",null,null,null,null,null,null,null,null,{"$f":"IF(I1530= \"\",\"\",VLOOKUP(I1530,会場マスタ!$A:$B,2,FALSE))","v":""}]
["",null,null,null,null,null,null,null,null,{"$f":"IF(I1531= \"\",\"\",VLOOKUP(I1531,会場マスタ!$A:$B,2,FALSE))","v":""}]
["",null,null,null,null,null,null,null,null,{"$f":"IF(I1532= \"\",\"\",VLOOKUP(I1532,会場マスタ!$A:$B,2,FALSE))","v":""}]
["",null,null,null,null,null,null,null,null,{"$f":"IF(I1533= \"\",\"\",VLOOKUP(I1533,会場マスタ!$A:$B,2,FALSE))","v":""}]
["",null,null,null,null,null,null,null,null,{"$f":"IF(I1534= \"\",\"\",VLOOKUP(I1534,会場マスタ!$A:$B,2,FALSE))","v":""}]
["",null,null,null,null,null,null,null,null,{"$f":"IF(I1535= \"\",\"\",VLOOKUP(I1535,会場マスタ!$A:$B,2,FALSE))","v":""}]
["",null,null,null,null,null,null,null,null,{"$f":"IF(I1536= \"\",\"\",VLOOKUP(I1536,会場マスタ!$A:$B,2,FALSE))","v":""}]
["",null,null,null,null,null,null,null,null,{"$f":"IF(I1537= \"\",\"\",VLOOKUP(I1537,会場マスタ!$A:$B,2,FALSE))","v":""}]
["",null,null,null,null,null,null,null,null,{"$f":"IF(I1538= \"\",\"\",VLOOKUP(I1538,会場マスタ!$A:$B,2,FALSE))","v":""}]
["",null,null,null,null,null,null,null,null,{"$f":"IF(I1539= \"\",\"\",VLOOKUP(I1539,会場マスタ!$A:$B,2,FALSE))","v":""}]
["",null,null,null,null,null,null,null,null,{"$f":"IF(I1540= \"\",\"\",VLOOKUP(I1540,会場マスタ!$A:$B,2,FALSE))","v":""}]
["",null,null,null,null,null,null,null,null,{"$f":"IF(I1541= \"\",\"\",VLOOKUP(I1541,会場マスタ!$A:$B,2,FALSE))","v":""}]
["",null,null,null,null,null,null,null,null,{"$f":"IF(I1542= \"\",\"\",VLOOKUP(I1542,会場マスタ!$A:$B,2,FALSE))","v":""}]
[{"$f":"IF(B1543<>\"\",ROW(A1543)-4,\"\")","v":""},null,null,null,null,null,null,null,null,{"$f":"IF(I1543= \"\",\"\",VLOOKUP(I1543,会場マスタ!$A:$B,2,FALSE))","v":""}]
["",null,null,null,null,null,null,null,null,{"$f":"IF(I1544= \"\",\"\",VLOOKUP(I1544,会場マスタ!$A:$B,2,FALSE))","v":""}]
["",null,null,null,null,null,null,null,null,{"$f":"IF(I1545= \"\",\"\",VLOOKUP(I1545,会場マスタ!$A:$B,2,FALSE))","v":""}]
["",null,null,null,null,null,null,null,null,{"$f":"IF(I1546= \"\",\"\",VLOOKUP(I1546,会場マスタ!$A:$B,2,FALSE))","v":""}]
["",null,null,null,null,null,null,null,null,{"$f":"IF(I1547= \"\",\"\",VLOOKUP(I1547,会場マスタ!$A:$B,2,FALSE))","v":""}]
["",null,null,null,null,null,null,null,null,{"$f":"IF(I1548= \"\",\"\",VLOOKUP(I1548,会場マスタ!$A:$B,2,FALSE))","v":""}]
["",null,null,null,null,null,null,null,null,{"$f":"IF(I1549= \"\",\"\",VLOOKUP(I1549,会場マスタ!$A:$B,2,FALSE))","v":""}]
["",null,null,null,null,null,null,null,null,{"$f":"IF(I1550= \"\",\"\",VLOOKUP(I1550,会場マスタ!$A:$B,2,FALSE))","v":""}]
["",null,null,null,null,null,null,null,null,{"$f":"IF(I1551= \"\",\"\",VLOOKUP(I1551,会場マスタ!$A:$B,2,FALSE))","v":""}]
["",null,null,null,null,null,null,null,null,{"$f":"IF(I1552= \"\",\"\",VLOOKUP(I1552,会場マスタ!$A:$B,2,FALSE))","v":""}]
["",null,null,null,null,null,null,null,null,{"$f":"IF(I1553= \"\",\"\",VLOOKUP(I1553,会場マスタ!$A:$B,2,FALSE))","v":""}]
["",null,null,null,null,null,null,null,null,{"$f":"IF(I1554= \"\",\"\",VLOOKUP(I1554,会場マスタ!$A:$B,2,FALSE))","v":""}]
["",null,null,null,null,null,null,null,null,{"$f":"IF(I1555= \"\",\"\",VLOOKUP(I1555,会場マスタ!$A:$B,2,FALSE))","v":""}]
["",null,null,null,null,null,null,null,null,{"$f":"IF(I1556= \"\",\"\",VLOOKUP(I1556,会場マスタ!$A:$B,2,FALSE))","v":""}]
["",null,null,null,null,null,null,null,null,{"$f":"IF(I1557= \"\",\"\",VLOOKUP(I1557,会場マスタ!$A:$B,2,FALSE))","v":""}]
["",null,null,null,null,null,null,null,null,{"$f":"IF(I1558= \"\",\"\",VLOOKUP(I1558,会場マスタ!$A:$B,2,FALSE))","v":""}]
["",null,null,null,null,null,null,null,null,{"$f":"IF(I1559= \"\",\"\",VLOOKUP(I1559,会場マスタ!$A:$B,2,FALSE))","v":""}]
["",null,null,null,null,null,null,null,null,{"$f":"IF(I1560= \"\",\"\",VLOOKUP(I1560,会場マスタ!$A:$B,2,FALSE))","v":""}]
["",null,null,null,null,null,null,null,null,{"$f":"IF(I1561= \"\",\"\",VLOOKUP(I1561,会場マスタ!$A:$B,2,FALSE))","v":""}]
["",null,null,null,null,null,null,null,null,{"$f":"IF(I1562= \"\",\"\",VLOOKUP(I1562,会場マスタ!$A:$B,2,FALSE))","v":""}]
["",null,null,null,null,null,null,null,null,{"$f":"IF(I1563= \"\",\"\",VLOOKUP(I1563,会場マスタ!$A:$B,2,FALSE))","v":""}]
["",null,null,null,null,null,null,null,null,{"$f":"IF(I1564= \"\",\"\",VLOOKUP(I1564,会場マスタ!$A:$B,2,FALSE))","v":""}]
["",null,null,null,null,null,null,null,null,{"$f":"IF(I1565= \"\",\"\",VLOOKUP(I1565,会場マスタ!$A:$B,2,FALSE))","v":""}]
["",null,null,null,null,null,null,null,null,{"$f":"IF(I1566= \"\",\"\",VLOOKUP(I1566,会場マスタ!$A:$B,2,FALSE))","v":""}]
["",null,null,null,null,null,null,null,null,{"$f":"IF(I1567= \"\",\"\",VLOOKUP(I1567,会場マスタ!$A:$B,2,FALSE))","v":""}]
["",null,null,null,null,null,null,null,null,{"$f":"IF(I1568= \"\",\"\",VLOOKUP(I1568,会場マスタ!$A:$B,2,FALSE))","v":""}]
["",null,null,null,null,null,null,null,null,{"$f":"IF(I1569= \"\",\"\",VLOOKUP(I1569,会場マスタ!$A:$B,2,FALSE))","v":""}]
["",null,null,null,null,null,null,null,null,{"$f":"IF(I1570= \"\",\"\",VLOOKUP(I1570,会場マスタ!$A:$B,2,FALSE))","v":""}]
["",null,null,null,null,null,null,null,null,{"$f":"IF(I1571= \"\",\"\",VLOOKUP(I1571,会場マスタ!$A:$B,2,FALSE))","v":""}]
["",null,null,null,null,null,null,null,null,{"$f":"IF(I1572= \"\",\"\",VLOOKUP(I1572,会場マスタ!$A:$B,2,FALSE))","v":""}]
["",null,null,null,null,null,null,null,null,{"$f":"IF(I1573= \"\",\"\",VLOOKUP(I1573,会場マスタ!$A:$B,2,FALSE))","v":""}]
["",null,null,null,null,null,null,null,null,{"$f":"IF(I1574= \"\",\"\",VLOOKUP(I1574,会場マスタ!$A:$B,2,FALSE))","v":""}]
["",null,null,null,null,null,null,null,null,{"$f":"IF(I1575= \"\",\"\",VLOOKUP(I1575,会場マスタ!$A:$B,2,FALSE))","v":""}]
["",null,null,null,null,null,null,null,null,{"$f":"IF(I1576= \"\",\"\",VLOOKUP(I1576,会場マスタ!$A:$B,2,FALSE))","v":""}]
["",null,null,null,null,null,null,null,null,{"$f":"IF(I1577= \"\",\"\",VLOOKUP(I1577,会場マスタ!$A:$B,2,FALSE))","v":""}]
["",null,null,null,null,null,null,null,null,{"$f":"IF(I1578= \"\",\"\",VLOOKUP(I1578,会場マスタ!$A:$B,2,FALSE))","v":""}]
["",null,null,null,null,null,null,null,null,{"$f":"IF(I1579= \"\",\"\",VLOOKUP(I1579,会場マスタ!$A:$B,2,FALSE))","v":""}]
["",null,null,null,null,null,null,null,null,{"$f":"IF(I1580= \"\",\"\",VLOOKUP(I1580,会場マスタ!$A:$B,2,FALSE))","v":""}]
["",null,null,null,null,null,null,null,null,{"$f":"IF(I1581= \"\",\"\",VLOOKUP(I1581,会場マスタ!$A:$B,2,FALSE))","v":""}]
["",null,null,null,null,null,null,null,null,{"$f":"IF(I1582= \"\",\"\",VLOOKUP(I1582,会場マスタ!$A:$B,2,FALSE))","v":""}]
["",null,null,null,null,null,null,null,null,{"$f":"IF(I1583= \"\",\"\",VLOOKUP(I1583,会場マスタ!$A:$B,2,FALSE))","v":""}]
["",null,null,null,null,null,null,null,null,{"$f":"IF(I1584= \"\",\"\",VLOOKUP(I1584,会場マスタ!$A:$B,2,FALSE))","v":""}]
["",null,null,null,null,null,null,null,null,{"$f":"IF(I1585= \"\",\"\",VLOOKUP(I1585,会場マスタ!$A:$B,2,FALSE))","v":""}]
["",null,null,null,null,null,null,null,null,{"$f":"IF(I1586= \"\",\"\",VLOOKUP(I1586,会場マスタ!$A:$B,2,FALSE))","v":""}]
["",null,null,null,null,null,null,null,null,{"$f":"IF(I1587= \"\",\"\",VLOOKUP(I1587,会場マスタ!$A:$B,2,FALSE))","v":""}]
["",null,null,null,null,null,null,null,null,{"$f":"IF(I1588= \"\",\"\",VLOOKUP(I1588,会場マスタ!$A:$B,2,FALSE))","v":""}]
["",null,null,null,null,null,null,null,null,{"$f":"IF(I1589= \"\",\"\",VLOOKUP(I1589,会場マスタ!$A:$B,2,FALSE))","v":""}]
["",null,null,null,null,null,null,null,null,{"$f":"IF(I1590= \"\",\"\",VLOOKUP(I1590,会場マスタ!$A:$B,2,FALSE))","v":""}]
["",null,null,null,null,null,null,null,null,{"$f":"IF(I1591= \"\",\"\",VLOOKUP(I1591,会場マスタ!$A:$B,2,FALSE))","v":""}]
["",null,null,null,null,null,null,null,null,{"$f":"IF(I1592= \"\",\"\",VLOOKUP(I1592,会場マスタ!$A:$B,2,FALSE))","v":""}]
["",null,null,null,null,null,null,null,null,{"$f":"IF(I1593= \"\",\"\",VLOOKUP(I1593,会場マスタ!$A:$B,2,FALSE))","v":""}]
["",null,null,null,null,null,null,null,null,{"$f":"IF(I1594= \"\",\"\",VLOOKUP(I1594,会場マスタ!$A:$B,2,FALSE))","v":""}]
["",null,null,null,null,null,null,null,null,{"$f":"IF(I1595= \"\",\"\",VLOOKUP(I1595,会場マスタ!$A:$B,2,FALSE))","v":""}]
["",null,null,null,null,null,null,null,null,{"$f":"IF(I1596= \"\",\"\",VLOOKUP(I1596,会場マスタ!$A:$B,2,FALSE))","v":""}]
["",null,null,null,null,null,null,null,null,{"$f":"IF(I1597= \"\",\"\",VLOOKUP(I1597,会場マスタ!$A:$B,2,FALSE))","v":""}]
["",null,null,null,null,null,null,null,null,{"$f":"IF(I1598= \"\",\"\",VLOOKUP(I1598,会場マスタ!$A:$B,2,FALSE))","v":""}]
["",null,null,null,null,null,null,null,null,{"$f":"IF(I1599= \"\",\"\",VLOOKUP(I1599,会場マスタ!$A:$B,2,FALSE))","v":""}]
["",null,null,null,null,null,null,null,null,{"$f":"IF(I1600= \"\",\"\",VLOOKUP(I1600,会場マスタ!$A:$B,2,FALSE))","v":""}]
["",null,null,null,null,null,null,null,null,{"$f":"IF(I1601= \"\",\"\",VLOOKUP(I1601,会場マスタ!$A:$B,2,FALSE))","v":""}]
["",null,null,null,null,null,null,null,null,{"$f":"IF(I1602= \"\",\"\",VLOOKUP(I1602,会場マスタ!$A:$B,2,FALSE))","v":""}]
["",null,null,null,null,null,null,null,null,{"$f":"IF(I1603= \"\",\"\",VLOOKUP(I1603,会場マスタ!$A:$B,2,FALSE))","v":""}]
["",null,null,null,null,null,null,null,null,{"$f":"IF(I1604= \"\",\"\",VLOOKUP(I1604,会場マスタ!$A:$B,2,FALSE))","v":""}]
["",null,null,null,null,null,null,null,null,{"$f":"IF(I1605= \"\",\"\",VLOOKUP(I1605,会場マスタ!$A:$B,2,FALSE))","v":""}]
["",null,null,null,null,null,null,null,null,{"$f":"IF(I1606= \"\",\"\",VLOOKUP(I1606,会場マスタ!$A:$B,2,FALSE))","v":""}]
[{"$f":"IF(B1607<>\"\",ROW(A1607)-4,\"\")","v":""},null,null,null,null,null,null,null,null,{"$f":"IF(I1607= \"\",\"\",VLOOKUP(I1607,会場マスタ!$A:$B,2,FALSE))","v":""}]
["",null,null,null,null,null,null,null,null,{"$f":"IF(I1608= \"\",\"\",VLOOKUP(I1608,会場マスタ!$A:$B,2,FALSE))","v":""}]
["",null,null,null,null,null,null,null,null,{"$f":"IF(I1609= \"\",\"\",VLOOKUP(I1609,会場マスタ!$A:$B,2,FALSE))","v":""}]
["",null,null,null,null,null,null,null,null,{"$f":"IF(I1610= \"\",\"\",VLOOKUP(I1610,会場マスタ!$A:$B,2,FALSE))","v":""}]
["",null,null,null,null,null,null,null,null,{"$f":"IF(I1611= \"\",\"\",VLOOKUP(I1611,会場マスタ!$A:$B,2,FALSE))","v":""}]
["",null,null,null,null,null,null,null,null,{"$f":"IF(I1612= \"\",\"\",VLOOKUP(I1612,会場マスタ!$A:$B,2,FALSE))","v":""}]
["",null,null,null,null,null,null,null,null,{"$f":"IF(I1613= \"\",\"\",VLOOKUP(I1613,会場マスタ!$A:$B,2,FALSE))","v":""}]
["",null,null,null,null,null,null,null,null,{"$f":"IF(I1614= \"\",\"\",VLOOKUP(I1614,会場マスタ!$A:$B,2,FALSE))","v":""}]
["",null,null,null,null,null,null,null,null,{"$f":"IF(I1615= \"\",\"\",VLOOKUP(I1615,会場マスタ!$A:$B,2,FALSE))","v":""}]
["",null,null,null,null,null,null,null,null,{"$f":"IF(I1616= \"\",\"\",VLOOKUP(I1616,会場マスタ!$A:$B,2,FALSE))","v":""}]
["",null,null,null,null,null,null,null,null,{"$f":"IF(I1617= \"\",\"\",VLOOKUP(I1617,会場マスタ!$A:$B,2,FALSE))","v":""}]
["",null,null,null,null,null,null,null,null,{"$f":"IF(I1618= \"\",\"\",VLOOKUP(I1618,会場マスタ!$A:$B,2,FALSE))","v":""}]
["",null,null,null,null,null,null,null,null,{"$f":"IF(I1619= \"\",\"\",VLOOKUP(I1619,会場マスタ!$A:$B,2,FALSE))","v":""}]
["",null,null,null,null,null,null,null,null,{"$f":"IF(I1620= \"\",\"\",VLOOKUP(I1620,会場マスタ!$A:$B,2,FALSE))","v":""}]
["",null,null,null,null,null,null,null,null,{"$f":"IF(I1621= \"\",\"\",VLOOKUP(I1621,会場マスタ!$A:$B,2,FALSE))","v":""}]
["",null,null,null,null,null,null,null,null,{"$f":"IF(I1622= \"\",\"\",VLOOKUP(I1622,会場マスタ!$A:$B,2,FALSE))","v":""}]
["",null,null,null,null,null,null,null,null,{"$f":"IF(I1623= \"\",\"\",VLOOKUP(I1623,会場マスタ!$A:$B,2,FALSE))","v":""}]
["",null,null,null,null,null,null,null,null,{"$f":"IF(I1624= \"\",\"\",VLOOKUP(I1624,会場マスタ!$A:$B,2,FALSE))","v":""}]
["",null,null,null,null,null,null,null,null,{"$f":"IF(I1625= \"\",\"\",VLOOKUP(I1625,会場マスタ!$A:$B,2,FALSE))","v":""}]
["",null,null,null,null,null,null,null,null,{"$f":"IF(I1626= \"\",\"\",VLOOKUP(I1626,会場マスタ!$A:$B,2,FALSE))","v":""}]
["",null,null,null,null,null,null,null,null,{"$f":"IF(I1627= \"\",\"\",VLOOKUP(I1627,会場マスタ!$A:$B,2,FALSE))","v":""}]
["",null,null,null,null,null,null,null,null,{"$f":"IF(I1628= \"\",\"\",VLOOKUP(I1628,会場マスタ!$A:$B,2,FALSE))","v":""}]
["",null,null,null,null,null,null,null,null,{"$f":"IF(I1629= \"\",\"\",VLOOKUP(I1629,会場マスタ!$A:$B,2,FALSE))","v":""}]
["",null,null,null,null,null,null,null,null,{"$f":"IF(I1630= \"\",\"\",VLOOKUP(I1630,会場マスタ!$A:$B,2,FALSE))","v":""}]
["",null,null,null,null,null,null,null,null,{"$f":"IF(I1631= \"\",\"\",VLOOKUP(I1631,会場マスタ!$A:$B,2,FALSE))","v":""}]
["",null,null,null,null,null,null,null,null,{"$f":"IF(I1632= \"\",\"\",VLOOKUP(I1632,会場マスタ!$A:$B,2,FALSE))","v":""}]
["",null,null,null,null,null,null,null,null,{"$f":"IF(I1633= \"\",\"\",VLOOKUP(I1633,会場マスタ!$A:$B,2,FALSE))","v":""}]
["",null,null,null,null,null,null,null,null,{"$f":"IF(I1634= \"\",\"\",VLOOKUP(I1634,会場マスタ!$A:$B,2,FALSE))","v":""}]
["",null,null,null,null,null,null,null,null,{"$f":"IF(I1635= \"\",\"\",VLOOKUP(I1635,会場マスタ!$A:$B,2,FALSE))","v":""}]
["",null,null,null,null,null,null,null,null,{"$f":"IF(I1636= \"\",\"\",VLOOKUP(I1636,会場マスタ!$A:$B,2,FALSE))","v":""}]
["",null,null,null,null,null,null,null,null,{"$f":"IF(I1637= \"\",\"\",VLOOKUP(I1637,会場マスタ!$A:$B,2,FALSE))","v":""}]
["",null,null,null,null,null,null,null,null,{"$f":"IF(I1638= \"\",\"\",VLOOKUP(I1638,会場マスタ!$A:$B,2,FALSE))","v":""}]
["",null,null,null,null,null,null,null,null,{"$f":"IF(I1639= \"\",\"\",VLOOKUP(I1639,会場マスタ!$A:$B,2,FALSE))","v":""}]
["",null,null,null,null,null,null,null,null,{"$f":"IF(I1640= \"\",\"\",VLOOKUP(I1640,会場マスタ!$A:$B,2,FALSE))","v":""}]
["",null,null,null,null,null,null,null,null,{"$f":"IF(I1641= \"\",\"\",VLOOKUP(I1641,会場マスタ!$A:$B,2,FALSE))","v":""}]
["",null,null,null,null,null,null,null,null,{"$f":"IF(I1642= \"\",\"\",VLOOKUP(I1642,会場マスタ!$A:$B,2,FALSE))","v":""}]
["",null,null,null,null,null,null,null,null,{"$f":"IF(I1643= \"\",\"\",VLOOKUP(I1643,会場マスタ!$A:$B,2,FALSE))","v":""}]
["",null,null,null,null,null,null,null,null,{"$f":"IF(I1644= \"\",\"\",VLOOKUP(I1644,会場マスタ!$A:$B,2,FALSE))","v":""}]
["",null,null,null,null,null,null,null,null,{"$f":"IF(I1645= \"\",\"\",VLOOKUP(I1645,会場マスタ!$A:$B,2,FALSE))","v":""}]
["",null,null,null,null,null,null,null,null,{"$f":"IF(I1646= \"\",\"\",VLOOKUP(I1646,会場マスタ!$A:$B,2,FALSE))","v":""}]
["",null,null,null,null,null,null,null,null,{"$f":"IF(I1647= \"\",\"\",VLOOKUP(I1647,会場マスタ!$A:$B,2,FALSE))","v":""}]
["",null,null,null,null,null,null,null,null,{"$f":"IF(I1648= \"\",\"\",VLOOKUP(I1648,会場マスタ!$A:$B,2,FALSE))","v":""}]
["",null,null,null,null,null,null,null,null,{"$f":"IF(I1649= \"\",\"\",VLOOKUP(I1649,会場マスタ!$A:$B,2,FALSE))","v":""}]
["",null,null,null,null,null,null,null,null,{"$f":"IF(I1650= \"\",\"\",VLOOKUP(I1650,会場マスタ!$A:$B,2,FALSE))","v":""}]
["",null,null,null,null,null,null,null,null,{"$f":"IF(I1651= \"\",\"\",VLOOKUP(I1651,会場マスタ!$A:$B,2,FALSE))","v":""}]
["",null,null,null,null,null,null,null,null,{"$f":"IF(I1652= \"\",\"\",VLOOKUP(I1652,会場マスタ!$A:$B,2,FALSE))","v":""}]
["",null,null,null,null,null,null,null,null,{"$f":"IF(I1653= \"\",\"\",VLOOKUP(I1653,会場マスタ!$A:$B,2,FALSE))","v":""}]
["",null,null,null,null,null,null,null,null,{"$f":"IF(I1654= \"\",\"\",VLOOKUP(I1654,会場マスタ!$A:$B,2,FALSE))","v":""}]
["",null,null,null,null,null,null,null,null,{"$f":"IF(I1655= \"\",\"\",VLOOKUP(I1655,会場マスタ!$A:$B,2,FALSE))","v":""}]
["",null,null,null,null,null,null,null,null,{"$f":"IF(I1656= \"\",\"\",VLOOKUP(I1656,会場マスタ!$A:$B,2,FALSE))","v":""}]
["",null,null,null,null,null,null,null,null,{"$f":"IF(I1657= \"\",\"\",VLOOKUP(I1657,会場マスタ!$A:$B,2,FALSE))","v":""}]
["",null,null,null,null,null,null,null,null,{"$f":"IF(I1658= \"\",\"\",VLOOKUP(I1658,会場マスタ!$A:$B,2,FALSE))","v":""}]
["",null,null,null,null,null,null,null,null,{"$f":"IF(I1659= \"\",\"\",VLOOKUP(I1659,会場マスタ!$A:$B,2,FALSE))","v":""}]
["",null,null,null,null,null,null,null,null,{"$f":"IF(I1660= \"\",\"\",VLOOKUP(I1660,会場マスタ!$A:$B,2,FALSE))","v":""}]
["",null,null,null,null,null,null,null,null,{"$f":"IF(I1661= \"\",\"\",VLOOKUP(I1661,会場マスタ!$A:$B,2,FALSE))","v":""}]
["",null,null,null,null,null,null,null,null,{"$f":"IF(I1662= \"\",\"\",VLOOKUP(I1662,会場マスタ!$A:$B,2,FALSE))","v":""}]
["",null,null,null,null,null,null,null,null,{"$f":"IF(I1663= \"\",\"\",VLOOKUP(I1663,会場マスタ!$A:$B,2,FALSE))","v":""}]
["",null,null,null,null,null,null,null,null,{"$f":"IF(I1664= \"\",\"\",VLOOKUP(I1664,会場マスタ!$A:$B,2,FALSE))","v":""}]
["",null,null,null,null,null,null,null,null,{"$f":"IF(I1665= \"\",\"\",VLOOKUP(I1665,会場マスタ!$A:$B,2,FALSE))","v":""}]
["",null,null,null,null,null,null,null,null,{"$f":"IF(I1666= \"\",\"\",VLOOKUP(I1666,会場マスタ!$A:$B,2,FALSE))","v":""}]
["",null,null,null,null,null,null,null,null,{"$f":"IF(I1667= \"\",\"\",VLOOKUP(I1667,会場マスタ!$A:$B,2,FALSE))","v":""}]
["",null,null,null,null,null,null,null,null,{"$f":"IF(I1668= \"\",\"\",VLOOKUP(I1668,会場マスタ!$A:$B,2,FALSE))","v":""}]
["",null,null,null,null,null,null,null,null,{"$f":"IF(I1669= \"\",\"\",VLOOKUP(I1669,会場マスタ!$A:$B,2,FALSE))","v":""}]
["",null,null,null,null,null,null,null,null,{"$f":"IF(I1670= \"\",\"\",VLOOKUP(I1670,会場マスタ!$A:$B,2,FALSE))","v":""}]
[{"$f":"IF(B1671<>\"\",ROW(A1671)-4,\"\")","v":""},null,null,null,null,null,null,null,null,{"$f":"IF(I1671= \"\",\"\",VLOOKUP(I1671,会場マスタ!$A:$B,2,FALSE))","v":""}]
["",null,null,null,null,null,null,null,null,{"$f":"IF(I1672= \"\",\"\",VLOOKUP(I1672,会場マスタ!$A:$B,2,FALSE))","v":""}]
["",null,null,null,null,null,null,null,null,{"$f":"IF(I1673= \"\",\"\",VLOOKUP(I1673,会場マスタ!$A:$B,2,FALSE))","v":""}]
["",null,null,null,null,null,null,null,null,{"$f":"IF(I1674= \"\",\"\",VLOOKUP(I1674,会場マスタ!$A:$B,2,FALSE))","v":""}]
["",null,null,null,null,null,null,null,null,{"$f":"IF(I1675= \"\",\"\",VLOOKUP(I1675,会場マスタ!$A:$B,2,FALSE))","v":""}]
["",null,null,null,null,null,null,null,null,{"$f":"IF(I1676= \"\",\"\",VLOOKUP(I1676,会場マスタ!$A:$B,2,FALSE))","v":""}]
["",null,null,null,null,null,null,null,null,{"$f":"IF(I1677= \"\",\"\",VLOOKUP(I1677,会場マスタ!$A:$B,2,FALSE))","v":""}]
["",null,null,null,null,null,null,null,null,{"$f":"IF(I1678= \"\",\"\",VLOOKUP(I1678,会場マスタ!$A:$B,2,FALSE))","v":""}]
["",null,null,null,null,null,null,null,null,{"$f":"IF(I1679= \"\",\"\",VLOOKUP(I1679,会場マスタ!$A:$B,2,FALSE))","v":""}]
["",null,null,null,null,null,null,null,null,{"$f":"IF(I1680= \"\",\"\",VLOOKUP(I1680,会場マスタ!$A:$B,2,FALSE))","v":""}]
["",null,null,null,null,null,null,null,null,{"$f":"IF(I1681= \"\",\"\",VLOOKUP(I1681,会場マスタ!$A:$B,2,FALSE))","v":""}]
["",null,null,null,null,null,null,null,null,{"$f":"IF(I1682= \"\",\"\",VLOOKUP(I1682,会場マスタ!$A:$B,2,FALSE))","v":""}]
["",null,null,null,null,null,null,null,null,{"$f":"IF(I1683= \"\",\"\",VLOOKUP(I1683,会場マスタ!$A:$B,2,FALSE))","v":""}]
["",null,null,null,null,null,null,null,null,{"$f":"IF(I1684= \"\",\"\",VLOOKUP(I1684,会場マスタ!$A:$B,2,FALSE))","v":""}]
["",null,null,null,null,null,null,null,null,{"$f":"IF(I1685= \"\",\"\",VLOOKUP(I1685,会場マスタ!$A:$B,2,FALSE))","v":""}]
["",null,null,null,null,null,null,null,null,{"$f":"IF(I1686= \"\",\"\",VLOOKUP(I1686,会場マスタ!$A:$B,2,FALSE))","v":""}]
["",null,null,null,null,null,null,null,null,{"$f":"IF(I1687= \"\",\"\",VLOOKUP(I1687,会場マスタ!$A:$B,2,FALSE))","v":""}]
["",null,null,null,null,null,null,null,null,{"$f":"IF(I1688= \"\",\"\",VLOOKUP(I1688,会場マスタ!$A:$B,2,FALSE))","v":""}]
["",null,null,null,null,null,null,null,null,{"$f":"IF(I1689= \"\",\"\",VLOOKUP(I1689,会場マスタ!$A:$B,2,FALSE))","v":""}]
["",null,null,null,null,null,null,null,null,{"$f":"IF(I1690= \"\",\"\",VLOOKUP(I1690,会場マスタ!$A:$B,2,FALSE))","v":""}]
["",null,null,null,null,null,null,null,null,{"$f":"IF(I1691= \"\",\"\",VLOOKUP(I1691,会場マスタ!$A:$B,2,FALSE))","v":""}]
["",null,null,null,null,null,null,null,null,{"$f":"IF(I1692= \"\",\"\",VLOOKUP(I1692,会場マスタ!$A:$B,2,FALSE))","v":""}]
["",null,null,null,null,null,null,null,null,{"$f":"IF(I1693= \"\",\"\",VLOOKUP(I1693,会場マスタ!$A:$B,2,FALSE))","v":""}]
["",null,null,null,null,null,null,null,null,{"$f":"IF(I1694= \"\",\"\",VLOOKUP(I1694,会場マスタ!$A:$B,2,FALSE))","v":""}]
["",null,null,null,null,null,null,null,null,{"$f":"IF(I1695= \"\",\"\",VLOOKUP(I1695,会場マスタ!$A:$B,2,FALSE))","v":""}]
["",null,null,null,null,null,null,null,null,{"$f":"IF(I1696= \"\",\"\",VLOOKUP(I1696,会場マスタ!$A:$B,2,FALSE))","v":""}]
["",null,null,null,null,null,null,null,null,{"$f":"IF(I1697= \"\",\"\",VLOOKUP(I1697,会場マスタ!$A:$B,2,FALSE))","v":""}]
["",null,null,null,null,null,null,null,null,{"$f":"IF(I1698= \"\",\"\",VLOOKUP(I1698,会場マスタ!$A:$B,2,FALSE))","v":""}]
["",null,null,null,null,null,null,null,null,{"$f":"IF(I1699= \"\",\"\",VLOOKUP(I1699,会場マスタ!$A:$B,2,FALSE))","v":""}]
["",null,null,null,null,null,null,null,null,{"$f":"IF(I1700= \"\",\"\",VLOOKUP(I1700,会場マスタ!$A:$B,2,FALSE))","v":""}]
["",null,null,null,null,null,null,null,null,{"$f":"IF(I1701= \"\",\"\",VLOOKUP(I1701,会場マスタ!$A:$B,2,FALSE))","v":""}]
["",null,null,null,null,null,null,null,null,{"$f":"IF(I1702= \"\",\"\",VLOOKUP(I1702,会場マスタ!$A:$B,2,FALSE))","v":""}]
["",null,null,null,null,null,null,null,null,{"$f":"IF(I1703= \"\",\"\",VLOOKUP(I1703,会場マスタ!$A:$B,2,FALSE))","v":""}]
["",null,null,null,null,null,null,null,null,{"$f":"IF(I1704= \"\",\"\",VLOOKUP(I1704,会場マスタ!$A:$B,2,FALSE))","v":""}]
["",null,null,null,null,null,null,null,null,{"$f":"IF(I1705= \"\",\"\",VLOOKUP(I1705,会場マスタ!$A:$B,2,FALSE))","v":""}]
["",null,null,null,null,null,null,null,null,{"$f":"IF(I1706= \"\",\"\",VLOOKUP(I1706,会場マスタ!$A:$B,2,FALSE))","v":""}]
["",null,null,null,null,null,null,null,null,{"$f":"IF(I1707= \"\",\"\",VLOOKUP(I1707,会場マスタ!$A:$B,2,FALSE))","v":""}]
["",null,null,null,null,null,null,null,null,{"$f":"IF(I1708= \"\",\"\",VLOOKUP(I1708,会場マスタ!$A:$B,2,FALSE))","v":""}]
["",null,null,null,null,null,null,null,null,{"$f":"IF(I1709= \"\",\"\",VLOOKUP(I1709,会場マスタ!$A:$B,2,FALSE))","v":""}]
["",null,null,null,null,null,null,null,null,{"$f":"IF(I1710= \"\",\"\",VLOOKUP(I1710,会場マスタ!$A:$B,2,FALSE))","v":""}]
["",null,null,null,null,null,null,null,null,{"$f":"IF(I1711= \"\",\"\",VLOOKUP(I1711,会場マスタ!$A:$B,2,FALSE))","v":""}]
["",null,null,null,null,null,null,null,null,{"$f":"IF(I1712= \"\",\"\",VLOOKUP(I1712,会場マスタ!$A:$B,2,FALSE))","v":""}]
["",null,null,null,null,null,null,null,null,{"$f":"IF(I1713= \"\",\"\",VLOOKUP(I1713,会場マスタ!$A:$B,2,FALSE))","v":""}]
["",null,null,null,null,null,null,null,null,{"$f":"IF(I1714= \"\",\"\",VLOOKUP(I1714,会場マスタ!$A:$B,2,FALSE))","v":""}]
["",null,null,null,null,null,null,null,null,{"$f":"IF(I1715= \"\",\"\",VLOOKUP(I1715,会場マスタ!$A:$B,2,FALSE))","v":""}]
["",null,null,null,null,null,null,null,null,{"$f":"IF(I1716= \"\",\"\",VLOOKUP(I1716,会場マスタ!$A:$B,2,FALSE))","v":""}]
["",null,null,null,null,null,null,null,null,{"$f":"IF(I1717= \"\",\"\",VLOOKUP(I1717,会場マスタ!$A:$B,2,FALSE))","v":""}]
["",null,null,null,null,null,null,null,null,{"$f":"IF(I1718= \"\",\"\",VLOOKUP(I1718,会場マスタ!$A:$B,2,FALSE))","v":""}]
["",null,null,null,null,null,null,null,null,{"$f":"IF(I1719= \"\",\"\",VLOOKUP(I1719,会場マスタ!$A:$B,2,FALSE))","v":""}]
["",null,null,null,null,null,null,null,null,{"$f":"IF(I1720= \"\",\"\",VLOOKUP(I1720,会場マスタ!$A:$B,2,FALSE))","v":""}]
["",null,null,null,null,null,null,null,null,{"$f":"IF(I1721= \"\",\"\",VLOOKUP(I1721,会場マスタ!$A:$B,2,FALSE))","v":""}]
["",null,null,null,null,null,null,null,null,{"$f":"IF(I1722= \"\",\"\",VLOOKUP(I1722,会場マスタ!$A:$B,2,FALSE))","v":""}]
["",null,null,null,null,null,null,null,null,{"$f":"IF(I1723= \"\",\"\",VLOOKUP(I1723,会場マスタ!$A:$B,2,FALSE))","v":""}]
["",null,null,null,null,null,null,null,null,{"$f":"IF(I1724= \"\",\"\",VLOOKUP(I1724,会場マスタ!$A:$B,2,FALSE))","v":""}]
["",null,null,null,null,null,null,null,null,{"$f":"IF(I1725= \"\",\"\",VLOOKUP(I1725,会場マスタ!$A:$B,2,FALSE))","v":""}]
["",null,null,null,null,null,null,null,null,{"$f":"IF(I1726= \"\",\"\",VLOOKUP(I1726,会場マスタ!$A:$B,2,FALSE))","v":""}]
["",null,null,null,null,null,null,null,null,{"$f":"IF(I1727= \"\",\"\",VLOOKUP(I1727,会場マスタ!$A:$B,2,FALSE))","v":""}]
["",null,null,null,null,null,null,null,null,{"$f":"IF(I1728= \"\",\"\",VLOOKUP(I1728,会場マスタ!$A:$B,2,FALSE))","v":""}]
["",null,null,null,null,null,null,null,null,{"$f":"IF(I1729= \"\",\"\",VLOOKUP(I1729,会場マスタ!$A:$B,2,FALSE))","v":""}]
["",null,null,null,null,null,null,null,null,{"$f":"IF(I1730= \"\",\"\",VLOOKUP(I1730,会場マスタ!$A:$B,2,FALSE))","v":""}]
["",null,null,null,null,null,null,null,null,{"$f":"IF(I1731= \"\",\"\",VLOOKUP(I1731,会場マスタ!$A:$B,2,FALSE))","v":""}]
["",null,null,null,null,null,null,null,null,{"$f":"IF(I1732= \"\",\"\",VLOOKUP(I1732,会場マスタ!$A:$B,2,FALSE))","v":""}]
["",null,null,null,null,null,null,null,null,{"$f":"IF(I1733= \"\",\"\",VLOOKUP(I1733,会場マスタ!$A:$B,2,FALSE))","v":""}]
["",null,null,null,null,null,null,null,null,{"$f":"IF(I1734= \"\",\"\",VLOOKUP(I1734,会場マスタ!$A:$B,2,FALSE))","v":""}]
[{"$f":"IF(B1735<>\"\",ROW(A1735)-4,\"\")","v":""},null,null,null,null,null,null,null,null,{"$f":"IF(I1735= \"\",\"\",VLOOKUP(I1735,会場マスタ!$A:$B,2,FALSE))","v":""}]
["",null,null,null,null,null,null,null,null,{"$f":"IF(I1736= \"\",\"\",VLOOKUP(I1736,会場マスタ!$A:$B,2,FALSE))","v":""}]
["",null,null,null,null,null,null,null,null,{"$f":"IF(I1737= \"\",\"\",VLOOKUP(I1737,会場マスタ!$A:$B,2,FALSE))","v":""}]
["",null,null,null,null,null,null,null,null,{"$f":"IF(I1738= \"\",\"\",VLOOKUP(I1738,会場マスタ!$A:$B,2,FALSE))","v":""}]
["",null,null,null,null,null,null,null,null,{"$f":"IF(I1739= \"\",\"\",VLOOKUP(I1739,会場マスタ!$A:$B,2,FALSE))","v":""}]
["",null,null,null,null,null,null,null,null,{"$f":"IF(I1740= \"\",\"\",VLOOKUP(I1740,会場マスタ!$A:$B,2,FALSE))","v":""}]
["",null,null,null,null,null,null,null,null,{"$f":"IF(I1741= \"\",\"\",VLOOKUP(I1741,会場マスタ!$A:$B,2,FALSE))","v":""}]
["",null,null,null,null,null,null,null,null,{"$f":"IF(I1742= \"\",\"\",VLOOKUP(I1742,会場マスタ!$A:$B,2,FALSE))","v":""}]
["",null,null,null,null,null,null,null,null,{"$f":"IF(I1743= \"\",\"\",VLOOKUP(I1743,会場マスタ!$A:$B,2,FALSE))","v":""}]
["",null,null,null,null,null,null,null,null,{"$f":"IF(I1744= \"\",\"\",VLOOKUP(I1744,会場マスタ!$A:$B,2,FALSE))","v":""}]
["",null,null,null,null,null,null,null,null,{"$f":"IF(I1745= \"\",\"\",VLOOKUP(I1745,会場マスタ!$A:$B,2,FALSE))","v":""}]
["",null,null,null,null,null,null,null,null,{"$f":"IF(I1746= \"\",\"\",VLOOKUP(I1746,会場マスタ!$A:$B,2,FALSE))","v":""}]
["",null,null,null,null,null,null,null,null,{"$f":"IF(I1747= \"\",\"\",VLOOKUP(I1747,会場マスタ!$A:$B,2,FALSE))","v":""}]
["",null,null,null,null,null,null,null,null,{"$f":"IF(I1748= \"\",\"\",VLOOKUP(I1748,会場マスタ!$A:$B,2,FALSE))","v":""}]
["",null,null,null,null,null,null,null,null,{"$f":"IF(I1749= \"\",\"\",VLOOKUP(I1749,会場マスタ!$A:$B,2,FALSE))","v":""}]
["",null,null,null,null,null,null,null,null,{"$f":"IF(I1750= \"\",\"\",VLOOKUP(I1750,会場マスタ!$A:$B,2,FALSE))","v":""}]
["",null,null,null,null,null,null,null,null,{"$f":"IF(I1751= \"\",\"\",VLOOKUP(I1751,会場マスタ!$A:$B,2,FALSE))","v":""}]
["",null,null,null,null,null,null,null,null,{"$f":"IF(I1752= \"\",\"\",VLOOKUP(I1752,会場マスタ!$A:$B,2,FALSE))","v":""}]
["",null,null,null,null,null,null,null,null,{"$f":"IF(I1753= \"\",\"\",VLOOKUP(I1753,会場マスタ!$A:$B,2,FALSE))","v":""}]
["",null,null,null,null,null,null,null,null,{"$f":"IF(I1754= \"\",\"\",VLOOKUP(I1754,会場マスタ!$A:$B,2,FALSE))","v":""}]
["",null,null,null,null,null,null,null,null,{"$f":"IF(I1755= \"\",\"\",VLOOKUP(I1755,会場マスタ!$A:$B,2,FALSE))","v":""}]
["",null,null,null,null,null,null,null,null,{"$f":"IF(I1756= \"\",\"\",VLOOKUP(I1756,会場マスタ!$A:$B,2,FALSE))","v":""}]
["",null,null,null,null,null,null,null,null,{"$f":"IF(I1757= \"\",\"\",VLOOKUP(I1757,会場マスタ!$A:$B,2,FALSE))","v":""}]
["",null,null,null,null,null,null,null,null,{"$f":"IF(I1758= \"\",\"\",VLOOKUP(I1758,会場マスタ!$A:$B,2,FALSE))","v":""}]
["",null,null,null,null,null,null,null,null,{"$f":"IF(I1759= \"\",\"\",VLOOKUP(I1759,会場マスタ!$A:$B,2,FALSE))","v":""}]
["",null,null,null,null,null,null,null,null,{"$f":"IF(I1760= \"\",\"\",VLOOKUP(I1760,会場マスタ!$A:$B,2,FALSE))","v":""}]
["",null,null,null,null,null,null,null,null,{"$f":"IF(I1761= \"\",\"\",VLOOKUP(I1761,会場マスタ!$A:$B,2,FALSE))","v":""}]
["",null,null,null,null,null,null,null,null,{"$f":"IF(I1762= \"\",\"\",VLOOKUP(I1762,会場マスタ!$A:$B,2,FALSE))","v":""}]
["",null,null,null,null,null,null,null,null,{"$f":"IF(I1763= \"\",\"\",VLOOKUP(I1763,会場マスタ!$A:$B,2,FALSE))","v":""}]
["",null,null,null,null,null,null,null,null,{"$f":"IF(I1764= \"\",\"\",VLOOKUP(I1764,会場マスタ!$A:$B,2,FALSE))","v":""}]
["",null,null,null,null,null,null,null,null,{"$f":"IF(I1765= \"\",\"\",VLOOKUP(I1765,会場マスタ!$A:$B,2,FALSE))","v":""}]
["",null,null,null,null,null,null,null,null,{"$f":"IF(I1766= \"\",\"\",VLOOKUP(I1766,会場マスタ!$A:$B,2,FALSE))","v":""}]
["",null,null,null,null,null,null,null,null,{"$f":"IF(I1767= \"\",\"\",VLOOKUP(I1767,会場マスタ!$A:$B,2,FALSE))","v":""}]
["",null,null,null,null,null,null,null,null,{"$f":"IF(I1768= \"\",\"\",VLOOKUP(I1768,会場マスタ!$A:$B,2,FALSE))","v":""}]
["",null,null,null,null,null,null,null,null,{"$f":"IF(I1769= \"\",\"\",VLOOKUP(I1769,会場マスタ!$A:$B,2,FALSE))","v":""}]
["",null,null,null,null,null,null,null,null,{"$f":"IF(I1770= \"\",\"\",VLOOKUP(I1770,会場マスタ!$A:$B,2,FALSE))","v":""}]
["",null,null,null,null,null,null,null,null,{"$f":"IF(I1771= \"\",\"\",VLOOKUP(I1771,会場マスタ!$A:$B,2,FALSE))","v":""}]
["",null,null,null,null,null,null,null,null,{"$f":"IF(I1772= \"\",\"\",VLOOKUP(I1772,会場マスタ!$A:$B,2,FALSE))","v":""}]
["",null,null,null,null,null,null,null,null,{"$f":"IF(I1773= \"\",\"\",VLOOKUP(I1773,会場マスタ!$A:$B,2,FALSE))","v":""}]
["",null,null,null,null,null,null,null,null,{"$f":"IF(I1774= \"\",\"\",VLOOKUP(I1774,会場マスタ!$A:$B,2,FALSE))","v":""}]
["",null,null,null,null,null,null,null,null,{"$f":"IF(I1775= \"\",\"\",VLOOKUP(I1775,会場マスタ!$A:$B,2,FALSE))","v":""}]
["",null,null,null,null,null,null,null,null,{"$f":"IF(I1776= \"\",\"\",VLOOKUP(I1776,会場マスタ!$A:$B,2,FALSE))","v":""}]
["",null,null,null,null,null,null,null,null,{"$f":"IF(I1777= \"\",\"\",VLOOKUP(I1777,会場マスタ!$A:$B,2,FALSE))","v":""}]
["",null,null,null,null,null,null,null,null,{"$f":"IF(I1778= \"\",\"\",VLOOKUP(I1778,会場マスタ!$A:$B,2,FALSE))","v":""}]
["",null,null,null,null,null,null,null,null,{"$f":"IF(I1779= \"\",\"\",VLOOKUP(I1779,会場マスタ!$A:$B,2,FALSE))","v":""}]
["",null,null,null,null,null,null,null,null,{"$f":"IF(I1780= \"\",\"\",VLOOKUP(I1780,会場マスタ!$A:$B,2,FALSE))","v":""}]
["",null,null,null,null,null,null,null,null,{"$f":"IF(I1781= \"\",\"\",VLOOKUP(I1781,会場マスタ!$A:$B,2,FALSE))","v":""}]
["",null,null,null,null,null,null,null,null,{"$f":"IF(I1782= \"\",\"\",VLOOKUP(I1782,会場マスタ!$A:$B,2,FALSE))","v":""}]
["",null,null,null,null,null,null,null,null,{"$f":"IF(I1783= \"\",\"\",VLOOKUP(I1783,会場マスタ!$A:$B,2,FALSE))","v":""}]
["",null,null,null,null,null,null,null,null,{"$f":"IF(I1784= \"\",\"\",VLOOKUP(I1784,会場マスタ!$A:$B,2,FALSE))","v":""}]
["",null,null,null,null,null,null,null,null,{"$f":"IF(I1785= \"\",\"\",VLOOKUP(I1785,会場マスタ!$A:$B,2,FALSE))","v":""}]
["",null,null,null,null,null,null,null,null,{"$f":"IF(I1786= \"\",\"\",VLOOKUP(I1786,会場マスタ!$A:$B,2,FALSE))","v":""}]
["",null,null,null,null,null,null,null,null,{"$f":"IF(I1787= \"\",\"\",VLOOKUP(I1787,会場マスタ!$A:$B,2,FALSE))","v":""}]
["",null,null,null,null,null,null,null,null,{"$f":"IF(I1788= \"\",\"\",VLOOKUP(I1788,会場マスタ!$A:$B,2,FALSE))","v":""}]
["",null,null,null,null,null,null,null,null,{"$f":"IF(I1789= \"\",\"\",VLOOKUP(I1789,会場マスタ!$A:$B,2,FALSE))","v":""}]
["",null,null,null,null,null,null,null,null,{"$f":"IF(I1790= \"\",\"\",VLOOKUP(I1790,会場マスタ!$A:$B,2,FALSE))","v":""}]
["",null,null,null,null,null,null,null,null,{"$f":"IF(I1791= \"\",\"\",VLOOKUP(I1791,会場マスタ!$A:$B,2,FALSE))","v":""}]
["",null,null,null,null,null,null,null,null,{"$f":"IF(I1792= \"\",\"\",VLOOKUP(I1792,会場マスタ!$A:$B,2,FALSE))","v":""}]
["",null,null,null,null,null,null,null,null,{"$f":"IF(I1793= \"\",\"\",VLOOKUP(I1793,会場マスタ!$A:$B,2,FALSE))","v":""}]
["",null,null,null,null,null,null,null,null,{"$f":"IF(I1794= \"\",\"\",VLOOKUP(I1794,会場マスタ!$A:$B,2,FALSE))","v":""}]
["",null,null,null,null,null,null,null,null,{"$f":"IF(I1795= \"\",\"\",VLOOKUP(I1795,会場マスタ!$A:$B,2,FALSE))","v":""}]
["",null,null,null,null,null,null,null,null,{"$f":"IF(I1796= \"\",\"\",VLOOKUP(I1796,会場マスタ!$A:$B,2,FALSE))","v":""}]
["",null,null,null,null,null,null,null,null,{"$f":"IF(I1797= \"\",\"\",VLOOKUP(I1797,会場マスタ!$A:$B,2,FALSE))","v":""}]
["",null,null,null,null,null,null,null,null,{"$f":"IF(I1798= \"\",\"\",VLOOKUP(I1798,会場マスタ!$A:$B,2,FALSE))","v":""}]
[{"$f":"IF(B1799<>\"\",ROW(A1799)-4,\"\")","v":""},null,null,null,null,null,null,null,null,{"$f":"IF(I1799= \"\",\"\",VLOOKUP(I1799,会場マスタ!$A:$B,2,FALSE))","v":""}]
["",null,null,null,null,null,null,null,null,{"$f":"IF(I1800= \"\",\"\",VLOOKUP(I1800,会場マスタ!$A:$B,2,FALSE))","v":""}]
["",null,null,null,null,null,null,null,null,{"$f":"IF(I1801= \"\",\"\",VLOOKUP(I1801,会場マスタ!$A:$B,2,FALSE))","v":""}]
["",null,null,null,null,null,null,null,null,{"$f":"IF(I1802= \"\",\"\",VLOOKUP(I1802,会場マスタ!$A:$B,2,FALSE))","v":""}]
["",null,null,null,null,null,null,null,null,{"$f":"IF(I1803= \"\",\"\",VLOOKUP(I1803,会場マスタ!$A:$B,2,FALSE))","v":""}]
["",null,null,null,null,null,null,null,null,{"$f":"IF(I1804= \"\",\"\",VLOOKUP(I1804,会場マスタ!$A:$B,2,FALSE))","v":""}]
["",null,null,null,null,null,null,null,null,{"$f":"IF(I1805= \"\",\"\",VLOOKUP(I1805,会場マスタ!$A:$B,2,FALSE))","v":""}]
["",null,null,null,null,null,null,null,null,{"$f":"IF(I1806= \"\",\"\",VLOOKUP(I1806,会場マスタ!$A:$B,2,FALSE))","v":""}]
["",null,null,null,null,null,null,null,null,{"$f":"IF(I1807= \"\",\"\",VLOOKUP(I1807,会場マスタ!$A:$B,2,FALSE))","v":""}]
["",null,null,null,null,null,null,null,null,{"$f":"IF(I1808= \"\",\"\",VLOOKUP(I1808,会場マスタ!$A:$B,2,FALSE))","v":""}]
["",null,null,null,null,null,null,null,null,{"$f":"IF(I1809= \"\",\"\",VLOOKUP(I1809,会場マスタ!$A:$B,2,FALSE))","v":""}]
["",null,null,null,null,null,null,null,null,{"$f":"IF(I1810= \"\",\"\",VLOOKUP(I1810,会場マスタ!$A:$B,2,FALSE))","v":""}]
["",null,null,null,null,null,null,null,null,{"$f":"IF(I1811= \"\",\"\",VLOOKUP(I1811,会場マスタ!$A:$B,2,FALSE))","v":""}]
["",null,null,null,null,null,null,null,null,{"$f":"IF(I1812= \"\",\"\",VLOOKUP(I1812,会場マスタ!$A:$B,2,FALSE))","v":""}]
["",null,null,null,null,null,null,null,null,{"$f":"IF(I1813= \"\",\"\",VLOOKUP(I1813,会場マスタ!$A:$B,2,FALSE))","v":""}]
["",null,null,null,null,null,null,null,null,{"$f":"IF(I1814= \"\",\"\",VLOOKUP(I1814,会場マスタ!$A:$B,2,FALSE))","v":""}]
["",null,null,null,null,null,null,null,null,{"$f":"IF(I1815= \"\",\"\",VLOOKUP(I1815,会場マスタ!$A:$B,2,FALSE))","v":""}]
["",null,null,null,null,null,null,null,null,{"$f":"IF(I1816= \"\",\"\",VLOOKUP(I1816,会場マスタ!$A:$B,2,FALSE))","v":""}]
["",null,null,null,null,null,null,null,null,{"$f":"IF(I1817= \"\",\"\",VLOOKUP(I1817,会場マスタ!$A:$B,2,FALSE))","v":""}]
["",null,null,null,null,null,null,null,null,{"$f":"IF(I1818= \"\",\"\",VLOOKUP(I1818,会場マスタ!$A:$B,2,FALSE))","v":""}]
["",null,null,null,null,null,null,null,null,{"$f":"IF(I1819= \"\",\"\",VLOOKUP(I1819,会場マスタ!$A:$B,2,FALSE))","v":""}]
["",null,null,null,null,null,null,null,null,{"$f":"IF(I1820= \"\",\"\",VLOOKUP(I1820,会場マスタ!$A:$B,2,FALSE))","v":""}]
["",null,null,null,null,null,null,null,null,{"$f":"IF(I1821= \"\",\"\",VLOOKUP(I1821,会場マスタ!$A:$B,2,FALSE))","v":""}]
["",null,null,null,null,null,null,null,null,{"$f":"IF(I1822= \"\",\"\",VLOOKUP(I1822,会場マスタ!$A:$B,2,FALSE))","v":""}]
["",null,null,null,null,null,null,null,null,{"$f":"IF(I1823= \"\",\"\",VLOOKUP(I1823,会場マスタ!$A:$B,2,FALSE))","v":""}]
["",null,null,null,null,null,null,null,null,{"$f":"IF(I1824= \"\",\"\",VLOOKUP(I1824,会場マスタ!$A:$B,2,FALSE))","v":""}]
["",null,null,null,null,null,null,null,null,{"$f":"IF(I1825= \"\",\"\",VLOOKUP(I1825,会場マスタ!$A:$B,2,FALSE))","v":""}]
["",null,null,null,null,null,null,null,null,{"$f":"IF(I1826= \"\",\"\",VLOOKUP(I1826,会場マスタ!$A:$B,2,FALSE))","v":""}]
["",null,null,null,null,null,null,null,null,{"$f":"IF(I1827= \"\",\"\",VLOOKUP(I1827,会場マスタ!$A:$B,2,FALSE))","v":""}]
["",null,null,null,null,null,null,null,null,{"$f":"IF(I1828= \"\",\"\",VLOOKUP(I1828,会場マスタ!$A:$B,2,FALSE))","v":""}]
["",null,null,null,null,null,null,null,null,{"$f":"IF(I1829= \"\",\"\",VLOOKUP(I1829,会場マスタ!$A:$B,2,FALSE))","v":""}]
["",null,null,null,null,null,null,null,null,{"$f":"IF(I1830= \"\",\"\",VLOOKUP(I1830,会場マスタ!$A:$B,2,FALSE))","v":""}]
["",null,null,null,null,null,null,null,null,{"$f":"IF(I1831= \"\",\"\",VLOOKUP(I1831,会場マスタ!$A:$B,2,FALSE))","v":""}]
["",null,null,null,null,null,null,null,null,{"$f":"IF(I1832= \"\",\"\",VLOOKUP(I1832,会場マスタ!$A:$B,2,FALSE))","v":""}]
["",null,null,null,null,null,null,null,null,{"$f":"IF(I1833= \"\",\"\",VLOOKUP(I1833,会場マスタ!$A:$B,2,FALSE))","v":""}]
["",null,null,null,null,null,null,null,null,{"$f":"IF(I1834= \"\",\"\",VLOOKUP(I1834,会場マスタ!$A:$B,2,FALSE))","v":""}]
["",null,null,null,null,null,null,null,null,{"$f":"IF(I1835= \"\",\"\",VLOOKUP(I1835,会場マスタ!$A:$B,2,FALSE))","v":""}]
["",null,null,null,null,null,null,null,null,{"$f":"IF(I1836= \"\",\"\",VLOOKUP(I1836,会場マスタ!$A:$B,2,FALSE))","v":""}]
["",null,null,null,null,null,null,null,null,{"$f":"IF(I1837= \"\",\"\",VLOOKUP(I1837,会場マスタ!$A:$B,2,FALSE))","v":""}]
["",null,null,null,null,null,null,null,null,{"$f":"IF(I1838= \"\",\"\",VLOOKUP(I1838,会場マスタ!$A:$B,2,FALSE))","v":""}]
["",null,null,null,null,null,null,null,null,{"$f":"IF(I1839= \"\",\"\",VLOOKUP(I1839,会場マスタ!$A:$B,2,FALSE))","v":""}]
["",null,null,null,null,null,null,null,null,{"$f":"IF(I1840= \"\",\"\",VLOOKUP(I1840,会場マスタ!$A:$B,2,FALSE))","v":""}]
["",null,null,null,null,null,null,null,null,{"$f":"IF(I1841= \"\",\"\",VLOOKUP(I1841,会場マスタ!$A:$B,2,FALSE))","v":""}]
["",null,null,null,null,null,null,null,null,{"$f":"IF(I1842= \"\",\"\",VLOOKUP(I1842,会場マスタ!$A:$B,2,FALSE))","v":""}]
["",null,null,null,null,null,null,null,null,{"$f":"IF(I1843= \"\",\"\",VLOOKUP(I1843,会場マスタ!$A:$B,2,FALSE))","v":""}]
["",null,null,null,null,null,null,null,null,{"$f":"IF(I1844= \"\",\"\",VLOOKUP(I1844,会場マスタ!$A:$B,2,FALSE))","v":""}]
["",null,null,null,null,null,null,null,null,{"$f":"IF(I1845= \"\",\"\",VLOOKUP(I1845,会場マスタ!$A:$B,2,FALSE))","v":""}]
["",null,null,null,null,null,null,null,null,{"$f":"IF(I1846= \"\",\"\",VLOOKUP(I1846,会場マスタ!$A:$B,2,FALSE))","v":""}]
["",null,null,null,null,null,null,null,null,{"$f":"IF(I1847= \"\",\"\",VLOOKUP(I1847,会場マスタ!$A:$B,2,FALSE))","v":""}]
["",null,null,null,null,null,null,null,null,{"$f":"IF(I1848= \"\",\"\",VLOOKUP(I1848,会場マスタ!$A:$B,2,FALSE))","v":""}]
["",null,null,null,null,null,null,null,null,{"$f":"IF(I1849= \"\",\"\",VLOOKUP(I1849,会場マスタ!$A:$B,2,FALSE))","v":""}]
["",null,null,null,null,null,null,null,null,{"$f":"IF(I1850= \"\",\"\",VLOOKUP(I1850,会場マスタ!$A:$B,2,FALSE))","v":""}]
["",null,null,null,null,null,null,null,null,{"$f":"IF(I1851= \"\",\"\",VLOOKUP(I1851,会場マスタ!$A:$B,2,FALSE))","v":""}]
["",null,null,null,null,null,null,null,null,{"$f":"IF(I1852= \"\",\"\",VLOOKUP(I1852,会場マスタ!$A:$B,2,FALSE))","v":""}]
["",null,null,null,null,null,null,null,null,{"$f":"IF(I1853= \"\",\"\",VLOOKUP(I1853,会場マスタ!$A:$B,2,FALSE))","v":""}]
["",null,null,null,null,null,null,null,null,{"$f":"IF(I1854= \"\",\"\",VLOOKUP(I1854,会場マスタ!$A:$B,2,FALSE))","v":""}]
["",null,null,null,null,null,null,null,null,{"$f":"IF(I1855= \"\",\"\",VLOOKUP(I1855,会場マスタ!$A:$B,2,FALSE))","v":""}]
["",null,null,null,null,null,null,null,null,{"$f":"IF(I1856= \"\",\"\",VLOOKUP(I1856,会場マスタ!$A:$B,2,FALSE))","v":""}]
["",null,null,null,null,null,null,null,null,{"$f":"IF(I1857= \"\",\"\",VLOOKUP(I1857,会場マスタ!$A:$B,2,FALSE))","v":""}]
["",null,null,null,null,null,null,null,null,{"$f":"IF(I1858= \"\",\"\",VLOOKUP(I1858,会場マスタ!$A:$B,2,FALSE))","v":""}]
["",null,null,null,null,null,null,null,null,{"$f":"IF(I1859= \"\",\"\",VLOOKUP(I1859,会場マスタ!$A:$B,2,FALSE))","v":""}]
["",null,null,null,null,null,null,null,null,{"$f":"IF(I1860= \"\",\"\",VLOOKUP(I1860,会場マスタ!$A:$B,2,FALSE))","v":""}]
["",null,null,null,null,null,null,null,null,{"$f":"IF(I1861= \"\",\"\",VLOOKUP(I1861,会場マスタ!$A:$B,2,FALSE))","v":""}]
["",null,null,null,null,null,null,null,null,{"$f":"IF(I1862= \"\",\"\",VLOOKUP(I1862,会場マスタ!$A:$B,2,FALSE))","v":""}]
[{"$f":"IF(B1863<>\"\",ROW(A1863)-4,\"\")","v":""},null,null,null,null,null,null,null,null,{"$f":"IF(I1863= \"\",\"\",VLOOKUP(I1863,会場マスタ!$A:$B,2,FALSE))","v":""}]
["",null,null,null,null,null,null,null,null,{"$f":"IF(I1864= \"\",\"\",VLOOKUP(I1864,会場マスタ!$A:$B,2,FALSE))","v":""}]
["",null,null,null,null,null,null,null,null,{"$f":"IF(I1865= \"\",\"\",VLOOKUP(I1865,会場マスタ!$A:$B,2,FALSE))","v":""}]
["",null,null,null,null,null,null,null,null,{"$f":"IF(I1866= \"\",\"\",VLOOKUP(I1866,会場マスタ!$A:$B,2,FALSE))","v":""}]
["",null,null,null,null,null,null,null,null,{"$f":"IF(I1867= \"\",\"\",VLOOKUP(I1867,会場マスタ!$A:$B,2,FALSE))","v":""}]
["",null,null,null,null,null,null,null,null,{"$f":"IF(I1868= \"\",\"\",VLOOKUP(I1868,会場マスタ!$A:$B,2,FALSE))","v":""}]
["",null,null,null,null,null,null,null,null,{"$f":"IF(I1869= \"\",\"\",VLOOKUP(I1869,会場マスタ!$A:$B,2,FALSE))","v":""}]
["",null,null,null,null,null,null,null,null,{"$f":"IF(I1870= \"\",\"\",VLOOKUP(I1870,会場マスタ!$A:$B,2,FALSE))","v":""}]
["",null,null,null,null,null,null,null,null,{"$f":"IF(I1871= \"\",\"\",VLOOKUP(I1871,会場マスタ!$A:$B,2,FALSE))","v":""}]
["",null,null,null,null,null,null,null,null,{"$f":"IF(I1872= \"\",\"\",VLOOKUP(I1872,会場マスタ!$A:$B,2,FALSE))","v":""}]
["",null,null,null,null,null,null,null,null,{"$f":"IF(I1873= \"\",\"\",VLOOKUP(I1873,会場マスタ!$A:$B,2,FALSE))","v":""}]
["",null,null,null,null,null,null,null,null,{"$f":"IF(I1874= \"\",\"\",VLOOKUP(I1874,会場マスタ!$A:$B,2,FALSE))","v":""}]
["",null,null,null,null,null,null,null,null,{"$f":"IF(I1875= \"\",\"\",VLOOKUP(I1875,会場マスタ!$A:$B,2,FALSE))","v":""}]
["",null,null,null,null,null,null,null,null,{"$f":"IF(I1876= \"\",\"\",VLOOKUP(I1876,会場マスタ!$A:$B,2,FALSE))","v":""}]
["",null,null,null,null,null,null,null,null,{"$f":"IF(I1877= \"\",\"\",VLOOKUP(I1877,会場マスタ!$A:$B,2,FALSE))","v":""}]
["",null,null,null,null,null,null,null,null,{"$f":"IF(I1878= \"\",\"\",VLOOKUP(I1878,会場マスタ!$A:$B,2,FALSE))","v":""}]
["",null,null,null,null,null,null,null,null,{"$f":"IF(I1879= \"\",\"\",VLOOKUP(I1879,会場マスタ!$A:$B,2,FALSE))","v":""}]
["",null,null,null,null,null,null,null,null,{"$f":"IF(I1880= \"\",\"\",VLOOKUP(I1880,会場マスタ!$A:$B,2,FALSE))","v":""}]
["",null,null,null,null,null,null,null,null,{"$f":"IF(I1881= \"\",\"\",VLOOKUP(I1881,会場マスタ!$A:$B,2,FALSE))","v":""}]
["",null,null,null,null,null,null,null,null,{"$f":"IF(I1882= \"\",\"\",VLOOKUP(I1882,会場マスタ!$A:$B,2,FALSE))","v":""}]
["",null,null,null,null,null,null,null,null,{"$f":"IF(I1883= \"\",\"\",VLOOKUP(I1883,会場マスタ!$A:$B,2,FALSE))","v":""}]
["",null,null,null,null,null,null,null,null,{"$f":"IF(I1884= \"\",\"\",VLOOKUP(I1884,会場マスタ!$A:$B,2,FALSE))","v":""}]
["",null,null,null,null,null,null,null,null,{"$f":"IF(I1885= \"\",\"\",VLOOKUP(I1885,会場マスタ!$A:$B,2,FALSE))","v":""}]
["",null,null,null,null,null,null,null,null,{"$f":"IF(I1886= \"\",\"\",VLOOKUP(I1886,会場マスタ!$A:$B,2,FALSE))","v":""}]
["",null,null,null,null,null,null,null,null,{"$f":"IF(I1887= \"\",\"\",VLOOKUP(I1887,会場マスタ!$A:$B,2,FALSE))","v":""}]
["",null,null,null,null,null,null,null,null,{"$f":"IF(I1888= \"\",\"\",VLOOKUP(I1888,会場マスタ!$A:$B,2,FALSE))","v":""}]
["",null,null,null,null,null,null,null,null,{"$f":"IF(I1889= \"\",\"\",VLOOKUP(I1889,会場マスタ!$A:$B,2,FALSE))","v":""}]
["",null,null,null,null,null,null,null,null,{"$f":"IF(I1890= \"\",\"\",VLOOKUP(I1890,会場マスタ!$A:$B,2,FALSE))","v":""}]
["",null,null,null,null,null,null,null,null,{"$f":"IF(I1891= \"\",\"\",VLOOKUP(I1891,会場マスタ!$A:$B,2,FALSE))","v":""}]
["",null,null,null,null,null,null,null,null,{"$f":"IF(I1892= \"\",\"\",VLOOKUP(I1892,会場マスタ!$A:$B,2,FALSE))","v":""}]
["",null,null,null,null,null,null,null,null,{"$f":"IF(I1893= \"\",\"\",VLOOKUP(I1893,会場マスタ!$A:$B,2,FALSE))","v":""}]
["",null,null,null,null,null,null,null,null,{"$f":"IF(I1894= \"\",\"\",VLOOKUP(I1894,会場マスタ!$A:$B,2,FALSE))","v":""}]
["",null,null,null,null,null,null,null,null,{"$f":"IF(I1895= \"\",\"\",VLOOKUP(I1895,会場マスタ!$A:$B,2,FALSE))","v":""}]
["",null,null,null,null,null,null,null,null,{"$f":"IF(I1896= \"\",\"\",VLOOKUP(I1896,会場マスタ!$A:$B,2,FALSE))","v":""}]
["",null,null,null,null,null,null,null,null,{"$f":"IF(I1897= \"\",\"\",VLOOKUP(I1897,会場マスタ!$A:$B,2,FALSE))","v":""}]
["",null,null,null,null,null,null,null,null,{"$f":"IF(I1898= \"\",\"\",VLOOKUP(I1898,会場マスタ!$A:$B,2,FALSE))","v":""}]
["",null,null,null,null,null,null,null,null,{"$f":"IF(I1899= \"\",\"\",VLOOKUP(I1899,会場マスタ!$A:$B,2,FALSE))","v":""}]
["",null,null,null,null,null,null,null,null,{"$f":"IF(I1900= \"\",\"\",VLOOKUP(I1900,会場マスタ!$A:$B,2,FALSE))","v":""}]
["",null,null,null,null,null,null,null,null,{"$f":"IF(I1901= \"\",\"\",VLOOKUP(I1901,会場マスタ!$A:$B,2,FALSE))","v":""}]
["",null,null,null,null,null,null,null,null,{"$f":"IF(I1902= \"\",\"\",VLOOKUP(I1902,会場マスタ!$A:$B,2,FALSE))","v":""}]
["",null,null,null,null,null,null,null,null,{"$f":"IF(I1903= \"\",\"\",VLOOKUP(I1903,会場マスタ!$A:$B,2,FALSE))","v":""}]
["",null,null,null,null,null,null,null,null,{"$f":"IF(I1904= \"\",\"\",VLOOKUP(I1904,会場マスタ!$A:$B,2,FALSE))","v":""}]
["",null,null,null,null,null,null,null,null,{"$f":"IF(I1905= \"\",\"\",VLOOKUP(I1905,会場マスタ!$A:$B,2,FALSE))","v":""}]
["",null,null,null,null,null,null,null,null,{"$f":"IF(I1906= \"\",\"\",VLOOKUP(I1906,会場マスタ!$A:$B,2,FALSE))","v":""}]
["",null,null,null,null,null,null,null,null,{"$f":"IF(I1907= \"\",\"\",VLOOKUP(I1907,会場マスタ!$A:$B,2,FALSE))","v":""}]
["",null,null,null,null,null,null,null,null,{"$f":"IF(I1908= \"\",\"\",VLOOKUP(I1908,会場マスタ!$A:$B,2,FALSE))","v":""}]
["",null,null,null,null,null,null,null,null,{"$f":"IF(I1909= \"\",\"\",VLOOKUP(I1909,会場マスタ!$A:$B,2,FALSE))","v":""}]
["",null,null,null,null,null,null,null,null,{"$f":"IF(I1910= \"\",\"\",VLOOKUP(I1910,会場マスタ!$A:$B,2,FALSE))","v":""}]
["",null,null,null,null,null,null,null,null,{"$f":"IF(I1911= \"\",\"\",VLOOKUP(I1911,会場マスタ!$A:$B,2,FALSE))","v":""}]
["",null,null,null,null,null,null,null,null,{"$f":"IF(I1912= \"\",\"\",VLOOKUP(I1912,会場マスタ!$A:$B,2,FALSE))","v":""}]
["",null,null,null,null,null,null,null,null,{"$f":"IF(I1913= \"\",\"\",VLOOKUP(I1913,会場マスタ!$A:$B,2,FALSE))","v":""}]
["",null,null,null,null,null,null,null,null,{"$f":"IF(I1914= \"\",\"\",VLOOKUP(I1914,会場マスタ!$A:$B,2,FALSE))","v":""}]
["",null,null,null,null,null,null,null,null,{"$f":"IF(I1915= \"\",\"\",VLOOKUP(I1915,会場マスタ!$A:$B,2,FALSE))","v":""}]
["",null,null,null,null,null,null,null,null,{"$f":"IF(I1916= \"\",\"\",VLOOKUP(I1916,会場マスタ!$A:$B,2,FALSE))","v":""}]
["",null,null,null,null,null,null,null,null,{"$f":"IF(I1917= \"\",\"\",VLOOKUP(I1917,会場マスタ!$A:$B,2,FALSE))","v":""}]
["",null,null,null,null,null,null,null,null,{"$f":"IF(I1918= \"\",\"\",VLOOKUP(I1918,会場マスタ!$A:$B,2,FALSE))","v":""}]
["",null,null,null,null,null,null,null,null,{"$f":"IF(I1919= \"\",\"\",VLOOKUP(I1919,会場マスタ!$A:$B,2,FALSE))","v":""}]
["",null,null,null,null,null,null,null,null,{"$f":"IF(I1920= \"\",\"\",VLOOKUP(I1920,会場マスタ!$A:$B,2,FALSE))","v":""}]
["",null,null,null,null,null,null,null,null,{"$f":"IF(I1921= \"\",\"\",VLOOKUP(I1921,会場マスタ!$A:$B,2,FALSE))","v":""}]
["",null,null,null,null,null,null,null,null,{"$f":"IF(I1922= \"\",\"\",VLOOKUP(I1922,会場マスタ!$A:$B,2,FALSE))","v":""}]
["",null,null,null,null,null,null,null,null,{"$f":"IF(I1923= \"\",\"\",VLOOKUP(I1923,会場マスタ!$A:$B,2,FALSE))","v":""}]
["",null,null,null,null,null,null,null,null,{"$f":"IF(I1924= \"\",\"\",VLOOKUP(I1924,会場マスタ!$A:$B,2,FALSE))","v":""}]
["",null,null,null,null,null,null,null,null,{"$f":"IF(I1925= \"\",\"\",VLOOKUP(I1925,会場マスタ!$A:$B,2,FALSE))","v":""}]
["",null,null,null,null,null,null,null,null,{"$f":"IF(I1926= \"\",\"\",VLOOKUP(I1926,会場マスタ!$A:$B,2,FALSE))","v":""}]
[{"$f":"IF(B1927<>\"\",ROW(A1927)-4,\"\")","v":""},null,null,null,null,null,null,null,null,{"$f":"IF(I1927= \"\",\"\",VLOOKUP(I1927,会場マスタ!$A:$B,2,FALSE))","v":""}]
["",null,null,null,null,null,null,null,null,{"$f":"IF(I1928= \"\",\"\",VLOOKUP(I1928,会場マスタ!$A:$B,2,FALSE))","v":""}]
["",null,null,null,null,null,null,null,null,{"$f":"IF(I1929= \"\",\"\",VLOOKUP(I1929,会場マスタ!$A:$B,2,FALSE))","v":""}]
["",null,null,null,null,null,null,null,null,{"$f":"IF(I1930= \"\",\"\",VLOOKUP(I1930,会場マスタ!$A:$B,2,FALSE))","v":""}]
["",null,null,null,null,null,null,null,null,{"$f":"IF(I1931= \"\",\"\",VLOOKUP(I1931,会場マスタ!$A:$B,2,FALSE))","v":""}]
["",null,null,null,null,null,null,null,null,{"$f":"IF(I1932= \"\",\"\",VLOOKUP(I1932,会場マスタ!$A:$B,2,FALSE))","v":""}]
["",null,null,null,null,null,null,null,null,{"$f":"IF(I1933= \"\",\"\",VLOOKUP(I1933,会場マスタ!$A:$B,2,FALSE))","v":""}]
["",null,null,null,null,null,null,null,null,{"$f":"IF(I1934= \"\",\"\",VLOOKUP(I1934,会場マスタ!$A:$B,2,FALSE))","v":""}]
["",null,null,null,null,null,null,null,null,{"$f":"IF(I1935= \"\",\"\",VLOOKUP(I1935,会場マスタ!$A:$B,2,FALSE))","v":""}]
["",null,null,null,null,null,null,null,null,{"$f":"IF(I1936= \"\",\"\",VLOOKUP(I1936,会場マスタ!$A:$B,2,FALSE))","v":""}]
["",null,null,null,null,null,null,null,null,{"$f":"IF(I1937= \"\",\"\",VLOOKUP(I1937,会場マスタ!$A:$B,2,FALSE))","v":""}]
["",null,null,null,null,null,null,null,null,{"$f":"IF(I1938= \"\",\"\",VLOOKUP(I1938,会場マスタ!$A:$B,2,FALSE))","v":""}]
["",null,null,null,null,null,null,null,null,{"$f":"IF(I1939= \"\",\"\",VLOOKUP(I1939,会場マスタ!$A:$B,2,FALSE))","v":""}]
["",null,null,null,null,null,null,null,null,{"$f":"IF(I1940= \"\",\"\",VLOOKUP(I1940,会場マスタ!$A:$B,2,FALSE))","v":""}]
["",null,null,null,null,null,null,null,null,{"$f":"IF(I1941= \"\",\"\",VLOOKUP(I1941,会場マスタ!$A:$B,2,FALSE))","v":""}]
["",null,null,null,null,null,null,null,null,{"$f":"IF(I1942= \"\",\"\",VLOOKUP(I1942,会場マスタ!$A:$B,2,FALSE))","v":""}]
["",null,null,null,null,null,null,null,null,{"$f":"IF(I1943= \"\",\"\",VLOOKUP(I1943,会場マスタ!$A:$B,2,FALSE))","v":""}]
["",null,null,null,null,null,null,null,null,{"$f":"IF(I1944= \"\",\"\",VLOOKUP(I1944,会場マスタ!$A:$B,2,FALSE))","v":""}]
["",null,null,null,null,null,null,null,null,{"$f":"IF(I1945= \"\",\"\",VLOOKUP(I1945,会場マスタ!$A:$B,2,FALSE))","v":""}]
["",null,null,null,null,null,null,null,null,{"$f":"IF(I1946= \"\",\"\",VLOOKUP(I1946,会場マスタ!$A:$B,2,FALSE))","v":""}]
["",null,null,null,null,null,null,null,null,{"$f":"IF(I1947= \"\",\"\",VLOOKUP(I1947,会場マスタ!$A:$B,2,FALSE))","v":""}]
["",null,null,null,null,null,null,null,null,{"$f":"IF(I1948= \"\",\"\",VLOOKUP(I1948,会場マスタ!$A:$B,2,FALSE))","v":""}]
["",null,null,null,null,null,null,null,null,{"$f":"IF(I1949= \"\",\"\",VLOOKUP(I1949,会場マスタ!$A:$B,2,FALSE))","v":""}]
["",null,null,null,null,null,null,null,null,{"$f":"IF(I1950= \"\",\"\",VLOOKUP(I1950,会場マスタ!$A:$B,2,FALSE))","v":""}]
["",null,null,null,null,null,null,null,null,{"$f":"IF(I1951= \"\",\"\",VLOOKUP(I1951,会場マスタ!$A:$B,2,FALSE))","v":""}]
["",null,null,null,null,null,null,null,null,{"$f":"IF(I1952= \"\",\"\",VLOOKUP(I1952,会場マスタ!$A:$B,2,FALSE))","v":""}]
["",null,null,null,null,null,null,null,null,{"$f":"IF(I1953= \"\",\"\",VLOOKUP(I1953,会場マスタ!$A:$B,2,FALSE))","v":""}]
["",null,null,null,null,null,null,null,null,{"$f":"IF(I1954= \"\",\"\",VLOOKUP(I1954,会場マスタ!$A:$B,2,FALSE))","v":""}]
["",null,null,null,null,null,null,null,null,{"$f":"IF(I1955= \"\",\"\",VLOOKUP(I1955,会場マスタ!$A:$B,2,FALSE))","v":""}]
["",null,null,null,null,null,null,null,null,{"$f":"IF(I1956= \"\",\"\",VLOOKUP(I1956,会場マスタ!$A:$B,2,FALSE))","v":""}]
["",null,null,null,null,null,null,null,null,{"$f":"IF(I1957= \"\",\"\",VLOOKUP(I1957,会場マスタ!$A:$B,2,FALSE))","v":""}]
["",null,null,null,null,null,null,null,null,{"$f":"IF(I1958= \"\",\"\",VLOOKUP(I1958,会場マスタ!$A:$B,2,FALSE))","v":""}]
["",null,null,null,null,null,null,null,null,{"$f":"IF(I1959= \"\",\"\",VLOOKUP(I1959,会場マスタ!$A:$B,2,FALSE))","v":""}]
["",null,null,null,null,null,null,null,null,{"$f":"IF(I1960= \"\",\"\",VLOOKUP(I1960,会場マスタ!$A:$B,2,FALSE))","v":""}]
["",null,null,null,null,null,null,null,null,{"$f":"IF(I1961= \"\",\"\",VLOOKUP(I1961,会場マスタ!$A:$B,2,FALSE))","v":""}]
["",null,null,null,null,null,null,null,null,{"$f":"IF(I1962= \"\",\"\",VLOOKUP(I1962,会場マスタ!$A:$B,2,FALSE))","v":""}]
["",null,null,null,null,null,null,null,null,{"$f":"IF(I1963= \"\",\"\",VLOOKUP(I1963,会場マスタ!$A:$B,2,FALSE))","v":""}]
["",null,null,null,null,null,null,null,null,{"$f":"IF(I1964= \"\",\"\",VLOOKUP(I1964,会場マスタ!$A:$B,2,FALSE))","v":""}]
["",null,null,null,null,null,null,null,null,{"$f":"IF(I1965= \"\",\"\",VLOOKUP(I1965,会場マスタ!$A:$B,2,FALSE))","v":""}]
["",null,null,null,null,null,null,null,null,{"$f":"IF(I1966= \"\",\"\",VLOOKUP(I1966,会場マスタ!$A:$B,2,FALSE))","v":""}]
["",null,null,null,null,null,null,null,null,{"$f":"IF(I1967= \"\",\"\",VLOOKUP(I1967,会場マスタ!$A:$B,2,FALSE))","v":""}]
["",null,null,null,null,null,null,null,null,{"$f":"IF(I1968= \"\",\"\",VLOOKUP(I1968,会場マスタ!$A:$B,2,FALSE))","v":""}]
["",null,null,null,null,null,null,null,null,{"$f":"IF(I1969= \"\",\"\",VLOOKUP(I1969,会場マスタ!$A:$B,2,FALSE))","v":""}]
["",null,null,null,null,null,null,null,null,{"$f":"IF(I1970= \"\",\"\",VLOOKUP(I1970,会場マスタ!$A:$B,2,FALSE))","v":""}]
["",null,null,null,null,null,null,null,null,{"$f":"IF(I1971= \"\",\"\",VLOOKUP(I1971,会場マスタ!$A:$B,2,FALSE))","v":""}]
["",null,null,null,null,null,null,null,null,{"$f":"IF(I1972= \"\",\"\",VLOOKUP(I1972,会場マスタ!$A:$B,2,FALSE))","v":""}]
["",null,null,null,null,null,null,null,null,{"$f":"IF(I1973= \"\",\"\",VLOOKUP(I1973,会場マスタ!$A:$B,2,FALSE))","v":""}]
["",null,null,null,null,null,null,null,null,{"$f":"IF(I1974= \"\",\"\",VLOOKUP(I1974,会場マスタ!$A:$B,2,FALSE))","v":""}]
["",null,null,null,null,null,null,null,null,{"$f":"IF(I1975= \"\",\"\",VLOOKUP(I1975,会場マスタ!$A:$B,2,FALSE))","v":""}]
["",null,null,null,null,null,null,null,null,{"$f":"IF(I1976= \"\",\"\",VLOOKUP(I1976,会場マスタ!$A:$B,2,FALSE))","v":""}]
["",null,null,null,null,null,null,null,null,{"$f":"IF(I1977= \"\",\"\",VLOOKUP(I1977,会場マスタ!$A:$B,2,FALSE))","v":""}]
["",null,null,null,null,null,null,null,null,{"$f":"IF(I1978= \"\",\"\",VLOOKUP(I1978,会場マスタ!$A:$B,2,FALSE))","v":""}]
["",null,null,null,null,null,null,null,null,{"$f":"IF(I1979= \"\",\"\",VLOOKUP(I1979,会場マスタ!$A:$B,2,FALSE))","v":""}]
["",null,null,null,null,null,null,null,null,{"$f":"IF(I1980= \"\",\"\",VLOOKUP(I1980,会場マスタ!$A:$B,2,FALSE))","v":""}]
["",null,null,null,null,null,null,null,null,{"$f":"IF(I1981= \"\",\"\",VLOOKUP(I1981,会場マスタ!$A:$B,2,FALSE))","v":""}]
["",null,null,null,null,null,null,null,null,{"$f":"IF(I1982= \"\",\"\",VLOOKUP(I1982,会場マスタ!$A:$B,2,FALSE))","v":""}]
["",null,null,null,null,null,null,null,null,{"$f":"IF(I1983= \"\",\"\",VLOOKUP(I1983,会場マスタ!$A:$B,2,FALSE))","v":""}]
["",null,null,null,null,null,null,null,null,{"$f":"IF(I1984= \"\",\"\",VLOOKUP(I1984,会場マスタ!$A:$B,2,FALSE))","v":""}]
["",null,null,null,null,null,null,null,null,{"$f":"IF(I1985= \"\",\"\",VLOOKUP(I1985,会場マスタ!$A:$B,2,FALSE))","v":""}]
["",null,null,null,null,null,null,null,null,{"$f":"IF(I1986= \"\",\"\",VLOOKUP(I1986,会場マスタ!$A:$B,2,FALSE))","v":""}]
["",null,null,null,null,null,null,null,null,{"$f":"IF(I1987= \"\",\"\",VLOOKUP(I1987,会場マスタ!$A:$B,2,FALSE))","v":""}]
["",null,null,null,null,null,null,null,null,{"$f":"IF(I1988= \"\",\"\",VLOOKUP(I1988,会場マスタ!$A:$B,2,FALSE))","v":""}]
["",null,null,null,null,null,null,null,null,{"$f":"IF(I1989= \"\",\"\",VLOOKUP(I1989,会場マスタ!$A:$B,2,FALSE))","v":""}]
["",null,null,null,null,null,null,null,null,{"$f":"IF(I1990= \"\",\"\",VLOOKUP(I1990,会場マスタ!$A:$B,2,FALSE))","v":""}]
[{"$f":"IF(B1991<>\"\",ROW(A1991)-4,\"\")","v":""},null,null,null,null,null,null,null,null,{"$f":"IF(I1991= \"\",\"\",VLOOKUP(I1991,会場マスタ!$A:$B,2,FALSE))","v":""}]
["",null,null,null,null,null,null,null,null,{"$f":"IF(I1992= \"\",\"\",VLOOKUP(I1992,会場マスタ!$A:$B,2,FALSE))","v":""}]
["",null,null,null,null,null,null,null,null,{"$f":"IF(I1993= \"\",\"\",VLOOKUP(I1993,会場マスタ!$A:$B,2,FALSE))","v":""}]
["",null,null,null,null,null,null,null,null,{"$f":"IF(I1994= \"\",\"\",VLOOKUP(I1994,会場マスタ!$A:$B,2,FALSE))","v":""}]
["",null,null,null,null,null,null,null,null,{"$f":"IF(I1995= \"\",\"\",VLOOKUP(I1995,会場マスタ!$A:$B,2,FALSE))","v":""}]
["",null,null,null,null,null,null,null,null,{"$f":"IF(I1996= \"\",\"\",VLOOKUP(I1996,会場マスタ!$A:$B,2,FALSE))","v":""}]
["",null,null,null,null,null,null,null,null,{"$f":"IF(I1997= \"\",\"\",VLOOKUP(I1997,会場マスタ!$A:$B,2,FALSE))","v":""}]
["",null,null,null,null,null,null,null,null,{"$f":"IF(I1998= \"\",\"\",VLOOKUP(I1998,会場マスタ!$A:$B,2,FALSE))","v":""}]
["",null,null,null,null,null,null,null,null,{"$f":"IF(I1999= \"\",\"\",VLOOKUP(I1999,会場マスタ!$A:$B,2,FALSE))","v":""}]
["",null,null,null,null,null,null,null,null,{"$f":"IF(I2000= \"\",\"\",VLOOKUP(I2000,会場マスタ!$A:$B,2,FALSE))","v":""}]
["",null,null,null,null,null,null,null,null,{"$f":"IF(I2001= \"\",\"\",VLOOKUP(I2001,会場マスタ!$A:$B,2,FALSE))","v":""}]
["",null,null,null,null,null,null,null,null,{"$f":"IF(I2002= \"\",\"\",VLOOKUP(I2002,会場マスタ!$A:$B,2,FALSE))","v":""}]
["",null,null,null,null,null,null,null,null,{"$f":"IF(I2003= \"\",\"\",VLOOKUP(I2003,会場マスタ!$A:$B,2,FALSE))","v":""}]
["",null,null,null,null,null,null,null,null,{"$f":"IF(I2004= \"\",\"\",VLOOKUP(I2004,会場マスタ!$A:$B,2,FALSE))","v":""}]
["",null,null,null,null,null,null,null,null,{"$f":"IF(I2005= \"\",\"\",VLOOKUP(I2005,会場マスタ!$A:$B,2,FALSE))","v":""}]
["",null,null,null,null,null,null,null,null,{"$f":"IF(I2006= \"\",\"\",VLOOKUP(I2006,会場マスタ!$A:$B,2,FALSE))","v":""}]
["",null,null,null,null,null,null,null,null,{"$f":"IF(I2007= \"\",\"\",VLOOKUP(I2007,会場マスタ!$A:$B,2,FALSE))","v":""}]
["",null,null,null,null,null,null,null,null,{"$f":"IF(I2008= \"\",\"\",VLOOKUP(I2008,会場マスタ!$A:$B,2,FALSE))","v":""}]
["",null,null,null,null,null,null,null,null,{"$f":"IF(I2009= \"\",\"\",VLOOKUP(I2009,会場マスタ!$A:$B,2,FALSE))","v":""}]
["",null,null,null,null,null,null,null,null,{"$f":"IF(I2010= \"\",\"\",VLOOKUP(I2010,会場マスタ!$A:$B,2,FALSE))","v":""}]
["",null,null,null,null,null,null,null,null,{"$f":"IF(I2011= \"\",\"\",VLOOKUP(I2011,会場マスタ!$A:$B,2,FALSE))","v":""}]
["",null,null,null,null,null,null,null,null,{"$f":"IF(I2012= \"\",\"\",VLOOKUP(I2012,会場マスタ!$A:$B,2,FALSE))","v":""}]
["",null,null,null,null,null,null,null,null,{"$f":"IF(I2013= \"\",\"\",VLOOKUP(I2013,会場マスタ!$A:$B,2,FALSE))","v":""}]
["",null,null,null,null,null,null,null,null,{"$f":"IF(I2014= \"\",\"\",VLOOKUP(I2014,会場マスタ!$A:$B,2,FALSE))","v":""}]
["",null,null,null,null,null,null,null,null,{"$f":"IF(I2015= \"\",\"\",VLOOKUP(I2015,会場マスタ!$A:$B,2,FALSE))","v":""}]
["",null,null,null,null,null,null,null,null,{"$f":"IF(I2016= \"\",\"\",VLOOKUP(I2016,会場マスタ!$A:$B,2,FALSE))","v":""}]
["",null,null,null,null,null,null,null,null,{"$f":"IF(I2017= \"\",\"\",VLOOKUP(I2017,会場マスタ!$A:$B,2,FALSE))","v":""}]
["",null,null,null,null,null,null,null,null,{"$f":"IF(I2018= \"\",\"\",VLOOKUP(I2018,会場マスタ!$A:$B,2,FALSE))","v":""}]
["",null,null,null,null,null,null,null,null,{"$f":"IF(I2019= \"\",\"\",VLOOKUP(I2019,会場マスタ!$A:$B,2,FALSE))","v":""}]
["",null,null,null,null,null,null,null,null,{"$f":"IF(I2020= \"\",\"\",VLOOKUP(I2020,会場マスタ!$A:$B,2,FALSE))","v":""}]
["",null,null,null,null,null,null,null,null,{"$f":"IF(I2021= \"\",\"\",VLOOKUP(I2021,会場マスタ!$A:$B,2,FALSE))","v":""}]
["",null,null,null,null,null,null,null,null,{"$f":"IF(I2022= \"\",\"\",VLOOKUP(I2022,会場マスタ!$A:$B,2,FALSE))","v":""}]
["",null,null,null,null,null,null,null,null,{"$f":"IF(I2023= \"\",\"\",VLOOKUP(I2023,会場マスタ!$A:$B,2,FALSE))","v":""}]
["",null,null,null,null,null,null,null,null,{"$f":"IF(I2024= \"\",\"\",VLOOKUP(I2024,会場マスタ!$A:$B,2,FALSE))","v":""}]
["",null,null,null,null,null,null,null,null,{"$f":"IF(I2025= \"\",\"\",VLOOKUP(I2025,会場マスタ!$A:$B,2,FALSE))","v":""}]
["",null,null,null,null,null,null,null,null,{"$f":"IF(I2026= \"\",\"\",VLOOKUP(I2026,会場マスタ!$A:$B,2,FALSE))","v":""}]
["",null,null,null,null,null,null,null,null,{"$f":"IF(I2027= \"\",\"\",VLOOKUP(I2027,会場マスタ!$A:$B,2,FALSE))","v":""}]
["",null,null,null,null,null,null,null,null,{"$f":"IF(I2028= \"\",\"\",VLOOKUP(I2028,会場マスタ!$A:$B,2,FALSE))","v":""}]
["",null,null,null,null,null,null,null,null,{"$f":"IF(I2029= \"\",\"\",VLOOKUP(I2029,会場マスタ!$A:$B,2,FALSE))","v":""}]
["",null,null,null,null,null,null,null,null,{"$f":"IF(I2030= \"\",\"\",VLOOKUP(I2030,会場マスタ!$A:$B,2,FALSE))","v":""}]
["",null,null,null,null,null,null,null,null,{"$f":"IF(I2031= \"\",\"\",VLOOKUP(I2031,会場マスタ!$A:$B,2,FALSE))","v":""}]
["",null,null,null,null,null,null,null,null,{"$f":"IF(I2032= \"\",\"\",VLOOKUP(I2032,会場マスタ!$A:$B,2,FALSE))","v":""}]
["",null,null,null,null,null,null,null,null,{"$f":"IF(I2033= \"\",\"\",VLOOKUP(I2033,会場マスタ!$A:$B,2,FALSE))","v":""}]
["",null,null,null,null,null,null,null,null,{"$f":"IF(I2034= \"\",\"\",VLOOKUP(I2034,会場マスタ!$A:$B,2,FALSE))","v":""}]
["",null,null,null,null,null,null,null,null,{"$f":"IF(I2035= \"\",\"\",VLOOKUP(I2035,会場マスタ!$A:$B,2,FALSE))","v":""}]
["",null,null,null,null,null,null,null,null,{"$f":"IF(I2036= \"\",\"\",VLOOKUP(I2036,会場マスタ!$A:$B,2,FALSE))","v":""}]
["",null,null,null,null,null,null,null,null,{"$f":"IF(I2037= \"\",\"\",VLOOKUP(I2037,会場マスタ!$A:$B,2,FALSE))","v":""}]
["",null,null,null,null,null,null,null,null,{"$f":"IF(I2038= \"\",\"\",VLOOKUP(I2038,会場マスタ!$A:$B,2,FALSE))","v":""}]
["",null,null,null,null,null,null,null,null,{"$f":"IF(I2039= \"\",\"\",VLOOKUP(I2039,会場マスタ!$A:$B,2,FALSE))","v":""}]
["",null,null,null,null,null,null,null,null,{"$f":"IF(I2040= \"\",\"\",VLOOKUP(I2040,会場マスタ!$A:$B,2,FALSE))","v":""}]
["",null,null,null,null,null,null,null,null,{"$f":"IF(I2041= \"\",\"\",VLOOKUP(I2041,会場マスタ!$A:$B,2,FALSE))","v":""}]
["",null,null,null,null,null,null,null,null,{"$f":"IF(I2042= \"\",\"\",VLOOKUP(I2042,会場マスタ!$A:$B,2,FALSE))","v":""}]
["",null,null,null,null,null,null,null,null,{"$f":"IF(I2043= \"\",\"\",VLOOKUP(I2043,会場マスタ!$A:$B,2,FALSE))","v":""}]
["",null,null,null,null,null,null,null,null,{"$f":"IF(I2044= \"\",\"\",VLOOKUP(I2044,会場マスタ!$A:$B,2,FALSE))","v":""}]
["",null,null,null,null,null,null,null,null,{"$f":"IF(I2045= \"\",\"\",VLOOKUP(I2045,会場マスタ!$A:$B,2,FALSE))","v":""}]
["",null,null,null,null,null,null,null,null,{"$f":"IF(I2046= \"\",\"\",VLOOKUP(I2046,会場マスタ!$A:$B,2,FALSE))","v":""}]
["",null,null,null,null,null,null,null,null,{"$f":"IF(I2047= \"\",\"\",VLOOKUP(I2047,会場マスタ!$A:$B,2,FALSE))","v":""}]
["",null,null,null,null,null,null,null,null,{"$f":"IF(I2048= \"\",\"\",VLOOKUP(I2048,会場マスタ!$A:$B,2,FALSE))","v":""}]
["",null,null,null,null,null,null,null,null,{"$f":"IF(I2049= \"\",\"\",VLOOKUP(I2049,会場マスタ!$A:$B,2,FALSE))","v":""}]
["",null,null,null,null,null,null,null,null,{"$f":"IF(I2050= \"\",\"\",VLOOKUP(I2050,会場マスタ!$A:$B,2,FALSE))","v":""}]
["",null,null,null,null,null,null,null,null,{"$f":"IF(I2051= \"\",\"\",VLOOKUP(I2051,会場マスタ!$A:$B,2,FALSE))","v":""}]
["",null,null,null,null,null,null,null,null,{"$f":"IF(I2052= \"\",\"\",VLOOKUP(I2052,会場マスタ!$A:$B,2,FALSE))","v":""}]
["",null,null,null,null,null,null,null,null,{"$f":"IF(I2053= \"\",\"\",VLOOKUP(I2053,会場マスタ!$A:$B,2,FALSE))","v":""}]
["",null,null,null,null,null,null,null,null,{"$f":"IF(I2054= \"\",\"\",VLOOKUP(I2054,会場マスタ!$A:$B,2,FALSE))","v":""}]
[{"$f":"IF(B2055<>\"\",ROW(A2055)-4,\"\")","v":""},null,null,null,null,null,null,null,null,{"$f":"IF(I2055= \"\",\"\",VLOOKUP(I2055,会場マスタ!$A:$B,2,FALSE))","v":""}]
["",null,null,null,null,null,null,null,null,{"$f":"IF(I2056= \"\",\"\",VLOOKUP(I2056,会場マスタ!$A:$B,2,FALSE))","v":""}]
["",null,null,null,null,null,null,null,null,{"$f":"IF(I2057= \"\",\"\",VLOOKUP(I2057,会場マスタ!$A:$B,2,FALSE))","v":""}]
["",null,null,null,null,null,null,null,null,{"$f":"IF(I2058= \"\",\"\",VLOOKUP(I2058,会場マスタ!$A:$B,2,FALSE))","v":""}]
["",null,null,null,null,null,null,null,null,{"$f":"IF(I2059= \"\",\"\",VLOOKUP(I2059,会場マスタ!$A:$B,2,FALSE))","v":""}]
["",null,null,null,null,null,null,null,null,{"$f":"IF(I2060= \"\",\"\",VLOOKUP(I2060,会場マスタ!$A:$B,2,FALSE))","v":""}]
["",null,null,null,null,null,null,null,null,{"$f":"IF(I2061= \"\",\"\",VLOOKUP(I2061,会場マスタ!$A:$B,2,FALSE))","v":""}]
["",null,null,null,null,null,null,null,null,{"$f":"IF(I2062= \"\",\"\",VLOOKUP(I2062,会場マスタ!$A:$B,2,FALSE))","v":""}]
["",null,null,null,null,null,null,null,null,{"$f":"IF(I2063= \"\",\"\",VLOOKUP(I2063,会場マスタ!$A:$B,2,FALSE))","v":""}]
["",null,null,null,null,null,null,null,null,{"$f":"IF(I2064= \"\",\"\",VLOOKUP(I2064,会場マスタ!$A:$B,2,FALSE))","v":""}]
["",null,null,null,null,null,null,null,null,{"$f":"IF(I2065= \"\",\"\",VLOOKUP(I2065,会場マスタ!$A:$B,2,FALSE))","v":""}]
["",null,null,null,null,null,null,null,null,{"$f":"IF(I2066= \"\",\"\",VLOOKUP(I2066,会場マスタ!$A:$B,2,FALSE))","v":""}]
["",null,null,null,null,null,null,null,null,{"$f":"IF(I2067= \"\",\"\",VLOOKUP(I2067,会場マスタ!$A:$B,2,FALSE))","v":""}]
["",null,null,null,null,null,null,null,null,{"$f":"IF(I2068= \"\",\"\",VLOOKUP(I2068,会場マスタ!$A:$B,2,FALSE))","v":""}]
["",null,null,null,null,null,null,null,null,{"$f":"IF(I2069= \"\",\"\",VLOOKUP(I2069,会場マスタ!$A:$B,2,FALSE))","v":""}]
["",null,null,null,null,null,null,null,null,{"$f":"IF(I2070= \"\",\"\",VLOOKUP(I2070,会場マスタ!$A:$B,2,FALSE))","v":""}]
["",null,null,null,null,null,null,null,null,{"$f":"IF(I2071= \"\",\"\",VLOOKUP(I2071,会場マスタ!$A:$B,2,FALSE))","v":""}]
["",null,null,null,null,null,null,null,null,{"$f":"IF(I2072= \"\",\"\",VLOOKUP(I2072,会場マスタ!$A:$B,2,FALSE))","v":""}]
["",null,null,null,null,null,null,null,null,{"$f":"IF(I2073= \"\",\"\",VLOOKUP(I2073,会場マスタ!$A:$B,2,FALSE))","v":""}]
["",null,null,null,null,null,null,null,null,{"$f":"IF(I2074= \"\",\"\",VLOOKUP(I2074,会場マスタ!$A:$B,2,FALSE))","v":""}]
["",null,null,null,null,null,null,null,null,{"$f":"IF(I2075= \"\",\"\",VLOOKUP(I2075,会場マスタ!$A:$B,2,FALSE))","v":""}]
["",null,null,null,null,null,null,null,null,{"$f":"IF(I2076= \"\",\"\",VLOOKUP(I2076,会場マスタ!$A:$B,2,FALSE))","v":""}]
["",null,null,null,null,null,null,null,null,{"$f":"IF(I2077= \"\",\"\",VLOOKUP(I2077,会場マスタ!$A:$B,2,FALSE))","v":""}]
["",null,null,null,null,null,null,null,null,{"$f":"IF(I2078= \"\",\"\",VLOOKUP(I2078,会場マスタ!$A:$B,2,FALSE))","v":""}]
["",null,null,null,null,null,null,null,null,{"$f":"IF(I2079= \"\",\"\",VLOOKUP(I2079,会場マスタ!$A:$B,2,FALSE))","v":""}]
["",null,null,null,null,null,null,null,null,{"$f":"IF(I2080= \"\",\"\",VLOOKUP(I2080,会場マスタ!$A:$B,2,FALSE))","v":""}]
["",null,null,null,null,null,null,null,null,{"$f":"IF(I2081= \"\",\"\",VLOOKUP(I2081,会場マスタ!$A:$B,2,FALSE))","v":""}]
["",null,null,null,null,null,null,null,null,{"$f":"IF(I2082= \"\",\"\",VLOOKUP(I2082,会場マスタ!$A:$B,2,FALSE))","v":""}]
["",null,null,null,null,null,null,null,null,{"$f":"IF(I2083= \"\",\"\",VLOOKUP(I2083,会場マスタ!$A:$B,2,FALSE))","v":""}]
["",null,null,null,null,null,null,null,null,{"$f":"IF(I2084= \"\",\"\",VLOOKUP(I2084,会場マスタ!$A:$B,2,FALSE))","v":""}]
["",null,null,null,null,null,null,null,null,{"$f":"IF(I2085= \"\",\"\",VLOOKUP(I2085,会場マスタ!$A:$B,2,FALSE))","v":""}]
["",null,null,null,null,null,null,null,null,{"$f":"IF(I2086= \"\",\"\",VLOOKUP(I2086,会場マスタ!$A:$B,2,FALSE))","v":""}]
["",null,null,null,null,null,null,null,null,{"$f":"IF(I2087= \"\",\"\",VLOOKUP(I2087,会場マスタ!$A:$B,2,FALSE))","v":""}]
["",null,null,null,null,null,null,null,null,{"$f":"IF(I2088= \"\",\"\",VLOOKUP(I2088,会場マスタ!$A:$B,2,FALSE))","v":""}]
["",null,null,null,null,null,null,null,null,{"$f":"IF(I2089= \"\",\"\",VLOOKUP(I2089,会場マスタ!$A:$B,2,FALSE))","v":""}]
["",null,null,null,null,null,null,null,null,{"$f":"IF(I2090= \"\",\"\",VLOOKUP(I2090,会場マスタ!$A:$B,2,FALSE))","v":""}]
["",null,null,null,null,null,null,null,null,{"$f":"IF(I2091= \"\",\"\",VLOOKUP(I2091,会場マスタ!$A:$B,2,FALSE))","v":""}]
["",null,null,null,null,null,null,null,null,{"$f":"IF(I2092= \"\",\"\",VLOOKUP(I2092,会場マスタ!$A:$B,2,FALSE))","v":""}]
["",null,null,null,null,null,null,null,null,{"$f":"IF(I2093= \"\",\"\",VLOOKUP(I2093,会場マスタ!$A:$B,2,FALSE))","v":""}]
["",null,null,null,null,null,null,null,null,{"$f":"IF(I2094= \"\",\"\",VLOOKUP(I2094,会場マスタ!$A:$B,2,FALSE))","v":""}]
["",null,null,null,null,null,null,null,null,{"$f":"IF(I2095= \"\",\"\",VLOOKUP(I2095,会場マスタ!$A:$B,2,FALSE))","v":""}]
["",null,null,null,null,null,null,null,null,{"$f":"IF(I2096= \"\",\"\",VLOOKUP(I2096,会場マスタ!$A:$B,2,FALSE))","v":""}]
["",null,null,null,null,null,null,null,null,{"$f":"IF(I2097= \"\",\"\",VLOOKUP(I2097,会場マスタ!$A:$B,2,FALSE))","v":""}]
["",null,null,null,null,null,null,null,null,{"$f":"IF(I2098= \"\",\"\",VLOOKUP(I2098,会場マスタ!$A:$B,2,FALSE))","v":""}]
["",null,null,null,null,null,null,null,null,{"$f":"IF(I2099= \"\",\"\",VLOOKUP(I2099,会場マスタ!$A:$B,2,FALSE))","v":""}]
["",null,null,null,null,null,null,null,null,{"$f":"IF(I2100= \"\",\"\",VLOOKUP(I2100,会場マスタ!$A:$B,2,FALSE))","v":""}]
["",null,null,null,null,null,null,null,null,{"$f":"IF(I2101= \"\",\"\",VLOOKUP(I2101,会場マスタ!$A:$B,2,FALSE))","v":""}]
["",null,null,null,null,null,null,null,null,{"$f":"IF(I2102= \"\",\"\",VLOOKUP(I2102,会場マスタ!$A:$B,2,FALSE))","v":""}]
["",null,null,null,null,null,null,null,null,{"$f":"IF(I2103= \"\",\"\",VLOOKUP(I2103,会場マスタ!$A:$B,2,FALSE))","v":""}]
["",null,null,null,null,null,null,null,null,{"$f":"IF(I2104= \"\",\"\",VLOOKUP(I2104,会場マスタ!$A:$B,2,FALSE))","v":""}]
["",null,null,null,null,null,null,null,null,{"$f":"IF(I2105= \"\",\"\",VLOOKUP(I2105,会場マスタ!$A:$B,2,FALSE))","v":""}]
["",null,null,null,null,null,null,null,null,{"$f":"IF(I2106= \"\",\"\",VLOOKUP(I2106,会場マスタ!$A:$B,2,FALSE))","v":""}]
["",null,null,null,null,null,null,null,null,{"$f":"IF(I2107= \"\",\"\",VLOOKUP(I2107,会場マスタ!$A:$B,2,FALSE))","v":""}]
["",null,null,null,null,null,null,null,null,{"$f":"IF(I2108= \"\",\"\",VLOOKUP(I2108,会場マスタ!$A:$B,2,FALSE))","v":""}]
["",null,null,null,null,null,null,null,null,{"$f":"IF(I2109= \"\",\"\",VLOOKUP(I2109,会場マスタ!$A:$B,2,FALSE))","v":""}]
["",null,null,null,null,null,null,null,null,{"$f":"IF(I2110= \"\",\"\",VLOOKUP(I2110,会場マスタ!$A:$B,2,FALSE))","v":""}]
["",null,null,null,null,null,null,null,null,{"$f":"IF(I2111= \"\",\"\",VLOOKUP(I2111,会場マスタ!$A:$B,2,FALSE))","v":""}]
["",null,null,null,null,null,null,null,null,{"$f":"IF(I2112= \"\",\"\",VLOOKUP(I2112,会場マスタ!$A:$B,2,FALSE))","v":""}]
["",null,null,null,null,null,null,null,null,{"$f":"IF(I2113= \"\",\"\",VLOOKUP(I2113,会場マスタ!$A:$B,2,FALSE))","v":""}]
["",null,null,null,null,null,null,null,null,{"$f":"IF(I2114= \"\",\"\",VLOOKUP(I2114,会場マスタ!$A:$B,2,FALSE))","v":""}]
["",null,null,null,null,null,null,null,null,{"$f":"IF(I2115= \"\",\"\",VLOOKUP(I2115,会場マスタ!$A:$B,2,FALSE))","v":""}]
["",null,null,null,null,null,null,null,null,{"$f":"IF(I2116= \"\",\"\",VLOOKUP(I2116,会場マスタ!$A:$B,2,FALSE))","v":""}]
["",null,null,null,null,null,null,null,null,{"$f":"IF(I2117= \"\",\"\",VLOOKUP(I2117,会場マスタ!$A:$B,2,FALSE))","v":""}]
["",null,null,null,null,null,null,null,null,{"$f":"IF(I2118= \"\",\"\",VLOOKUP(I2118,会場マスタ!$A:$B,2,FALSE))","v":""}]
[{"$f":"IF(B2119<>\"\",ROW(A2119)-4,\"\")","v":""},null,null,null,null,null,null,null,null,{"$f":"IF(I2119= \"\",\"\",VLOOKUP(I2119,会場マスタ!$A:$B,2,FALSE))","v":""}]
["",null,null,null,null,null,null,null,null,{"$f":"IF(I2120= \"\",\"\",VLOOKUP(I2120,会場マスタ!$A:$B,2,FALSE))","v":""}]
["",null,null,null,null,null,null,null,null,{"$f":"IF(I2121= \"\",\"\",VLOOKUP(I2121,会場マスタ!$A:$B,2,FALSE))","v":""}]
["",null,null,null,null,null,null,null,null,{"$f":"IF(I2122= \"\",\"\",VLOOKUP(I2122,会場マスタ!$A:$B,2,FALSE))","v":""}]
["",null,null,null,null,null,null,null,null,{"$f":"IF(I2123= \"\",\"\",VLOOKUP(I2123,会場マスタ!$A:$B,2,FALSE))","v":""}]
["",null,null,null,null,null,null,null,null,{"$f":"IF(I2124= \"\",\"\",VLOOKUP(I2124,会場マスタ!$A:$B,2,FALSE))","v":""}]
["",null,null,null,null,null,null,null,null,{"$f":"IF(I2125= \"\",\"\",VLOOKUP(I2125,会場マスタ!$A:$B,2,FALSE))","v":""}]
["",null,null,null,null,null,null,null,null,{"$f":"IF(I2126= \"\",\"\",VLOOKUP(I2126,会場マスタ!$A:$B,2,FALSE))","v":""}]
["",null,null,null,null,null,null,null,null,{"$f":"IF(I2127= \"\",\"\",VLOOKUP(I2127,会場マスタ!$A:$B,2,FALSE))","v":""}]
["",null,null,null,null,null,null,null,null,{"$f":"IF(I2128= \"\",\"\",VLOOKUP(I2128,会場マスタ!$A:$B,2,FALSE))","v":""}]
["",null,null,null,null,null,null,null,null,{"$f":"IF(I2129= \"\",\"\",VLOOKUP(I2129,会場マスタ!$A:$B,2,FALSE))","v":""}]
["",null,null,null,null,null,null,null,null,{"$f":"IF(I2130= \"\",\"\",VLOOKUP(I2130,会場マスタ!$A:$B,2,FALSE))","v":""}]
["",null,null,null,null,null,null,null,null,{"$f":"IF(I2131= \"\",\"\",VLOOKUP(I2131,会場マスタ!$A:$B,2,FALSE))","v":""}]
["",null,null,null,null,null,null,null,null,{"$f":"IF(I2132= \"\",\"\",VLOOKUP(I2132,会場マスタ!$A:$B,2,FALSE))","v":""}]
["",null,null,null,null,null,null,null,null,{"$f":"IF(I2133= \"\",\"\",VLOOKUP(I2133,会場マスタ!$A:$B,2,FALSE))","v":""}]
["",null,null,null,null,null,null,null,null,{"$f":"IF(I2134= \"\",\"\",VLOOKUP(I2134,会場マスタ!$A:$B,2,FALSE))","v":""}]
["",null,null,null,null,null,null,null,null,{"$f":"IF(I2135= \"\",\"\",VLOOKUP(I2135,会場マスタ!$A:$B,2,FALSE))","v":""}]
["",null,null,null,null,null,null,null,null,{"$f":"IF(I2136= \"\",\"\",VLOOKUP(I2136,会場マスタ!$A:$B,2,FALSE))","v":""}]
["",null,null,null,null,null,null,null,null,{"$f":"IF(I2137= \"\",\"\",VLOOKUP(I2137,会場マスタ!$A:$B,2,FALSE))","v":""}]
["",null,null,null,null,null,null,null,null,{"$f":"IF(I2138= \"\",\"\",VLOOKUP(I2138,会場マスタ!$A:$B,2,FALSE))","v":""}]
["",null,null,null,null,null,null,null,null,{"$f":"IF(I2139= \"\",\"\",VLOOKUP(I2139,会場マスタ!$A:$B,2,FALSE))","v":""}]
["",null,null,null,null,null,null,null,null,{"$f":"IF(I2140= \"\",\"\",VLOOKUP(I2140,会場マスタ!$A:$B,2,FALSE))","v":""}]
["",null,null,null,null,null,null,null,null,{"$f":"IF(I2141= \"\",\"\",VLOOKUP(I2141,会場マスタ!$A:$B,2,FALSE))","v":""}]
["",null,null,null,null,null,null,null,null,{"$f":"IF(I2142= \"\",\"\",VLOOKUP(I2142,会場マスタ!$A:$B,2,FALSE))","v":""}]
["",null,null,null,null,null,null,null,null,{"$f":"IF(I2143= \"\",\"\",VLOOKUP(I2143,会場マスタ!$A:$B,2,FALSE))","v":""}]
["",null,null,null,null,null,null,null,null,{"$f":"IF(I2144= \"\",\"\",VLOOKUP(I2144,会場マスタ!$A:$B,2,FALSE))","v":""}]
["",null,null,null,null,null,null,null,null,{"$f":"IF(I2145= \"\",\"\",VLOOKUP(I2145,会場マスタ!$A:$B,2,FALSE))","v":""}]
["",null,null,null,null,null,null,null,null,{"$f":"IF(I2146= \"\",\"\",VLOOKUP(I2146,会場マスタ!$A:$B,2,FALSE))","v":""}]
["",null,null,null,null,null,null,null,null,{"$f":"IF(I2147= \"\",\"\",VLOOKUP(I2147,会場マスタ!$A:$B,2,FALSE))","v":""}]
["",null,null,null,null,null,null,null,null,{"$f":"IF(I2148= \"\",\"\",VLOOKUP(I2148,会場マスタ!$A:$B,2,FALSE))","v":""}]
["",null,null,null,null,null,null,null,null,{"$f":"IF(I2149= \"\",\"\",VLOOKUP(I2149,会場マスタ!$A:$B,2,FALSE))","v":""}]
["",null,null,null,null,null,null,null,null,{"$f":"IF(I2150= \"\",\"\",VLOOKUP(I2150,会場マスタ!$A:$B,2,FALSE))","v":""}]
["",null,null,null,null,null,null,null,null,{"$f":"IF(I2151= \"\",\"\",VLOOKUP(I2151,会場マスタ!$A:$B,2,FALSE))","v":""}]
["",null,null,null,null,null,null,null,null,{"$f":"IF(I2152= \"\",\"\",VLOOKUP(I2152,会場マスタ!$A:$B,2,FALSE))","v":""}]
["",null,null,null,null,null,null,null,null,{"$f":"IF(I2153= \"\",\"\",VLOOKUP(I2153,会場マスタ!$A:$B,2,FALSE))","v":""}]
["",null,null,null,null,null,null,null,null,{"$f":"IF(I2154= \"\",\"\",VLOOKUP(I2154,会場マスタ!$A:$B,2,FALSE))","v":""}]
["",null,null,null,null,null,null,null,null,{"$f":"IF(I2155= \"\",\"\",VLOOKUP(I2155,会場マスタ!$A:$B,2,FALSE))","v":""}]
["",null,null,null,null,null,null,null,null,{"$f":"IF(I2156= \"\",\"\",VLOOKUP(I2156,会場マスタ!$A:$B,2,FALSE))","v":""}]
["",null,null,null,null,null,null,null,null,{"$f":"IF(I2157= \"\",\"\",VLOOKUP(I2157,会場マスタ!$A:$B,2,FALSE))","v":""}]
["",null,null,null,null,null,null,null,null,{"$f":"IF(I2158= \"\",\"\",VLOOKUP(I2158,会場マスタ!$A:$B,2,FALSE))","v":""}]
["",null,null,null,null,null,null,null,null,{"$f":"IF(I2159= \"\",\"\",VLOOKUP(I2159,会場マスタ!$A:$B,2,FALSE))","v":""}]
["",null,null,null,null,null,null,null,null,{"$f":"IF(I2160= \"\",\"\",VLOOKUP(I2160,会場マスタ!$A:$B,2,FALSE))","v":""}]
["",null,null,null,null,null,null,null,null,{"$f":"IF(I2161= \"\",\"\",VLOOKUP(I2161,会場マスタ!$A:$B,2,FALSE))","v":""}]
["",null,null,null,null,null,null,null,null,{"$f":"IF(I2162= \"\",\"\",VLOOKUP(I2162,会場マスタ!$A:$B,2,FALSE))","v":""}]
["",null,null,null,null,null,null,null,null,{"$f":"IF(I2163= \"\",\"\",VLOOKUP(I2163,会場マスタ!$A:$B,2,FALSE))","v":""}]
["",null,null,null,null,null,null,null,null,{"$f":"IF(I2164= \"\",\"\",VLOOKUP(I2164,会場マスタ!$A:$B,2,FALSE))","v":""}]
["",null,null,null,null,null,null,null,null,{"$f":"IF(I2165= \"\",\"\",VLOOKUP(I2165,会場マスタ!$A:$B,2,FALSE))","v":""}]
["",null,null,null,null,null,null,null,null,{"$f":"IF(I2166= \"\",\"\",VLOOKUP(I2166,会場マスタ!$A:$B,2,FALSE))","v":""}]
["",null,null,null,null,null,null,null,null,{"$f":"IF(I2167= \"\",\"\",VLOOKUP(I2167,会場マスタ!$A:$B,2,FALSE))","v":""}]
["",null,null,null,null,null,null,null,null,{"$f":"IF(I2168= \"\",\"\",VLOOKUP(I2168,会場マスタ!$A:$B,2,FALSE))","v":""}]
["",null,null,null,null,null,null,null,null,{"$f":"IF(I2169= \"\",\"\",VLOOKUP(I2169,会場マスタ!$A:$B,2,FALSE))","v":""}]
["",null,null,null,null,null,null,null,null,{"$f":"IF(I2170= \"\",\"\",VLOOKUP(I2170,会場マスタ!$A:$B,2,FALSE))","v":""}]
["",null,null,null,null,null,null,null,null,{"$f":"IF(I2171= \"\",\"\",VLOOKUP(I2171,会場マスタ!$A:$B,2,FALSE))","v":""}]
["",null,null,null,null,null,null,null,null,{"$f":"IF(I2172= \"\",\"\",VLOOKUP(I2172,会場マスタ!$A:$B,2,FALSE))","v":""}]
["",null,null,null,null,null,null,null,null,{"$f":"IF(I2173= \"\",\"\",VLOOKUP(I2173,会場マスタ!$A:$B,2,FALSE))","v":""}]
["",null,null,null,null,null,null,null,null,{"$f":"IF(I2174= \"\",\"\",VLOOKUP(I2174,会場マスタ!$A:$B,2,FALSE))","v":""}]
["",null,null,null,null,null,null,null,null,{"$f":"IF(I2175= \"\",\"\",VLOOKUP(I2175,会場マスタ!$A:$B,2,FALSE))","v":""}]
["",null,null,null,null,null,null,null,null,{"$f":"IF(I2176= \"\",\"\",VLOOKUP(I2176,会場マスタ!$A:$B,2,FALSE))","v":""}]
["",null,null,null,null,null,null,null,null,{"$f":"IF(I2177= \"\",\"\",VLOOKUP(I2177,会場マスタ!$A:$B,2,FALSE))","v":""}]
["",null,null,null,null,null,null,null,null,{"$f":"IF(I2178= \"\",\"\",VLOOKUP(I2178,会場マスタ!$A:$B,2,FALSE))","v":""}]
["",null,null,null,null,null,null,null,null,{"$f":"IF(I2179= \"\",\"\",VLOOKUP(I2179,会場マスタ!$A:$B,2,FALSE))","v":""}]
["",null,null,null,null,null,null,null,null,{"$f":"IF(I2180= \"\",\"\",VLOOKUP(I2180,会場マスタ!$A:$B,2,FALSE))","v":""}]
["",null,null,null,null,null,null,null,null,{"$f":"IF(I2181= \"\",\"\",VLOOKUP(I2181,会場マスタ!$A:$B,2,FALSE))","v":""}]
["",null,null,null,null,null,null,null,null,{"$f":"IF(I2182= \"\",\"\",VLOOKUP(I2182,会場マスタ!$A:$B,2,FALSE))","v":""}]
[{"$f":"IF(B2183<>\"\",ROW(A2183)-4,\"\")","v":""},null,null,null,null,null,null,null,null,{"$f":"IF(I2183= \"\",\"\",VLOOKUP(I2183,会場マスタ!$A:$B,2,FALSE))","v":""}]
["",null,null,null,null,null,null,null,null,{"$f":"IF(I2184= \"\",\"\",VLOOKUP(I2184,会場マスタ!$A:$B,2,FALSE))","v":""}]
["",null,null,null,null,null,null,null,null,{"$f":"IF(I2185= \"\",\"\",VLOOKUP(I2185,会場マスタ!$A:$B,2,FALSE))","v":""}]
["",null,null,null,null,null,null,null,null,{"$f":"IF(I2186= \"\",\"\",VLOOKUP(I2186,会場マスタ!$A:$B,2,FALSE))","v":""}]
["",null,null,null,null,null,null,null,null,{"$f":"IF(I2187= \"\",\"\",VLOOKUP(I2187,会場マスタ!$A:$B,2,FALSE))","v":""}]
["",null,null,null,null,null,null,null,null,{"$f":"IF(I2188= \"\",\"\",VLOOKUP(I2188,会場マスタ!$A:$B,2,FALSE))","v":""}]
["",null,null,null,null,null,null,null,null,{"$f":"IF(I2189= \"\",\"\",VLOOKUP(I2189,会場マスタ!$A:$B,2,FALSE))","v":""}]
["",null,null,null,null,null,null,null,null,{"$f":"IF(I2190= \"\",\"\",VLOOKUP(I2190,会場マスタ!$A:$B,2,FALSE))","v":""}]
["",null,null,null,null,null,null,null,null,{"$f":"IF(I2191= \"\",\"\",VLOOKUP(I2191,会場マスタ!$A:$B,2,FALSE))","v":""}]
["",null,null,null,null,null,null,null,null,{"$f":"IF(I2192= \"\",\"\",VLOOKUP(I2192,会場マスタ!$A:$B,2,FALSE))","v":""}]
["",null,null,null,null,null,null,null,null,{"$f":"IF(I2193= \"\",\"\",VLOOKUP(I2193,会場マスタ!$A:$B,2,FALSE))","v":""}]
["",null,null,null,null,null,null,null,null,{"$f":"IF(I2194= \"\",\"\",VLOOKUP(I2194,会場マスタ!$A:$B,2,FALSE))","v":""}]
["",null,null,null,null,null,null,null,null,{"$f":"IF(I2195= \"\",\"\",VLOOKUP(I2195,会場マスタ!$A:$B,2,FALSE))","v":""}]
["",null,null,null,null,null,null,null,null,{"$f":"IF(I2196= \"\",\"\",VLOOKUP(I2196,会場マスタ!$A:$B,2,FALSE))","v":""}]
["",null,null,null,null,null,null,null,null,{"$f":"IF(I2197= \"\",\"\",VLOOKUP(I2197,会場マスタ!$A:$B,2,FALSE))","v":""}]
["",null,null,null,null,null,null,null,null,{"$f":"IF(I2198= \"\",\"\",VLOOKUP(I2198,会場マスタ!$A:$B,2,FALSE))","v":""}]
["",null,null,null,null,null,null,null,null,{"$f":"IF(I2199= \"\",\"\",VLOOKUP(I2199,会場マスタ!$A:$B,2,FALSE))","v":""}]
["",null,null,null,null,null,null,null,null,{"$f":"IF(I2200= \"\",\"\",VLOOKUP(I2200,会場マスタ!$A:$B,2,FALSE))","v":""}]
["",null,null,null,null,null,null,null,null,{"$f":"IF(I2201= \"\",\"\",VLOOKUP(I2201,会場マスタ!$A:$B,2,FALSE))","v":""}]
["",null,null,null,null,null,null,null,null,{"$f":"IF(I2202= \"\",\"\",VLOOKUP(I2202,会場マスタ!$A:$B,2,FALSE))","v":""}]
["",null,null,null,null,null,null,null,null,{"$f":"IF(I2203= \"\",\"\",VLOOKUP(I2203,会場マスタ!$A:$B,2,FALSE))","v":""}]
["",null,null,null,null,null,null,null,null,{"$f":"IF(I2204= \"\",\"\",VLOOKUP(I2204,会場マスタ!$A:$B,2,FALSE))","v":""}]
["",null,null,null,null,null,null,null,null,{"$f":"IF(I2205= \"\",\"\",VLOOKUP(I2205,会場マスタ!$A:$B,2,FALSE))","v":""}]
["",null,null,null,null,null,null,null,null,{"$f":"IF(I2206= \"\",\"\",VLOOKUP(I2206,会場マスタ!$A:$B,2,FALSE))","v":""}]
["",null,null,null,null,null,null,null,null,{"$f":"IF(I2207= \"\",\"\",VLOOKUP(I2207,会場マスタ!$A:$B,2,FALSE))","v":""}]
["",null,null,null,null,null,null,null,null,{"$f":"IF(I2208= \"\",\"\",VLOOKUP(I2208,会場マスタ!$A:$B,2,FALSE))","v":""}]
["",null,null,null,null,null,null,null,null,{"$f":"IF(I2209= \"\",\"\",VLOOKUP(I2209,会場マスタ!$A:$B,2,FALSE))","v":""}]
["",null,null,null,null,null,null,null,null,{"$f":"IF(I2210= \"\",\"\",VLOOKUP(I2210,会場マスタ!$A:$B,2,FALSE))","v":""}]
["",null,null,null,null,null,null,null,null,{"$f":"IF(I2211= \"\",\"\",VLOOKUP(I2211,会場マスタ!$A:$B,2,FALSE))","v":""}]
["",null,null,null,null,null,null,null,null,{"$f":"IF(I2212= \"\",\"\",VLOOKUP(I2212,会場マスタ!$A:$B,2,FALSE))","v":""}]
["",null,null,null,null,null,null,null,null,{"$f":"IF(I2213= \"\",\"\",VLOOKUP(I2213,会場マスタ!$A:$B,2,FALSE))","v":""}]
["",null,null,null,null,null,null,null,null,{"$f":"IF(I2214= \"\",\"\",VLOOKUP(I2214,会場マスタ!$A:$B,2,FALSE))","v":""}]
["",null,null,null,null,null,null,null,null,{"$f":"IF(I2215= \"\",\"\",VLOOKUP(I2215,会場マスタ!$A:$B,2,FALSE))","v":""}]
["",null,null,null,null,null,null,null,null,{"$f":"IF(I2216= \"\",\"\",VLOOKUP(I2216,会場マスタ!$A:$B,2,FALSE))","v":""}]
["",null,null,null,null,null,null,null,null,{"$f":"IF(I2217= \"\",\"\",VLOOKUP(I2217,会場マスタ!$A:$B,2,FALSE))","v":""}]
["",null,null,null,null,null,null,null,null,{"$f":"IF(I2218= \"\",\"\",VLOOKUP(I2218,会場マスタ!$A:$B,2,FALSE))","v":""}]
["",null,null,null,null,null,null,null,null,{"$f":"IF(I2219= \"\",\"\",VLOOKUP(I2219,会場マスタ!$A:$B,2,FALSE))","v":""}]
["",null,null,null,null,null,null,null,null,{"$f":"IF(I2220= \"\",\"\",VLOOKUP(I2220,会場マスタ!$A:$B,2,FALSE))","v":""}]
["",null,null,null,null,null,null,null,null,{"$f":"IF(I2221= \"\",\"\",VLOOKUP(I2221,会場マスタ!$A:$B,2,FALSE))","v":""}]
["",null,null,null,null,null,null,null,null,{"$f":"IF(I2222= \"\",\"\",VLOOKUP(I2222,会場マスタ!$A:$B,2,FALSE))","v":""}]
["",null,null,null,null,null,null,null,null,{"$f":"IF(I2223= \"\",\"\",VLOOKUP(I2223,会場マスタ!$A:$B,2,FALSE))","v":""}]
["",null,null,null,null,null,null,null,null,{"$f":"IF(I2224= \"\",\"\",VLOOKUP(I2224,会場マスタ!$A:$B,2,FALSE))","v":""}]
["",null,null,null,null,null,null,null,null,{"$f":"IF(I2225= \"\",\"\",VLOOKUP(I2225,会場マスタ!$A:$B,2,FALSE))","v":""}]
["",null,null,null,null,null,null,null,null,{"$f":"IF(I2226= \"\",\"\",VLOOKUP(I2226,会場マスタ!$A:$B,2,FALSE))","v":""}]
["",null,null,null,null,null,null,null,null,{"$f":"IF(I2227= \"\",\"\",VLOOKUP(I2227,会場マスタ!$A:$B,2,FALSE))","v":""}]
["",null,null,null,null,null,null,null,null,{"$f":"IF(I2228= \"\",\"\",VLOOKUP(I2228,会場マスタ!$A:$B,2,FALSE))","v":""}]
["",null,null,null,null,null,null,null,null,{"$f":"IF(I2229= \"\",\"\",VLOOKUP(I2229,会場マスタ!$A:$B,2,FALSE))","v":""}]
["",null,null,null,null,null,null,null,null,{"$f":"IF(I2230= \"\",\"\",VLOOKUP(I2230,会場マスタ!$A:$B,2,FALSE))","v":""}]
["",null,null,null,null,null,null,null,null,{"$f":"IF(I2231= \"\",\"\",VLOOKUP(I2231,会場マスタ!$A:$B,2,FALSE))","v":""}]
["",null,null,null,null,null,null,null,null,{"$f":"IF(I2232= \"\",\"\",VLOOKUP(I2232,会場マスタ!$A:$B,2,FALSE))","v":""}]
["",null,null,null,null,null,null,null,null,{"$f":"IF(I2233= \"\",\"\",VLOOKUP(I2233,会場マスタ!$A:$B,2,FALSE))","v":""}]
["",null,null,null,null,null,null,null,null,{"$f":"IF(I2234= \"\",\"\",VLOOKUP(I2234,会場マスタ!$A:$B,2,FALSE))","v":""}]
["",null,null,null,null,null,null,null,null,{"$f":"IF(I2235= \"\",\"\",VLOOKUP(I2235,会場マスタ!$A:$B,2,FALSE))","v":""}]
["",null,null,null,null,null,null,null,null,{"$f":"IF(I2236= \"\",\"\",VLOOKUP(I2236,会場マスタ!$A:$B,2,FALSE))","v":""}]
["",null,null,null,null,null,null,null,null,{"$f":"IF(I2237= \"\",\"\",VLOOKUP(I2237,会場マスタ!$A:$B,2,FALSE))","v":""}]
["",null,null,null,null,null,null,null,null,{"$f":"IF(I2238= \"\",\"\",VLOOKUP(I2238,会場マスタ!$A:$B,2,FALSE))","v":""}]
["",null,null,null,null,null,null,null,null,{"$f":"IF(I2239= \"\",\"\",VLOOKUP(I2239,会場マスタ!$A:$B,2,FALSE))","v":""}]
["",null,null,null,null,null,null,null,null,{"$f":"IF(I2240= \"\",\"\",VLOOKUP(I2240,会場マスタ!$A:$B,2,FALSE))","v":""}]
["",null,null,null,null,null,null,null,null,{"$f":"IF(I2241= \"\",\"\",VLOOKUP(I2241,会場マスタ!$A:$B,2,FALSE))","v":""}]
["",null,null,null,null,null,null,null,null,{"$f":"IF(I2242= \"\",\"\",VLOOKUP(I2242,会場マスタ!$A:$B,2,FALSE))","v":""}]
["",null,null,null,null,null,null,null,null,{"$f":"IF(I2243= \"\",\"\",VLOOKUP(I2243,会場マスタ!$A:$B,2,FALSE))","v":""}]
["",null,null,null,null,null,null,null,null,{"$f":"IF(I2244= \"\",\"\",VLOOKUP(I2244,会場マスタ!$A:$B,2,FALSE))","v":""}]
["",null,null,null,null,null,null,null,null,{"$f":"IF(I2245= \"\",\"\",VLOOKUP(I2245,会場マスタ!$A:$B,2,FALSE))","v":""}]
["",null,null,null,null,null,null,null,null,{"$f":"IF(I2246= \"\",\"\",VLOOKUP(I2246,会場マスタ!$A:$B,2,FALSE))","v":""}]
[{"$f":"IF(B2247<>\"\",ROW(A2247)-4,\"\")","v":""},null,null,null,null,null,null,null,null,{"$f":"IF(I2247= \"\",\"\",VLOOKUP(I2247,会場マスタ!$A:$B,2,FALSE))","v":""}]
["",null,null,null,null,null,null,null,null,{"$f":"IF(I2248= \"\",\"\",VLOOKUP(I2248,会場マスタ!$A:$B,2,FALSE))","v":""}]
["",null,null,null,null,null,null,null,null,{"$f":"IF(I2249= \"\",\"\",VLOOKUP(I2249,会場マスタ!$A:$B,2,FALSE))","v":""}]
["",null,null,null,null,null,null,null,null,{"$f":"IF(I2250= \"\",\"\",VLOOKUP(I2250,会場マスタ!$A:$B,2,FALSE))","v":""}]
["",null,null,null,null,null,null,null,null,{"$f":"IF(I2251= \"\",\"\",VLOOKUP(I2251,会場マスタ!$A:$B,2,FALSE))","v":""}]
["",null,null,null,null,null,null,null,null,{"$f":"IF(I2252= \"\",\"\",VLOOKUP(I2252,会場マスタ!$A:$B,2,FALSE))","v":""}]
["",null,null,null,null,null,null,null,null,{"$f":"IF(I2253= \"\",\"\",VLOOKUP(I2253,会場マスタ!$A:$B,2,FALSE))","v":""}]
["",null,null,null,null,null,null,null,null,{"$f":"IF(I2254= \"\",\"\",VLOOKUP(I2254,会場マスタ!$A:$B,2,FALSE))","v":""}]
["",null,null,null,null,null,null,null,null,{"$f":"IF(I2255= \"\",\"\",VLOOKUP(I2255,会場マスタ!$A:$B,2,FALSE))","v":""}]
["",null,null,null,null,null,null,null,null,{"$f":"IF(I2256= \"\",\"\",VLOOKUP(I2256,会場マスタ!$A:$B,2,FALSE))","v":""}]
["",null,null,null,null,null,null,null,null,{"$f":"IF(I2257= \"\",\"\",VLOOKUP(I2257,会場マスタ!$A:$B,2,FALSE))","v":""}]
["",null,null,null,null,null,null,null,null,{"$f":"IF(I2258= \"\",\"\",VLOOKUP(I2258,会場マスタ!$A:$B,2,FALSE))","v":""}]
["",null,null,null,null,null,null,null,null,{"$f":"IF(I2259= \"\",\"\",VLOOKUP(I2259,会場マスタ!$A:$B,2,FALSE))","v":""}]
["",null,null,null,null,null,null,null,null,{"$f":"IF(I2260= \"\",\"\",VLOOKUP(I2260,会場マスタ!$A:$B,2,FALSE))","v":""}]
["",null,null,null,null,null,null,null,null,{"$f":"IF(I2261= \"\",\"\",VLOOKUP(I2261,会場マスタ!$A:$B,2,FALSE))","v":""}]
["",null,null,null,null,null,null,null,null,{"$f":"IF(I2262= \"\",\"\",VLOOKUP(I2262,会場マスタ!$A:$B,2,FALSE))","v":""}]
["",null,null,null,null,null,null,null,null,{"$f":"IF(I2263= \"\",\"\",VLOOKUP(I2263,会場マスタ!$A:$B,2,FALSE))","v":""}]
["",null,null,null,null,null,null,null,null,{"$f":"IF(I2264= \"\",\"\",VLOOKUP(I2264,会場マスタ!$A:$B,2,FALSE))","v":""}]
["",null,null,null,null,null,null,null,null,{"$f":"IF(I2265= \"\",\"\",VLOOKUP(I2265,会場マスタ!$A:$B,2,FALSE))","v":""}]
["",null,null,null,null,null,null,null,null,{"$f":"IF(I2266= \"\",\"\",VLOOKUP(I2266,会場マスタ!$A:$B,2,FALSE))","v":""}]
["",null,null,null,null,null,null,null,null,{"$f":"IF(I2267= \"\",\"\",VLOOKUP(I2267,会場マスタ!$A:$B,2,FALSE))","v":""}]
["",null,null,null,null,null,null,null,null,{"$f":"IF(I2268= \"\",\"\",VLOOKUP(I2268,会場マスタ!$A:$B,2,FALSE))","v":""}]
["",null,null,null,null,null,null,null,null,{"$f":"IF(I2269= \"\",\"\",VLOOKUP(I2269,会場マスタ!$A:$B,2,FALSE))","v":""}]
["",null,null,null,null,null,null,null,null,{"$f":"IF(I2270= \"\",\"\",VLOOKUP(I2270,会場マスタ!$A:$B,2,FALSE))","v":""}]
["",null,null,null,null,null,null,null,null,{"$f":"IF(I2271= \"\",\"\",VLOOKUP(I2271,会場マスタ!$A:$B,2,FALSE))","v":""}]
["",null,null,null,null,null,null,null,null,{"$f":"IF(I2272= \"\",\"\",VLOOKUP(I2272,会場マスタ!$A:$B,2,FALSE))","v":""}]
["",null,null,null,null,null,null,null,null,{"$f":"IF(I2273= \"\",\"\",VLOOKUP(I2273,会場マスタ!$A:$B,2,FALSE))","v":""}]
["",null,null,null,null,null,null,null,null,{"$f":"IF(I2274= \"\",\"\",VLOOKUP(I2274,会場マスタ!$A:$B,2,FALSE))","v":""}]
["",null,null,null,null,null,null,null,null,{"$f":"IF(I2275= \"\",\"\",VLOOKUP(I2275,会場マスタ!$A:$B,2,FALSE))","v":""}]
["",null,null,null,null,null,null,null,null,{"$f":"IF(I2276= \"\",\"\",VLOOKUP(I2276,会場マスタ!$A:$B,2,FALSE))","v":""}]
["",null,null,null,null,null,null,null,null,{"$f":"IF(I2277= \"\",\"\",VLOOKUP(I2277,会場マスタ!$A:$B,2,FALSE))","v":""}]
["",null,null,null,null,null,null,null,null,{"$f":"IF(I2278= \"\",\"\",VLOOKUP(I2278,会場マスタ!$A:$B,2,FALSE))","v":""}]
["",null,null,null,null,null,null,null,null,{"$f":"IF(I2279= \"\",\"\",VLOOKUP(I2279,会場マスタ!$A:$B,2,FALSE))","v":""}]
["",null,null,null,null,null,null,null,null,{"$f":"IF(I2280= \"\",\"\",VLOOKUP(I2280,会場マスタ!$A:$B,2,FALSE))","v":""}]
["",null,null,null,null,null,null,null,null,{"$f":"IF(I2281= \"\",\"\",VLOOKUP(I2281,会場マスタ!$A:$B,2,FALSE))","v":""}]
["",null,null,null,null,null,null,null,null,{"$f":"IF(I2282= \"\",\"\",VLOOKUP(I2282,会場マスタ!$A:$B,2,FALSE))","v":""}]
["",null,null,null,null,null,null,null,null,{"$f":"IF(I2283= \"\",\"\",VLOOKUP(I2283,会場マスタ!$A:$B,2,FALSE))","v":""}]
["",null,null,null,null,null,null,null,null,{"$f":"IF(I2284= \"\",\"\",VLOOKUP(I2284,会場マスタ!$A:$B,2,FALSE))","v":""}]
["",null,null,null,null,null,null,null,null,{"$f":"IF(I2285= \"\",\"\",VLOOKUP(I2285,会場マスタ!$A:$B,2,FALSE))","v":""}]
["",null,null,null,null,null,null,null,null,{"$f":"IF(I2286= \"\",\"\",VLOOKUP(I2286,会場マスタ!$A:$B,2,FALSE))","v":""}]
["",null,null,null,null,null,null,null,null,{"$f":"IF(I2287= \"\",\"\",VLOOKUP(I2287,会場マスタ!$A:$B,2,FALSE))","v":""}]
["",null,null,null,null,null,null,null,null,{"$f":"IF(I2288= \"\",\"\",VLOOKUP(I2288,会場マスタ!$A:$B,2,FALSE))","v":""}]
["",null,null,null,null,null,null,null,null,{"$f":"IF(I2289= \"\",\"\",VLOOKUP(I2289,会場マスタ!$A:$B,2,FALSE))","v":""}]
["",null,null,null,null,null,null,null,null,{"$f":"IF(I2290= \"\",\"\",VLOOKUP(I2290,会場マスタ!$A:$B,2,FALSE))","v":""}]
["",null,null,null,null,null,null,null,null,{"$f":"IF(I2291= \"\",\"\",VLOOKUP(I2291,会場マスタ!$A:$B,2,FALSE))","v":""}]
["",null,null,null,null,null,null,null,null,{"$f":"IF(I2292= \"\",\"\",VLOOKUP(I2292,会場マスタ!$A:$B,2,FALSE))","v":""}]
["",null,null,null,null,null,null,null,null,{"$f":"IF(I2293= \"\",\"\",VLOOKUP(I2293,会場マスタ!$A:$B,2,FALSE))","v":""}]
["",null,null,null,null,null,null,null,null,{"$f":"IF(I2294= \"\",\"\",VLOOKUP(I2294,会場マスタ!$A:$B,2,FALSE))","v":""}]
["",null,null,null,null,null,null,null,null,{"$f":"IF(I2295= \"\",\"\",VLOOKUP(I2295,会場マスタ!$A:$B,2,FALSE))","v":""}]
["",null,null,null,null,null,null,null,null,{"$f":"IF(I2296= \"\",\"\",VLOOKUP(I2296,会場マスタ!$A:$B,2,FALSE))","v":""}]
["",null,null,null,null,null,null,null,null,{"$f":"IF(I2297= \"\",\"\",VLOOKUP(I2297,会場マスタ!$A:$B,2,FALSE))","v":""}]
["",null,null,null,null,null,null,null,null,{"$f":"IF(I2298= \"\",\"\",VLOOKUP(I2298,会場マスタ!$A:$B,2,FALSE))","v":""}]
["",null,null,null,null,null,null,null,null,{"$f":"IF(I2299= \"\",\"\",VLOOKUP(I2299,会場マスタ!$A:$B,2,FALSE))","v":""}]
["",null,null,null,null,null,null,null,null,{"$f":"IF(I2300= \"\",\"\",VLOOKUP(I2300,会場マスタ!$A:$B,2,FALSE))","v":""}]
["",null,null,null,null,null,null,null,null,{"$f":"IF(I2301= \"\",\"\",VLOOKUP(I2301,会場マスタ!$A:$B,2,FALSE))","v":""}]
["",null,null,null,null,null,null,null,null,{"$f":"IF(I2302= \"\",\"\",VLOOKUP(I2302,会場マスタ!$A:$B,2,FALSE))","v":""}]
["",null,null,null,null,null,null,null,null,{"$f":"IF(I2303= \"\",\"\",VLOOKUP(I2303,会場マスタ!$A:$B,2,FALSE))","v":""}]
["",null,null,null,null,null,null,null,null,{"$f":"IF(I2304= \"\",\"\",VLOOKUP(I2304,会場マスタ!$A:$B,2,FALSE))","v":""}]
["",null,null,null,null,null,null,null,null,{"$f":"IF(I2305= \"\",\"\",VLOOKUP(I2305,会場マスタ!$A:$B,2,FALSE))","v":""}]
["",null,null,null,null,null,null,null,null,{"$f":"IF(I2306= \"\",\"\",VLOOKUP(I2306,会場マスタ!$A:$B,2,FALSE))","v":""}]
["",null,null,null,null,null,null,null,null,{"$f":"IF(I2307= \"\",\"\",VLOOKUP(I2307,会場マスタ!$A:$B,2,FALSE))","v":""}]
["",null,null,null,null,null,null,null,null,{"$f":"IF(I2308= \"\",\"\",VLOOKUP(I2308,会場マスタ!$A:$B,2,FALSE))","v":""}]
["",null,null,null,null,null,null,null,null,{"$f":"IF(I2309= \"\",\"\",VLOOKUP(I2309,会場マスタ!$A:$B,2,FALSE))","v":""}]
["",null,null,null,null,null,null,null,null,{"$f":"IF(I2310= \"\",\"\",VLOOKUP(I2310,会場マスタ!$A:$B,2,FALSE))","v":""}]
[{"$f":"IF(B2311<>\"\",ROW(A2311)-4,\"\")","v":""},null,null,null,null,null,null,null,null,{"$f":"IF(I2311= \"\",\"\",VLOOKUP(I2311,会場マスタ!$A:$B,2,FALSE))","v":""}]
["",null,null,null,null,null,null,null,null,{"$f":"IF(I2312= \"\",\"\",VLOOKUP(I2312,会場マスタ!$A:$B,2,FALSE))","v":""}]
["",null,null,null,null,null,null,null,null,{"$f":"IF(I2313= \"\",\"\",VLOOKUP(I2313,会場マスタ!$A:$B,2,FALSE))","v":""}]
["",null,null,null,null,null,null,null,null,{"$f":"IF(I2314= \"\",\"\",VLOOKUP(I2314,会場マスタ!$A:$B,2,FALSE))","v":""}]
["",null,null,null,null,null,null,null,null,{"$f":"IF(I2315= \"\",\"\",VLOOKUP(I2315,会場マスタ!$A:$B,2,FALSE))","v":""}]
["",null,null,null,null,null,null,null,null,{"$f":"IF(I2316= \"\",\"\",VLOOKUP(I2316,会場マスタ!$A:$B,2,FALSE))","v":""}]
["",null,null,null,null,null,null,null,null,{"$f":"IF(I2317= \"\",\"\",VLOOKUP(I2317,会場マスタ!$A:$B,2,FALSE))","v":""}]
["",null,null,null,null,null,null,null,null,{"$f":"IF(I2318= \"\",\"\",VLOOKUP(I2318,会場マスタ!$A:$B,2,FALSE))","v":""}]
["",null,null,null,null,null,null,null,null,{"$f":"IF(I2319= \"\",\"\",VLOOKUP(I2319,会場マスタ!$A:$B,2,FALSE))","v":""}]
["",null,null,null,null,null,null,null,null,{"$f":"IF(I2320= \"\",\"\",VLOOKUP(I2320,会場マスタ!$A:$B,2,FALSE))","v":""}]
["",null,null,null,null,null,null,null,null,{"$f":"IF(I2321= \"\",\"\",VLOOKUP(I2321,会場マスタ!$A:$B,2,FALSE))","v":""}]
["",null,null,null,null,null,null,null,null,{"$f":"IF(I2322= \"\",\"\",VLOOKUP(I2322,会場マスタ!$A:$B,2,FALSE))","v":""}]
["",null,null,null,null,null,null,null,null,{"$f":"IF(I2323= \"\",\"\",VLOOKUP(I2323,会場マスタ!$A:$B,2,FALSE))","v":""}]
["",null,null,null,null,null,null,null,null,{"$f":"IF(I2324= \"\",\"\",VLOOKUP(I2324,会場マスタ!$A:$B,2,FALSE))","v":""}]
["",null,null,null,null,null,null,null,null,{"$f":"IF(I2325= \"\",\"\",VLOOKUP(I2325,会場マスタ!$A:$B,2,FALSE))","v":""}]
["",null,null,null,null,null,null,null,null,{"$f":"IF(I2326= \"\",\"\",VLOOKUP(I2326,会場マスタ!$A:$B,2,FALSE))","v":""}]
["",null,null,null,null,null,null,null,null,{"$f":"IF(I2327= \"\",\"\",VLOOKUP(I2327,会場マスタ!$A:$B,2,FALSE))","v":""}]
["",null,null,null,null,null,null,null,null,{"$f":"IF(I2328= \"\",\"\",VLOOKUP(I2328,会場マスタ!$A:$B,2,FALSE))","v":""}]
["",null,null,null,null,null,null,null,null,{"$f":"IF(I2329= \"\",\"\",VLOOKUP(I2329,会場マスタ!$A:$B,2,FALSE))","v":""}]
["",null,null,null,null,null,null,null,null,{"$f":"IF(I2330= \"\",\"\",VLOOKUP(I2330,会場マスタ!$A:$B,2,FALSE))","v":""}]
["",null,null,null,null,null,null,null,null,{"$f":"IF(I2331= \"\",\"\",VLOOKUP(I2331,会場マスタ!$A:$B,2,FALSE))","v":""}]
["",null,null,null,null,null,null,null,null,{"$f":"IF(I2332= \"\",\"\",VLOOKUP(I2332,会場マスタ!$A:$B,2,FALSE))","v":""}]
["",null,null,null,null,null,null,null,null,{"$f":"IF(I2333= \"\",\"\",VLOOKUP(I2333,会場マスタ!$A:$B,2,FALSE))","v":""}]
["",null,null,null,null,null,null,null,null,{"$f":"IF(I2334= \"\",\"\",VLOOKUP(I2334,会場マスタ!$A:$B,2,FALSE))","v":""}]
["",null,null,null,null,null,null,null,null,{"$f":"IF(I2335= \"\",\"\",VLOOKUP(I2335,会場マスタ!$A:$B,2,FALSE))","v":""}]
["",null,null,null,null,null,null,null,null,{"$f":"IF(I2336= \"\",\"\",VLOOKUP(I2336,会場マスタ!$A:$B,2,FALSE))","v":""}]
["",null,null,null,null,null,null,null,null,{"$f":"IF(I2337= \"\",\"\",VLOOKUP(I2337,会場マスタ!$A:$B,2,FALSE))","v":""}]
["",null,null,null,null,null,null,null,null,{"$f":"IF(I2338= \"\",\"\",VLOOKUP(I2338,会場マスタ!$A:$B,2,FALSE))","v":""}]
["",null,null,null,null,null,null,null,null,{"$f":"IF(I2339= \"\",\"\",VLOOKUP(I2339,会場マスタ!$A:$B,2,FALSE))","v":""}]
["",null,null,null,null,null,null,null,null,{"$f":"IF(I2340= \"\",\"\",VLOOKUP(I2340,会場マスタ!$A:$B,2,FALSE))","v":""}]
["",null,null,null,null,null,null,null,null,{"$f":"IF(I2341= \"\",\"\",VLOOKUP(I2341,会場マスタ!$A:$B,2,FALSE))","v":""}]
["",null,null,null,null,null,null,null,null,{"$f":"IF(I2342= \"\",\"\",VLOOKUP(I2342,会場マスタ!$A:$B,2,FALSE))","v":""}]
["",null,null,null,null,null,null,null,null,{"$f":"IF(I2343= \"\",\"\",VLOOKUP(I2343,会場マスタ!$A:$B,2,FALSE))","v":""}]
["",null,null,null,null,null,null,null,null,{"$f":"IF(I2344= \"\",\"\",VLOOKUP(I2344,会場マスタ!$A:$B,2,FALSE))","v":""}]
["",null,null,null,null,null,null,null,null,{"$f":"IF(I2345= \"\",\"\",VLOOKUP(I2345,会場マスタ!$A:$B,2,FALSE))","v":""}]
["",null,null,null,null,null,null,null,null,{"$f":"IF(I2346= \"\",\"\",VLOOKUP(I2346,会場マスタ!$A:$B,2,FALSE))","v":""}]
["",null,null,null,null,null,null,null,null,{"$f":"IF(I2347= \"\",\"\",VLOOKUP(I2347,会場マスタ!$A:$B,2,FALSE))","v":""}]
["",null,null,null,null,null,null,null,null,{"$f":"IF(I2348= \"\",\"\",VLOOKUP(I2348,会場マスタ!$A:$B,2,FALSE))","v":""}]
["",null,null,null,null,null,null,null,null,{"$f":"IF(I2349= \"\",\"\",VLOOKUP(I2349,会場マスタ!$A:$B,2,FALSE))","v":""}]
["",null,null,null,null,null,null,null,null,{"$f":"IF(I2350= \"\",\"\",VLOOKUP(I2350,会場マスタ!$A:$B,2,FALSE))","v":""}]
["",null,null,null,null,null,null,null,null,{"$f":"IF(I2351= \"\",\"\",VLOOKUP(I2351,会場マスタ!$A:$B,2,FALSE))","v":""}]
["",null,null,null,null,null,null,null,null,{"$f":"IF(I2352= \"\",\"\",VLOOKUP(I2352,会場マスタ!$A:$B,2,FALSE))","v":""}]
["",null,null,null,null,null,null,null,null,{"$f":"IF(I2353= \"\",\"\",VLOOKUP(I2353,会場マスタ!$A:$B,2,FALSE))","v":""}]
["",null,null,null,null,null,null,null,null,{"$f":"IF(I2354= \"\",\"\",VLOOKUP(I2354,会場マスタ!$A:$B,2,FALSE))","v":""}]
["",null,null,null,null,null,null,null,null,{"$f":"IF(I2355= \"\",\"\",VLOOKUP(I2355,会場マスタ!$A:$B,2,FALSE))","v":""}]
["",null,null,null,null,null,null,null,null,{"$f":"IF(I2356= \"\",\"\",VLOOKUP(I2356,会場マスタ!$A:$B,2,FALSE))","v":""}]
["",null,null,null,null,null,null,null,null,{"$f":"IF(I2357= \"\",\"\",VLOOKUP(I2357,会場マスタ!$A:$B,2,FALSE))","v":""}]
["",null,null,null,null,null,null,null,null,{"$f":"IF(I2358= \"\",\"\",VLOOKUP(I2358,会場マスタ!$A:$B,2,FALSE))","v":""}]
["",null,null,null,null,null,null,null,null,{"$f":"IF(I2359= \"\",\"\",VLOOKUP(I2359,会場マスタ!$A:$B,2,FALSE))","v":""}]
["",null,null,null,null,null,null,null,null,{"$f":"IF(I2360= \"\",\"\",VLOOKUP(I2360,会場マスタ!$A:$B,2,FALSE))","v":""}]
["",null,null,null,null,null,null,null,null,{"$f":"IF(I2361= \"\",\"\",VLOOKUP(I2361,会場マスタ!$A:$B,2,FALSE))","v":""}]
["",null,null,null,null,null,null,null,null,{"$f":"IF(I2362= \"\",\"\",VLOOKUP(I2362,会場マスタ!$A:$B,2,FALSE))","v":""}]
["",null,null,null,null,null,null,null,null,{"$f":"IF(I2363= \"\",\"\",VLOOKUP(I2363,会場マスタ!$A:$B,2,FALSE))","v":""}]
["",null,null,null,null,null,null,null,null,{"$f":"IF(I2364= \"\",\"\",VLOOKUP(I2364,会場マスタ!$A:$B,2,FALSE))","v":""}]
["",null,null,null,null,null,null,null,null,{"$f":"IF(I2365= \"\",\"\",VLOOKUP(I2365,会場マスタ!$A:$B,2,FALSE))","v":""}]
["",null,null,null,null,null,null,null,null,{"$f":"IF(I2366= \"\",\"\",VLOOKUP(I2366,会場マスタ!$A:$B,2,FALSE))","v":""}]
["",null,null,null,null,null,null,null,null,{"$f":"IF(I2367= \"\",\"\",VLOOKUP(I2367,会場マスタ!$A:$B,2,FALSE))","v":""}]
["",null,null,null,null,null,null,null,null,{"$f":"IF(I2368= \"\",\"\",VLOOKUP(I2368,会場マスタ!$A:$B,2,FALSE))","v":""}]
["",null,null,null,null,null,null,null,null,{"$f":"IF(I2369= \"\",\"\",VLOOKUP(I2369,会場マスタ!$A:$B,2,FALSE))","v":""}]
["",null,null,null,null,null,null,null,null,{"$f":"IF(I2370= \"\",\"\",VLOOKUP(I2370,会場マスタ!$A:$B,2,FALSE))","v":""}]
["",null,null,null,null,null,null,null,null,{"$f":"IF(I2371= \"\",\"\",VLOOKUP(I2371,会場マスタ!$A:$B,2,FALSE))","v":""}]
["",null,null,null,null,null,null,null,null,{"$f":"IF(I2372= \"\",\"\",VLOOKUP(I2372,会場マスタ!$A:$B,2,FALSE))","v":""}]
["",null,null,null,null,null,null,null,null,{"$f":"IF(I2373= \"\",\"\",VLOOKUP(I2373,会場マスタ!$A:$B,2,FALSE))","v":""}]
["",null,null,null,null,null,null,null,null,{"$f":"IF(I2374= \"\",\"\",VLOOKUP(I2374,会場マスタ!$A:$B,2,FALSE))","v":""}]
[{"$f":"IF(B2375<>\"\",ROW(A2375)-4,\"\")","v":""},null,null,null,null,null,null,null,null,{"$f":"IF(I2375= \"\",\"\",VLOOKUP(I2375,会場マスタ!$A:$B,2,FALSE))","v":""}]
["",null,null,null,null,null,null,null,null,{"$f":"IF(I2376= \"\",\"\",VLOOKUP(I2376,会場マスタ!$A:$B,2,FALSE))","v":""}]
["",null,null,null,null,null,null,null,null,{"$f":"IF(I2377= \"\",\"\",VLOOKUP(I2377,会場マスタ!$A:$B,2,FALSE))","v":""}]
["",null,null,null,null,null,null,null,null,{"$f":"IF(I2378= \"\",\"\",VLOOKUP(I2378,会場マスタ!$A:$B,2,FALSE))","v":""}]
["",null,null,null,null,null,null,null,null,{"$f":"IF(I2379= \"\",\"\",VLOOKUP(I2379,会場マスタ!$A:$B,2,FALSE))","v":""}]
["",null,null,null,null,null,null,null,null,{"$f":"IF(I2380= \"\",\"\",VLOOKUP(I2380,会場マスタ!$A:$B,2,FALSE))","v":""}]
["",null,null,null,null,null,null,null,null,{"$f":"IF(I2381= \"\",\"\",VLOOKUP(I2381,会場マスタ!$A:$B,2,FALSE))","v":""}]
["",null,null,null,null,null,null,null,null,{"$f":"IF(I2382= \"\",\"\",VLOOKUP(I2382,会場マスタ!$A:$B,2,FALSE))","v":""}]
["",null,null,null,null,null,null,null,null,{"$f":"IF(I2383= \"\",\"\",VLOOKUP(I2383,会場マスタ!$A:$B,2,FALSE))","v":""}]
["",null,null,null,null,null,null,null,null,{"$f":"IF(I2384= \"\",\"\",VLOOKUP(I2384,会場マスタ!$A:$B,2,FALSE))","v":""}]
["",null,null,null,null,null,null,null,null,{"$f":"IF(I2385= \"\",\"\",VLOOKUP(I2385,会場マスタ!$A:$B,2,FALSE))","v":""}]
["",null,null,null,null,null,null,null,null,{"$f":"IF(I2386= \"\",\"\",VLOOKUP(I2386,会場マスタ!$A:$B,2,FALSE))","v":""}]
["",null,null,null,null,null,null,null,null,{"$f":"IF(I2387= \"\",\"\",VLOOKUP(I2387,会場マスタ!$A:$B,2,FALSE))","v":""}]
["",null,null,null,null,null,null,null,null,{"$f":"IF(I2388= \"\",\"\",VLOOKUP(I2388,会場マスタ!$A:$B,2,FALSE))","v":""}]
["",null,null,null,null,null,null,null,null,{"$f":"IF(I2389= \"\",\"\",VLOOKUP(I2389,会場マスタ!$A:$B,2,FALSE))","v":""}]
["",null,null,null,null,null,null,null,null,{"$f":"IF(I2390= \"\",\"\",VLOOKUP(I2390,会場マスタ!$A:$B,2,FALSE))","v":""}]
["",null,null,null,null,null,null,null,null,{"$f":"IF(I2391= \"\",\"\",VLOOKUP(I2391,会場マスタ!$A:$B,2,FALSE))","v":""}]
["",null,null,null,null,null,null,null,null,{"$f":"IF(I2392= \"\",\"\",VLOOKUP(I2392,会場マスタ!$A:$B,2,FALSE))","v":""}]
["",null,null,null,null,null,null,null,null,{"$f":"IF(I2393= \"\",\"\",VLOOKUP(I2393,会場マスタ!$A:$B,2,FALSE))","v":""}]
["",null,null,null,null,null,null,null,null,{"$f":"IF(I2394= \"\",\"\",VLOOKUP(I2394,会場マスタ!$A:$B,2,FALSE))","v":""}]
["",null,null,null,null,null,null,null,null,{"$f":"IF(I2395= \"\",\"\",VLOOKUP(I2395,会場マスタ!$A:$B,2,FALSE))","v":""}]
["",null,null,null,null,null,null,null,null,{"$f":"IF(I2396= \"\",\"\",VLOOKUP(I2396,会場マスタ!$A:$B,2,FALSE))","v":""}]
["",null,null,null,null,null,null,null,null,{"$f":"IF(I2397= \"\",\"\",VLOOKUP(I2397,会場マスタ!$A:$B,2,FALSE))","v":""}]
["",null,null,null,null,null,null,null,null,{"$f":"IF(I2398= \"\",\"\",VLOOKUP(I2398,会場マスタ!$A:$B,2,FALSE))","v":""}]
["",null,null,null,null,null,null,null,null,{"$f":"IF(I2399= \"\",\"\",VLOOKUP(I2399,会場マスタ!$A:$B,2,FALSE))","v":""}]
["",null,null,null,null,null,null,null,null,{"$f":"IF(I2400= \"\",\"\",VLOOKUP(I2400,会場マスタ!$A:$B,2,FALSE))","v":""}]
["",null,null,null,null,null,null,null,null,{"$f":"IF(I2401= \"\",\"\",VLOOKUP(I2401,会場マスタ!$A:$B,2,FALSE))","v":""}]
["",null,null,null,null,null,null,null,null,{"$f":"IF(I2402= \"\",\"\",VLOOKUP(I2402,会場マスタ!$A:$B,2,FALSE))","v":""}]
["",null,null,null,null,null,null,null,null,{"$f":"IF(I2403= \"\",\"\",VLOOKUP(I2403,会場マスタ!$A:$B,2,FALSE))","v":""}]
["",null,null,null,null,null,null,null,null,{"$f":"IF(I2404= \"\",\"\",VLOOKUP(I2404,会場マスタ!$A:$B,2,FALSE))","v":""}]
["",null,null,null,null,null,null,null,null,{"$f":"IF(I2405= \"\",\"\",VLOOKUP(I2405,会場マスタ!$A:$B,2,FALSE))","v":""}]
["",null,null,null,null,null,null,null,null,{"$f":"IF(I2406= \"\",\"\",VLOOKUP(I2406,会場マスタ!$A:$B,2,FALSE))","v":""}]
["",null,null,null,null,null,null,null,null,{"$f":"IF(I2407= \"\",\"\",VLOOKUP(I2407,会場マスタ!$A:$B,2,FALSE))","v":""}]
["",null,null,null,null,null,null,null,null,{"$f":"IF(I2408= \"\",\"\",VLOOKUP(I2408,会場マスタ!$A:$B,2,FALSE))","v":""}]
["",null,null,null,null,null,null,null,null,{"$f":"IF(I2409= \"\",\"\",VLOOKUP(I2409,会場マスタ!$A:$B,2,FALSE))","v":""}]
["",null,null,null,null,null,null,null,null,{"$f":"IF(I2410= \"\",\"\",VLOOKUP(I2410,会場マスタ!$A:$B,2,FALSE))","v":""}]
["",null,null,null,null,null,null,null,null,{"$f":"IF(I2411= \"\",\"\",VLOOKUP(I2411,会場マスタ!$A:$B,2,FALSE))","v":""}]
["",null,null,null,null,null,null,null,null,{"$f":"IF(I2412= \"\",\"\",VLOOKUP(I2412,会場マスタ!$A:$B,2,FALSE))","v":""}]
["",null,null,null,null,null,null,null,null,{"$f":"IF(I2413= \"\",\"\",VLOOKUP(I2413,会場マスタ!$A:$B,2,FALSE))","v":""}]
["",null,null,null,null,null,null,null,null,{"$f":"IF(I2414= \"\",\"\",VLOOKUP(I2414,会場マスタ!$A:$B,2,FALSE))","v":""}]
["",null,null,null,null,null,null,null,null,{"$f":"IF(I2415= \"\",\"\",VLOOKUP(I2415,会場マスタ!$A:$B,2,FALSE))","v":""}]
["",null,null,null,null,null,null,null,null,{"$f":"IF(I2416= \"\",\"\",VLOOKUP(I2416,会場マスタ!$A:$B,2,FALSE))","v":""}]
["",null,null,null,null,null,null,null,null,{"$f":"IF(I2417= \"\",\"\",VLOOKUP(I2417,会場マスタ!$A:$B,2,FALSE))","v":""}]
["",null,null,null,null,null,null,null,null,{"$f":"IF(I2418= \"\",\"\",VLOOKUP(I2418,会場マスタ!$A:$B,2,FALSE))","v":""}]
["",null,null,null,null,null,null,null,null,{"$f":"IF(I2419= \"\",\"\",VLOOKUP(I2419,会場マスタ!$A:$B,2,FALSE))","v":""}]
["",null,null,null,null,null,null,null,null,{"$f":"IF(I2420= \"\",\"\",VLOOKUP(I2420,会場マスタ!$A:$B,2,FALSE))","v":""}]
["",null,null,null,null,null,null,null,null,{"$f":"IF(I2421= \"\",\"\",VLOOKUP(I2421,会場マスタ!$A:$B,2,FALSE))","v":""}]
["",null,null,null,null,null,null,null,null,{"$f":"IF(I2422= \"\",\"\",VLOOKUP(I2422,会場マスタ!$A:$B,2,FALSE))","v":""}]
["",null,null,null,null,null,null,null,null,{"$f":"IF(I2423= \"\",\"\",VLOOKUP(I2423,会場マスタ!$A:$B,2,FALSE))","v":""}]
["",null,null,null,null,null,null,null,null,{"$f":"IF(I2424= \"\",\"\",VLOOKUP(I2424,会場マスタ!$A:$B,2,FALSE))","v":""}]
["",null,null,null,null,null,null,null,null,{"$f":"IF(I2425= \"\",\"\",VLOOKUP(I2425,会場マスタ!$A:$B,2,FALSE))","v":""}]
["",null,null,null,null,null,null,null,null,{"$f":"IF(I2426= \"\",\"\",VLOOKUP(I2426,会場マスタ!$A:$B,2,FALSE))","v":""}]
["",null,null,null,null,null,null,null,null,{"$f":"IF(I2427= \"\",\"\",VLOOKUP(I2427,会場マスタ!$A:$B,2,FALSE))","v":""}]
["",null,null,null,null,null,null,null,null,{"$f":"IF(I2428= \"\",\"\",VLOOKUP(I2428,会場マスタ!$A:$B,2,FALSE))","v":""}]
["",null,null,null,null,null,null,null,null,{"$f":"IF(I2429= \"\",\"\",VLOOKUP(I2429,会場マスタ!$A:$B,2,FALSE))","v":""}]
["",null,null,null,null,null,null,null,null,{"$f":"IF(I2430= \"\",\"\",VLOOKUP(I2430,会場マスタ!$A:$B,2,FALSE))","v":""}]
["",null,null,null,null,null,null,null,null,{"$f":"IF(I2431= \"\",\"\",VLOOKUP(I2431,会場マスタ!$A:$B,2,FALSE))","v":""}]
["",null,null,null,null,null,null,null,null,{"$f":"IF(I2432= \"\",\"\",VLOOKUP(I2432,会場マスタ!$A:$B,2,FALSE))","v":""}]
["",null,null,null,null,null,null,null,null,{"$f":"IF(I2433= \"\",\"\",VLOOKUP(I2433,会場マスタ!$A:$B,2,FALSE))","v":""}]
["",null,null,null,null,null,null,null,null,{"$f":"IF(I2434= \"\",\"\",VLOOKUP(I2434,会場マスタ!$A:$B,2,FALSE))","v":""}]
["",null,null,null,null,null,null,null,null,{"$f":"IF(I2435= \"\",\"\",VLOOKUP(I2435,会場マスタ!$A:$B,2,FALSE))","v":""}]
["",null,null,null,null,null,null,null,null,{"$f":"IF(I2436= \"\",\"\",VLOOKUP(I2436,会場マスタ!$A:$B,2,FALSE))","v":""}]
["",null,null,null,null,null,null,null,null,{"$f":"IF(I2437= \"\",\"\",VLOOKUP(I2437,会場マスタ!$A:$B,2,FALSE))","v":""}]
["",null,null,null,null,null,null,null,null,{"$f":"IF(I2438= \"\",\"\",VLOOKUP(I2438,会場マスタ!$A:$B,2,FALSE))","v":""}]
[{"$f":"IF(B2439<>\"\",ROW(A2439)-4,\"\")","v":""},null,null,null,null,null,null,null,null,{"$f":"IF(I2439= \"\",\"\",VLOOKUP(I2439,会場マスタ!$A:$B,2,FALSE))","v":""}]
["",null,null,null,null,null,null,null,null,{"$f":"IF(I2440= \"\",\"\",VLOOKUP(I2440,会場マスタ!$A:$B,2,FALSE))","v":""}]
["",null,null,null,null,null,null,null,null,{"$f":"IF(I2441= \"\",\"\",VLOOKUP(I2441,会場マスタ!$A:$B,2,FALSE))","v":""}]
["",null,null,null,null,null,null,null,null,{"$f":"IF(I2442= \"\",\"\",VLOOKUP(I2442,会場マスタ!$A:$B,2,FALSE))","v":""}]
["",null,null,null,null,null,null,null,null,{"$f":"IF(I2443= \"\",\"\",VLOOKUP(I2443,会場マスタ!$A:$B,2,FALSE))","v":""}]
["",null,null,null,null,null,null,null,null,{"$f":"IF(I2444= \"\",\"\",VLOOKUP(I2444,会場マスタ!$A:$B,2,FALSE))","v":""}]
["",null,null,null,null,null,null,null,null,{"$f":"IF(I2445= \"\",\"\",VLOOKUP(I2445,会場マスタ!$A:$B,2,FALSE))","v":""}]
["",null,null,null,null,null,null,null,null,{"$f":"IF(I2446= \"\",\"\",VLOOKUP(I2446,会場マスタ!$A:$B,2,FALSE))","v":""}]
["",null,null,null,null,null,null,null,null,{"$f":"IF(I2447= \"\",\"\",VLOOKUP(I2447,会場マスタ!$A:$B,2,FALSE))","v":""}]
["",null,null,null,null,null,null,null,null,{"$f":"IF(I2448= \"\",\"\",VLOOKUP(I2448,会場マスタ!$A:$B,2,FALSE))","v":""}]
["",null,null,null,null,null,null,null,null,{"$f":"IF(I2449= \"\",\"\",VLOOKUP(I2449,会場マスタ!$A:$B,2,FALSE))","v":""}]
["",null,null,null,null,null,null,null,null,{"$f":"IF(I2450= \"\",\"\",VLOOKUP(I2450,会場マスタ!$A:$B,2,FALSE))","v":""}]
["",null,null,null,null,null,null,null,null,{"$f":"IF(I2451= \"\",\"\",VLOOKUP(I2451,会場マスタ!$A:$B,2,FALSE))","v":""}]
["",null,null,null,null,null,null,null,null,{"$f":"IF(I2452= \"\",\"\",VLOOKUP(I2452,会場マスタ!$A:$B,2,FALSE))","v":""}]
["",null,null,null,null,null,null,null,null,{"$f":"IF(I2453= \"\",\"\",VLOOKUP(I2453,会場マスタ!$A:$B,2,FALSE))","v":""}]
["",null,null,null,null,null,null,null,null,{"$f":"IF(I2454= \"\",\"\",VLOOKUP(I2454,会場マスタ!$A:$B,2,FALSE))","v":""}]
["",null,null,null,null,null,null,null,null,{"$f":"IF(I2455= \"\",\"\",VLOOKUP(I2455,会場マスタ!$A:$B,2,FALSE))","v":""}]
["",null,null,null,null,null,null,null,null,{"$f":"IF(I2456= \"\",\"\",VLOOKUP(I2456,会場マスタ!$A:$B,2,FALSE))","v":""}]
["",null,null,null,null,null,null,null,null,{"$f":"IF(I2457= \"\",\"\",VLOOKUP(I2457,会場マスタ!$A:$B,2,FALSE))","v":""}]
["",null,null,null,null,null,null,null,null,{"$f":"IF(I2458= \"\",\"\",VLOOKUP(I2458,会場マスタ!$A:$B,2,FALSE))","v":""}]
["",null,null,null,null,null,null,null,null,{"$f":"IF(I2459= \"\",\"\",VLOOKUP(I2459,会場マスタ!$A:$B,2,FALSE))","v":""}]
["",null,null,null,null,null,null,null,null,{"$f":"IF(I2460= \"\",\"\",VLOOKUP(I2460,会場マスタ!$A:$B,2,FALSE))","v":""}]
["",null,null,null,null,null,null,null,null,{"$f":"IF(I2461= \"\",\"\",VLOOKUP(I2461,会場マスタ!$A:$B,2,FALSE))","v":""}]
["",null,null,null,null,null,null,null,null,{"$f":"IF(I2462= \"\",\"\",VLOOKUP(I2462,会場マスタ!$A:$B,2,FALSE))","v":""}]
["",null,null,null,null,null,null,null,null,{"$f":"IF(I2463= \"\",\"\",VLOOKUP(I2463,会場マスタ!$A:$B,2,FALSE))","v":""}]
["",null,null,null,null,null,null,null,null,{"$f":"IF(I2464= \"\",\"\",VLOOKUP(I2464,会場マスタ!$A:$B,2,FALSE))","v":""}]
["",null,null,null,null,null,null,null,null,{"$f":"IF(I2465= \"\",\"\",VLOOKUP(I2465,会場マスタ!$A:$B,2,FALSE))","v":""}]
["",null,null,null,null,null,null,null,null,{"$f":"IF(I2466= \"\",\"\",VLOOKUP(I2466,会場マスタ!$A:$B,2,FALSE))","v":""}]
["",null,null,null,null,null,null,null,null,{"$f":"IF(I2467= \"\",\"\",VLOOKUP(I2467,会場マスタ!$A:$B,2,FALSE))","v":""}]
["",null,null,null,null,null,null,null,null,{"$f":"IF(I2468= \"\",\"\",VLOOKUP(I2468,会場マスタ!$A:$B,2,FALSE))","v":""}]
["",null,null,null,null,null,null,null,null,{"$f":"IF(I2469= \"\",\"\",VLOOKUP(I2469,会場マスタ!$A:$B,2,FALSE))","v":""}]
["",null,null,null,null,null,null,null,null,{"$f":"IF(I2470= \"\",\"\",VLOOKUP(I2470,会場マスタ!$A:$B,2,FALSE))","v":""}]
["",null,null,null,null,null,null,null,null,{"$f":"IF(I2471= \"\",\"\",VLOOKUP(I2471,会場マスタ!$A:$B,2,FALSE))","v":""}]
["",null,null,null,null,null,null,null,null,{"$f":"IF(I2472= \"\",\"\",VLOOKUP(I2472,会場マスタ!$A:$B,2,FALSE))","v":""}]
["",null,null,null,null,null,null,null,null,{"$f":"IF(I2473= \"\",\"\",VLOOKUP(I2473,会場マスタ!$A:$B,2,FALSE))","v":""}]
["",null,null,null,null,null,null,null,null,{"$f":"IF(I2474= \"\",\"\",VLOOKUP(I2474,会場マスタ!$A:$B,2,FALSE))","v":""}]
["",null,null,null,null,null,null,null,null,{"$f":"IF(I2475= \"\",\"\",VLOOKUP(I2475,会場マスタ!$A:$B,2,FALSE))","v":""}]
["",null,null,null,null,null,null,null,null,{"$f":"IF(I2476= \"\",\"\",VLOOKUP(I2476,会場マスタ!$A:$B,2,FALSE))","v":""}]
["",null,null,null,null,null,null,null,null,{"$f":"IF(I2477= \"\",\"\",VLOOKUP(I2477,会場マスタ!$A:$B,2,FALSE))","v":""}]
["",null,null,null,null,null,null,null,null,{"$f":"IF(I2478= \"\",\"\",VLOOKUP(I2478,会場マスタ!$A:$B,2,FALSE))","v":""}]
["",null,null,null,null,null,null,null,null,{"$f":"IF(I2479= \"\",\"\",VLOOKUP(I2479,会場マスタ!$A:$B,2,FALSE))","v":""}]
["",null,null,null,null,null,null,null,null,{"$f":"IF(I2480= \"\",\"\",VLOOKUP(I2480,会場マスタ!$A:$B,2,FALSE))","v":""}]
["",null,null,null,null,null,null,null,null,{"$f":"IF(I2481= \"\",\"\",VLOOKUP(I2481,会場マスタ!$A:$B,2,FALSE))","v":""}]
["",null,null,null,null,null,null,null,null,{"$f":"IF(I2482= \"\",\"\",VLOOKUP(I2482,会場マスタ!$A:$B,2,FALSE))","v":""}]
["",null,null,null,null,null,null,null,null,{"$f":"IF(I2483= \"\",\"\",VLOOKUP(I2483,会場マスタ!$A:$B,2,FALSE))","v":""}]
["",null,null,null,null,null,null,null,null,{"$f":"IF(I2484= \"\",\"\",VLOOKUP(I2484,会場マスタ!$A:$B,2,FALSE))","v":""}]
["",null,null,null,null,null,null,null,null,{"$f":"IF(I2485= \"\",\"\",VLOOKUP(I2485,会場マスタ!$A:$B,2,FALSE))","v":""}]
["",null,null,null,null,null,null,null,null,{"$f":"IF(I2486= \"\",\"\",VLOOKUP(I2486,会場マスタ!$A:$B,2,FALSE))","v":""}]
["",null,null,null,null,null,null,null,null,{"$f":"IF(I2487= \"\",\"\",VLOOKUP(I2487,会場マスタ!$A:$B,2,FALSE))","v":""}]
["",null,null,null,null,null,null,null,null,{"$f":"IF(I2488= \"\",\"\",VLOOKUP(I2488,会場マスタ!$A:$B,2,FALSE))","v":""}]
["",null,null,null,null,null,null,null,null,{"$f":"IF(I2489= \"\",\"\",VLOOKUP(I2489,会場マスタ!$A:$B,2,FALSE))","v":""}]
["",null,null,null,null,null,null,null,null,{"$f":"IF(I2490= \"\",\"\",VLOOKUP(I2490,会場マスタ!$A:$B,2,FALSE))","v":""}]
["",null,null,null,null,null,null,null,null,{"$f":"IF(I2491= \"\",\"\",VLOOKUP(I2491,会場マスタ!$A:$B,2,FALSE))","v":""}]
["",null,null,null,null,null,null,null,null,{"$f":"IF(I2492= \"\",\"\",VLOOKUP(I2492,会場マスタ!$A:$B,2,FALSE))","v":""}]
["",null,null,null,null,null,null,null,null,{"$f":"IF(I2493= \"\",\"\",VLOOKUP(I2493,会場マスタ!$A:$B,2,FALSE))","v":""}]
["",null,null,null,null,null,null,null,null,{"$f":"IF(I2494= \"\",\"\",VLOOKUP(I2494,会場マスタ!$A:$B,2,FALSE))","v":""}]
["",null,null,null,null,null,null,null,null,{"$f":"IF(I2495= \"\",\"\",VLOOKUP(I2495,会場マスタ!$A:$B,2,FALSE))","v":""}]
["",null,null,null,null,null,null,null,null,{"$f":"IF(I2496= \"\",\"\",VLOOKUP(I2496,会場マスタ!$A:$B,2,FALSE))","v":""}]
["",null,null,null,null,null,null,null,null,{"$f":"IF(I2497= \"\",\"\",VLOOKUP(I2497,会場マスタ!$A:$B,2,FALSE))","v":""}]
["",null,null,null,null,null,null,null,null,{"$f":"IF(I2498= \"\",\"\",VLOOKUP(I2498,会場マスタ!$A:$B,2,FALSE))","v":""}]
["",null,null,null,null,null,null,null,null,{"$f":"IF(I2499= \"\",\"\",VLOOKUP(I2499,会場マスタ!$A:$B,2,FALSE))","v":""}]
["",null,null,null,null,null,null,null,null,{"$f":"IF(I2500= \"\",\"\",VLOOKUP(I2500,会場マスタ!$A:$B,2,FALSE))","v":""}]
["",null,null,null,null,null,null,null,null,{"$f":"IF(I2501= \"\",\"\",VLOOKUP(I2501,会場マスタ!$A:$B,2,FALSE))","v":""}]
["",null,null,null,null,null,null,null,null,{"$f":"IF(I2502= \"\",\"\",VLOOKUP(I2502,会場マスタ!$A:$B,2,FALSE))","v":""}]
[{"$f":"IF(B2503<>\"\",ROW(A2503)-4,\"\")","v":""},null,null,null,null,null,null,null,null,{"$f":"IF(I2503= \"\",\"\",VLOOKUP(I2503,会場マスタ!$A:$B,2,FALSE))","v":""}]
["",null,null,null,null,null,null,null,null,{"$f":"IF(I2504= \"\",\"\",VLOOKUP(I2504,会場マスタ!$A:$B,2,FALSE))","v":""}]
["",null,null,null,null,null,null,null,null,{"$f":"IF(I2505= \"\",\"\",VLOOKUP(I2505,会場マスタ!$A:$B,2,FALSE))","v":""}]
["",null,null,null,null,null,null,null,null,{"$f":"IF(I2506= \"\",\"\",VLOOKUP(I2506,会場マスタ!$A:$B,2,FALSE))","v":""}]
["",null,null,null,null,null,null,null,null,{"$f":"IF(I2507= \"\",\"\",VLOOKUP(I2507,会場マスタ!$A:$B,2,FALSE))","v":""}]
["",null,null,null,null,null,null,null,null,{"$f":"IF(I2508= \"\",\"\",VLOOKUP(I2508,会場マスタ!$A:$B,2,FALSE))","v":""}]
["",null,null,null,null,null,null,null,null,{"$f":"IF(I2509= \"\",\"\",VLOOKUP(I2509,会場マスタ!$A:$B,2,FALSE))","v":""}]
["",null,null,null,null,null,null,null,null,{"$f":"IF(I2510= \"\",\"\",VLOOKUP(I2510,会場マスタ!$A:$B,2,FALSE))","v":""}]
["",null,null,null,null,null,null,null,null,{"$f":"IF(I2511= \"\",\"\",VLOOKUP(I2511,会場マスタ!$A:$B,2,FALSE))","v":""}]
["",null,null,null,null,null,null,null,null,{"$f":"IF(I2512= \"\",\"\",VLOOKUP(I2512,会場マスタ!$A:$B,2,FALSE))","v":""}]
["",null,null,null,null,null,null,null,null,{"$f":"IF(I2513= \"\",\"\",VLOOKUP(I2513,会場マスタ!$A:$B,2,FALSE))","v":""}]
["",null,null,null,null,null,null,null,null,{"$f":"IF(I2514= \"\",\"\",VLOOKUP(I2514,会場マスタ!$A:$B,2,FALSE))","v":""}]
["",null,null,null,null,null,null,null,null,{"$f":"IF(I2515= \"\",\"\",VLOOKUP(I2515,会場マスタ!$A:$B,2,FALSE))","v":""}]
["",null,null,null,null,null,null,null,null,{"$f":"IF(I2516= \"\",\"\",VLOOKUP(I2516,会場マスタ!$A:$B,2,FALSE))","v":""}]
["",null,null,null,null,null,null,null,null,{"$f":"IF(I2517= \"\",\"\",VLOOKUP(I2517,会場マスタ!$A:$B,2,FALSE))","v":""}]
["",null,null,null,null,null,null,null,null,{"$f":"IF(I2518= \"\",\"\",VLOOKUP(I2518,会場マスタ!$A:$B,2,FALSE))","v":""}]
["",null,null,null,null,null,null,null,null,{"$f":"IF(I2519= \"\",\"\",VLOOKUP(I2519,会場マスタ!$A:$B,2,FALSE))","v":""}]
["",null,null,null,null,null,null,null,null,{"$f":"IF(I2520= \"\",\"\",VLOOKUP(I2520,会場マスタ!$A:$B,2,FALSE))","v":""}]
["",null,null,null,null,null,null,null,null,{"$f":"IF(I2521= \"\",\"\",VLOOKUP(I2521,会場マスタ!$A:$B,2,FALSE))","v":""}]
["",null,null,null,null,null,null,null,null,{"$f":"IF(I2522= \"\",\"\",VLOOKUP(I2522,会場マスタ!$A:$B,2,FALSE))","v":""}]
["",null,null,null,null,null,null,null,null,{"$f":"IF(I2523= \"\",\"\",VLOOKUP(I2523,会場マスタ!$A:$B,2,FALSE))","v":""}]
["",null,null,null,null,null,null,null,null,{"$f":"IF(I2524= \"\",\"\",VLOOKUP(I2524,会場マスタ!$A:$B,2,FALSE))","v":""}]
["",null,null,null,null,null,null,null,null,{"$f":"IF(I2525= \"\",\"\",VLOOKUP(I2525,会場マスタ!$A:$B,2,FALSE))","v":""}]
["",null,null,null,null,null,null,null,null,{"$f":"IF(I2526= \"\",\"\",VLOOKUP(I2526,会場マスタ!$A:$B,2,FALSE))","v":""}]
["",null,null,null,null,null,null,null,null,{"$f":"IF(I2527= \"\",\"\",VLOOKUP(I2527,会場マスタ!$A:$B,2,FALSE))","v":""}]
["",null,null,null,null,null,null,null,null,{"$f":"IF(I2528= \"\",\"\",VLOOKUP(I2528,会場マスタ!$A:$B,2,FALSE))","v":""}]
["",null,null,null,null,null,null,null,null,{"$f":"IF(I2529= \"\",\"\",VLOOKUP(I2529,会場マスタ!$A:$B,2,FALSE))","v":""}]
["",null,null,null,null,null,null,null,null,{"$f":"IF(I2530= \"\",\"\",VLOOKUP(I2530,会場マスタ!$A:$B,2,FALSE))","v":""}]
["",null,null,null,null,null,null,null,null,{"$f":"IF(I2531= \"\",\"\",VLOOKUP(I2531,会場マスタ!$A:$B,2,FALSE))","v":""}]
["",null,null,null,null,null,null,null,null,{"$f":"IF(I2532= \"\",\"\",VLOOKUP(I2532,会場マスタ!$A:$B,2,FALSE))","v":""}]
["",null,null,null,null,null,null,null,null,{"$f":"IF(I2533= \"\",\"\",VLOOKUP(I2533,会場マスタ!$A:$B,2,FALSE))","v":""}]
["",null,null,null,null,null,null,null,null,{"$f":"IF(I2534= \"\",\"\",VLOOKUP(I2534,会場マスタ!$A:$B,2,FALSE))","v":""}]
["",null,null,null,null,null,null,null,null,{"$f":"IF(I2535= \"\",\"\",VLOOKUP(I2535,会場マスタ!$A:$B,2,FALSE))","v":""}]
["",null,null,null,null,null,null,null,null,{"$f":"IF(I2536= \"\",\"\",VLOOKUP(I2536,会場マスタ!$A:$B,2,FALSE))","v":""}]
["",null,null,null,null,null,null,null,null,{"$f":"IF(I2537= \"\",\"\",VLOOKUP(I2537,会場マスタ!$A:$B,2,FALSE))","v":""}]
["",null,null,null,null,null,null,null,null,{"$f":"IF(I2538= \"\",\"\",VLOOKUP(I2538,会場マスタ!$A:$B,2,FALSE))","v":""}]
["",null,null,null,null,null,null,null,null,{"$f":"IF(I2539= \"\",\"\",VLOOKUP(I2539,会場マスタ!$A:$B,2,FALSE))","v":""}]
["",null,null,null,null,null,null,null,null,{"$f":"IF(I2540= \"\",\"\",VLOOKUP(I2540,会場マスタ!$A:$B,2,FALSE))","v":""}]
["",null,null,null,null,null,null,null,null,{"$f":"IF(I2541= \"\",\"\",VLOOKUP(I2541,会場マスタ!$A:$B,2,FALSE))","v":""}]
["",null,null,null,null,null,null,null,null,{"$f":"IF(I2542= \"\",\"\",VLOOKUP(I2542,会場マスタ!$A:$B,2,FALSE))","v":""}]
["",null,null,null,null,null,null,null,null,{"$f":"IF(I2543= \"\",\"\",VLOOKUP(I2543,会場マスタ!$A:$B,2,FALSE))","v":""}]
["",null,null,null,null,null,null,null,null,{"$f":"IF(I2544= \"\",\"\",VLOOKUP(I2544,会場マスタ!$A:$B,2,FALSE))","v":""}]
["",null,null,null,null,null,null,null,null,{"$f":"IF(I2545= \"\",\"\",VLOOKUP(I2545,会場マスタ!$A:$B,2,FALSE))","v":""}]
["",null,null,null,null,null,null,null,null,{"$f":"IF(I2546= \"\",\"\",VLOOKUP(I2546,会場マスタ!$A:$B,2,FALSE))","v":""}]
["",null,null,null,null,null,null,null,null,{"$f":"IF(I2547= \"\",\"\",VLOOKUP(I2547,会場マスタ!$A:$B,2,FALSE))","v":""}]
["",null,null,null,null,null,null,null,null,{"$f":"IF(I2548= \"\",\"\",VLOOKUP(I2548,会場マスタ!$A:$B,2,FALSE))","v":""}]
["",null,null,null,null,null,null,null,null,{"$f":"IF(I2549= \"\",\"\",VLOOKUP(I2549,会場マスタ!$A:$B,2,FALSE))","v":""}]
["",null,null,null,null,null,null,null,null,{"$f":"IF(I2550= \"\",\"\",VLOOKUP(I2550,会場マスタ!$A:$B,2,FALSE))","v":""}]
["",null,null,null,null,null,null,null,null,{"$f":"IF(I2551= \"\",\"\",VLOOKUP(I2551,会場マスタ!$A:$B,2,FALSE))","v":""}]
["",null,null,null,null,null,null,null,null,{"$f":"IF(I2552= \"\",\"\",VLOOKUP(I2552,会場マスタ!$A:$B,2,FALSE))","v":""}]
["",null,null,null,null,null,null,null,null,{"$f":"IF(I2553= \"\",\"\",VLOOKUP(I2553,会場マスタ!$A:$B,2,FALSE))","v":""}]
["",null,null,null,null,null,null,null,null,{"$f":"IF(I2554= \"\",\"\",VLOOKUP(I2554,会場マスタ!$A:$B,2,FALSE))","v":""}]
["",null,null,null,null,null,null,null,null,{"$f":"IF(I2555= \"\",\"\",VLOOKUP(I2555,会場マスタ!$A:$B,2,FALSE))","v":""}]
["",null,null,null,null,null,null,null,null,{"$f":"IF(I2556= \"\",\"\",VLOOKUP(I2556,会場マスタ!$A:$B,2,FALSE))","v":""}]
["",null,null,null,null,null,null,null,null,{"$f":"IF(I2557= \"\",\"\",VLOOKUP(I2557,会場マスタ!$A:$B,2,FALSE))","v":""}]
["",null,null,null,null,null,null,null,null,{"$f":"IF(I2558= \"\",\"\",VLOOKUP(I2558,会場マスタ!$A:$B,2,FALSE))","v":""}]
["",null,null,null,null,null,null,null,null,{"$f":"IF(I2559= \"\",\"\",VLOOKUP(I2559,会場マスタ!$A:$B,2,FALSE))","v":""}]
["",null,null,null,null,null,null,null,null,{"$f":"IF(I2560= \"\",\"\",VLOOKUP(I2560,会場マスタ!$A:$B,2,FALSE))","v":""}]
["",null,null,null,null,null,null,null,null,{"$f":"IF(I2561= \"\",\"\",VLOOKUP(I2561,会場マスタ!$A:$B,2,FALSE))","v":""}]
["",null,null,null,null,null,null,null,null,{"$f":"IF(I2562= \"\",\"\",VLOOKUP(I2562,会場マスタ!$A:$B,2,FALSE))","v":""}]
["",null,null,null,null,null,null,null,null,{"$f":"IF(I2563= \"\",\"\",VLOOKUP(I2563,会場マスタ!$A:$B,2,FALSE))","v":""}]
["",null,null,null,null,null,null,null,null,{"$f":"IF(I2564= \"\",\"\",VLOOKUP(I2564,会場マスタ!$A:$B,2,FALSE))","v":""}]
["",null,null,null,null,null,null,null,null,{"$f":"IF(I2565= \"\",\"\",VLOOKUP(I2565,会場マスタ!$A:$B,2,FALSE))","v":""}]
["",null,null,null,null,null,null,null,null,{"$f":"IF(I2566= \"\",\"\",VLOOKUP(I2566,会場マスタ!$A:$B,2,FALSE))","v":""}]
[{"$f":"IF(B2567<>\"\",ROW(A2567)-4,\"\")","v":""},null,null,null,null,null,null,null,null,{"$f":"IF(I2567= \"\",\"\",VLOOKUP(I2567,会場マスタ!$A:$B,2,FALSE))","v":""}]
["",null,null,null,null,null,null,null,null,{"$f":"IF(I2568= \"\",\"\",VLOOKUP(I2568,会場マスタ!$A:$B,2,FALSE))","v":""}]
["",null,null,null,null,null,null,null,null,{"$f":"IF(I2569= \"\",\"\",VLOOKUP(I2569,会場マスタ!$A:$B,2,FALSE))","v":""}]
["",null,null,null,null,null,null,null,null,{"$f":"IF(I2570= \"\",\"\",VLOOKUP(I2570,会場マスタ!$A:$B,2,FALSE))","v":""}]
["",null,null,null,null,null,null,null,null,{"$f":"IF(I2571= \"\",\"\",VLOOKUP(I2571,会場マスタ!$A:$B,2,FALSE))","v":""}]
["",null,null,null,null,null,null,null,null,{"$f":"IF(I2572= \"\",\"\",VLOOKUP(I2572,会場マスタ!$A:$B,2,FALSE))","v":""}]
["",null,null,null,null,null,null,null,null,{"$f":"IF(I2573= \"\",\"\",VLOOKUP(I2573,会場マスタ!$A:$B,2,FALSE))","v":""}]
["",null,null,null,null,null,null,null,null,{"$f":"IF(I2574= \"\",\"\",VLOOKUP(I2574,会場マスタ!$A:$B,2,FALSE))","v":""}]
["",null,null,null,null,null,null,null,null,{"$f":"IF(I2575= \"\",\"\",VLOOKUP(I2575,会場マスタ!$A:$B,2,FALSE))","v":""}]
["",null,null,null,null,null,null,null,null,{"$f":"IF(I2576= \"\",\"\",VLOOKUP(I2576,会場マスタ!$A:$B,2,FALSE))","v":""}]
["",null,null,null,null,null,null,null,null,{"$f":"IF(I2577= \"\",\"\",VLOOKUP(I2577,会場マスタ!$A:$B,2,FALSE))","v":""}]
["",null,null,null,null,null,null,null,null,{"$f":"IF(I2578= \"\",\"\",VLOOKUP(I2578,会場マスタ!$A:$B,2,FALSE))","v":""}]
["",null,null,null,null,null,null,null,null,{"$f":"IF(I2579= \"\",\"\",VLOOKUP(I2579,会場マスタ!$A:$B,2,FALSE))","v":""}]
["",null,null,null,null,null,null,null,null,{"$f":"IF(I2580= \"\",\"\",VLOOKUP(I2580,会場マスタ!$A:$B,2,FALSE))","v":""}]
["",null,null,null,null,null,null,null,null,{"$f":"IF(I2581= \"\",\"\",VLOOKUP(I2581,会場マスタ!$A:$B,2,FALSE))","v":""}]
["",null,null,null,null,null,null,null,null,{"$f":"IF(I2582= \"\",\"\",VLOOKUP(I2582,会場マスタ!$A:$B,2,FALSE))","v":""}]
["",null,null,null,null,null,null,null,null,{"$f":"IF(I2583= \"\",\"\",VLOOKUP(I2583,会場マスタ!$A:$B,2,FALSE))","v":""}]
["",null,null,null,null,null,null,null,null,{"$f":"IF(I2584= \"\",\"\",VLOOKUP(I2584,会場マスタ!$A:$B,2,FALSE))","v":""}]
["",null,null,null,null,null,null,null,null,{"$f":"IF(I2585= \"\",\"\",VLOOKUP(I2585,会場マスタ!$A:$B,2,FALSE))","v":""}]
["",null,null,null,null,null,null,null,null,{"$f":"IF(I2586= \"\",\"\",VLOOKUP(I2586,会場マスタ!$A:$B,2,FALSE))","v":""}]
["",null,null,null,null,null,null,null,null,{"$f":"IF(I2587= \"\",\"\",VLOOKUP(I2587,会場マスタ!$A:$B,2,FALSE))","v":""}]
["",null,null,null,null,null,null,null,null,{"$f":"IF(I2588= \"\",\"\",VLOOKUP(I2588,会場マスタ!$A:$B,2,FALSE))","v":""}]
["",null,null,null,null,null,null,null,null,{"$f":"IF(I2589= \"\",\"\",VLOOKUP(I2589,会場マスタ!$A:$B,2,FALSE))","v":""}]
["",null,null,null,null,null,null,null,null,{"$f":"IF(I2590= \"\",\"\",VLOOKUP(I2590,会場マスタ!$A:$B,2,FALSE))","v":""}]
["",null,null,null,null,null,null,null,null,{"$f":"IF(I2591= \"\",\"\",VLOOKUP(I2591,会場マスタ!$A:$B,2,FALSE))","v":""}]
["",null,null,null,null,null,null,null,null,{"$f":"IF(I2592= \"\",\"\",VLOOKUP(I2592,会場マスタ!$A:$B,2,FALSE))","v":""}]
["",null,null,null,null,null,null,null,null,{"$f":"IF(I2593= \"\",\"\",VLOOKUP(I2593,会場マスタ!$A:$B,2,FALSE))","v":""}]
["",null,null,null,null,null,null,null,null,{"$f":"IF(I2594= \"\",\"\",VLOOKUP(I2594,会場マスタ!$A:$B,2,FALSE))","v":""}]
["",null,null,null,null,null,null,null,null,{"$f":"IF(I2595= \"\",\"\",VLOOKUP(I2595,会場マスタ!$A:$B,2,FALSE))","v":""}]
["",null,null,null,null,null,null,null,null,{"$f":"IF(I2596= \"\",\"\",VLOOKUP(I2596,会場マスタ!$A:$B,2,FALSE))","v":""}]
["",null,null,null,null,null,null,null,null,{"$f":"IF(I2597= \"\",\"\",VLOOKUP(I2597,会場マスタ!$A:$B,2,FALSE))","v":""}]
["",null,null,null,null,null,null,null,null,{"$f":"IF(I2598= \"\",\"\",VLOOKUP(I2598,会場マスタ!$A:$B,2,FALSE))","v":""}]
["",null,null,null,null,null,null,null,null,{"$f":"IF(I2599= \"\",\"\",VLOOKUP(I2599,会場マスタ!$A:$B,2,FALSE))","v":""}]
["",null,null,null,null,null,null,null,null,{"$f":"IF(I2600= \"\",\"\",VLOOKUP(I2600,会場マスタ!$A:$B,2,FALSE))","v":""}]
["",null,null,null,null,null,null,null,null,{"$f":"IF(I2601= \"\",\"\",VLOOKUP(I2601,会場マスタ!$A:$B,2,FALSE))","v":""}]
["",null,null,null,null,null,null,null,null,{"$f":"IF(I2602= \"\",\"\",VLOOKUP(I2602,会場マスタ!$A:$B,2,FALSE))","v":""}]
["",null,null,null,null,null,null,null,null,{"$f":"IF(I2603= \"\",\"\",VLOOKUP(I2603,会場マスタ!$A:$B,2,FALSE))","v":""}]
["",null,null,null,null,null,null,null,null,{"$f":"IF(I2604= \"\",\"\",VLOOKUP(I2604,会場マスタ!$A:$B,2,FALSE))","v":""}]
["",null,null,null,null,null,null,null,null,{"$f":"IF(I2605= \"\",\"\",VLOOKUP(I2605,会場マスタ!$A:$B,2,FALSE))","v":""}]
["",null,null,null,null,null,null,null,null,{"$f":"IF(I2606= \"\",\"\",VLOOKUP(I2606,会場マスタ!$A:$B,2,FALSE))","v":""}]
["",null,null,null,null,null,null,null,null,{"$f":"IF(I2607= \"\",\"\",VLOOKUP(I2607,会場マスタ!$A:$B,2,FALSE))","v":""}]
["",null,null,null,null,null,null,null,null,{"$f":"IF(I2608= \"\",\"\",VLOOKUP(I2608,会場マスタ!$A:$B,2,FALSE))","v":""}]
["",null,null,null,null,null,null,null,null,{"$f":"IF(I2609= \"\",\"\",VLOOKUP(I2609,会場マスタ!$A:$B,2,FALSE))","v":""}]
["",null,null,null,null,null,null,null,null,{"$f":"IF(I2610= \"\",\"\",VLOOKUP(I2610,会場マスタ!$A:$B,2,FALSE))","v":""}]
["",null,null,null,null,null,null,null,null,{"$f":"IF(I2611= \"\",\"\",VLOOKUP(I2611,会場マスタ!$A:$B,2,FALSE))","v":""}]
["",null,null,null,null,null,null,null,null,{"$f":"IF(I2612= \"\",\"\",VLOOKUP(I2612,会場マスタ!$A:$B,2,FALSE))","v":""}]
["",null,null,null,null,null,null,null,null,{"$f":"IF(I2613= \"\",\"\",VLOOKUP(I2613,会場マスタ!$A:$B,2,FALSE))","v":""}]
["",null,null,null,null,null,null,null,null,{"$f":"IF(I2614= \"\",\"\",VLOOKUP(I2614,会場マスタ!$A:$B,2,FALSE))","v":""}]
["",null,null,null,null,null,null,null,null,{"$f":"IF(I2615= \"\",\"\",VLOOKUP(I2615,会場マスタ!$A:$B,2,FALSE))","v":""}]
["",null,null,null,null,null,null,null,null,{"$f":"IF(I2616= \"\",\"\",VLOOKUP(I2616,会場マスタ!$A:$B,2,FALSE))","v":""}]
["",null,null,null,null,null,null,null,null,{"$f":"IF(I2617= \"\",\"\",VLOOKUP(I2617,会場マスタ!$A:$B,2,FALSE))","v":""}]
["",null,null,null,null,null,null,null,null,{"$f":"IF(I2618= \"\",\"\",VLOOKUP(I2618,会場マスタ!$A:$B,2,FALSE))","v":""}]
["",null,null,null,null,null,null,null,null,{"$f":"IF(I2619= \"\",\"\",VLOOKUP(I2619,会場マスタ!$A:$B,2,FALSE))","v":""}]
["",null,null,null,null,null,null,null,null,{"$f":"IF(I2620= \"\",\"\",VLOOKUP(I2620,会場マスタ!$A:$B,2,FALSE))","v":""}]
["",null,null,null,null,null,null,null,null,{"$f":"IF(I2621= \"\",\"\",VLOOKUP(I2621,会場マスタ!$A:$B,2,FALSE))","v":""}]
["",null,null,null,null,null,null,null,null,{"$f":"IF(I2622= \"\",\"\",VLOOKUP(I2622,会場マスタ!$A:$B,2,FALSE))","v":""}]
["",null,null,null,null,null,null,null,null,{"$f":"IF(I2623= \"\",\"\",VLOOKUP(I2623,会場マスタ!$A:$B,2,FALSE))","v":""}]
["",null,null,null,null,null,null,null,null,{"$f":"IF(I2624= \"\",\"\",VLOOKUP(I2624,会場マスタ!$A:$B,2,FALSE))","v":""}]
["",null,null,null,null,null,null,null,null,{"$f":"IF(I2625= \"\",\"\",VLOOKUP(I2625,会場マスタ!$A:$B,2,FALSE))","v":""}]
["",null,null,null,null,null,null,null,null,{"$f":"IF(I2626= \"\",\"\",VLOOKUP(I2626,会場マスタ!$A:$B,2,FALSE))","v":""}]
["",null,null,null,null,null,null,null,null,{"$f":"IF(I2627= \"\",\"\",VLOOKUP(I2627,会場マスタ!$A:$B,2,FALSE))","v":""}]
["",null,null,null,null,null,null,null,null,{"$f":"IF(I2628= \"\",\"\",VLOOKUP(I2628,会場マスタ!$A:$B,2,FALSE))","v":""}]
["",null,null,null,null,null,null,null,null,{"$f":"IF(I2629= \"\",\"\",VLOOKUP(I2629,会場マスタ!$A:$B,2,FALSE))","v":""}]
["",null,null,null,null,null,null,null,null,{"$f":"IF(I2630= \"\",\"\",VLOOKUP(I2630,会場マスタ!$A:$B,2,FALSE))","v":""}]
[{"$f":"IF(B2631<>\"\",ROW(A2631)-4,\"\")","v":""},null,null,null,null,null,null,null,null,{"$f":"IF(I2631= \"\",\"\",VLOOKUP(I2631,会場マスタ!$A:$B,2,FALSE))","v":""}]
["",null,null,null,null,null,null,null,null,{"$f":"IF(I2632= \"\",\"\",VLOOKUP(I2632,会場マスタ!$A:$B,2,FALSE))","v":""}]
["",null,null,null,null,null,null,null,null,{"$f":"IF(I2633= \"\",\"\",VLOOKUP(I2633,会場マスタ!$A:$B,2,FALSE))","v":""}]
["",null,null,null,null,null,null,null,null,{"$f":"IF(I2634= \"\",\"\",VLOOKUP(I2634,会場マスタ!$A:$B,2,FALSE))","v":""}]
["",null,null,null,null,null,null,null,null,{"$f":"IF(I2635= \"\",\"\",VLOOKUP(I2635,会場マスタ!$A:$B,2,FALSE))","v":""}]
["",null,null,null,null,null,null,null,null,{"$f":"IF(I2636= \"\",\"\",VLOOKUP(I2636,会場マスタ!$A:$B,2,FALSE))","v":""}]
["",null,null,null,null,null,null,null,null,{"$f":"IF(I2637= \"\",\"\",VLOOKUP(I2637,会場マスタ!$A:$B,2,FALSE))","v":""}]
["",null,null,null,null,null,null,null,null,{"$f":"IF(I2638= \"\",\"\",VLOOKUP(I2638,会場マスタ!$A:$B,2,FALSE))","v":""}]
["",null,null,null,null,null,null,null,null,{"$f":"IF(I2639= \"\",\"\",VLOOKUP(I2639,会場マスタ!$A:$B,2,FALSE))","v":""}]
["",null,null,null,null,null,null,null,null,{"$f":"IF(I2640= \"\",\"\",VLOOKUP(I2640,会場マスタ!$A:$B,2,FALSE))","v":""}]
["",null,null,null,null,null,null,null,null,{"$f":"IF(I2641= \"\",\"\",VLOOKUP(I2641,会場マスタ!$A:$B,2,FALSE))","v":""}]
["",null,null,null,null,null,null,null,null,{"$f":"IF(I2642= \"\",\"\",VLOOKUP(I2642,会場マスタ!$A:$B,2,FALSE))","v":""}]
["",null,null,null,null,null,null,null,null,{"$f":"IF(I2643= \"\",\"\",VLOOKUP(I2643,会場マスタ!$A:$B,2,FALSE))","v":""}]
["",null,null,null,null,null,null,null,null,{"$f":"IF(I2644= \"\",\"\",VLOOKUP(I2644,会場マスタ!$A:$B,2,FALSE))","v":""}]
["",null,null,null,null,null,null,null,null,{"$f":"IF(I2645= \"\",\"\",VLOOKUP(I2645,会場マスタ!$A:$B,2,FALSE))","v":""}]
["",null,null,null,null,null,null,null,null,{"$f":"IF(I2646= \"\",\"\",VLOOKUP(I2646,会場マスタ!$A:$B,2,FALSE))","v":""}]
["",null,null,null,null,null,null,null,null,{"$f":"IF(I2647= \"\",\"\",VLOOKUP(I2647,会場マスタ!$A:$B,2,FALSE))","v":""}]
["",null,null,null,null,null,null,null,null,{"$f":"IF(I2648= \"\",\"\",VLOOKUP(I2648,会場マスタ!$A:$B,2,FALSE))","v":""}]
["",null,null,null,null,null,null,null,null,{"$f":"IF(I2649= \"\",\"\",VLOOKUP(I2649,会場マスタ!$A:$B,2,FALSE))","v":""}]
["",null,null,null,null,null,null,null,null,{"$f":"IF(I2650= \"\",\"\",VLOOKUP(I2650,会場マスタ!$A:$B,2,FALSE))","v":""}]
["",null,null,null,null,null,null,null,null,{"$f":"IF(I2651= \"\",\"\",VLOOKUP(I2651,会場マスタ!$A:$B,2,FALSE))","v":""}]
["",null,null,null,null,null,null,null,null,{"$f":"IF(I2652= \"\",\"\",VLOOKUP(I2652,会場マスタ!$A:$B,2,FALSE))","v":""}]
["",null,null,null,null,null,null,null,null,{"$f":"IF(I2653= \"\",\"\",VLOOKUP(I2653,会場マスタ!$A:$B,2,FALSE))","v":""}]
["",null,null,null,null,null,null,null,null,{"$f":"IF(I2654= \"\",\"\",VLOOKUP(I2654,会場マスタ!$A:$B,2,FALSE))","v":""}]
["",null,null,null,null,null,null,null,null,{"$f":"IF(I2655= \"\",\"\",VLOOKUP(I2655,会場マスタ!$A:$B,2,FALSE))","v":""}]
["",null,null,null,null,null,null,null,null,{"$f":"IF(I2656= \"\",\"\",VLOOKUP(I2656,会場マスタ!$A:$B,2,FALSE))","v":""}]
["",null,null,null,null,null,null,null,null,{"$f":"IF(I2657= \"\",\"\",VLOOKUP(I2657,会場マスタ!$A:$B,2,FALSE))","v":""}]
["",null,null,null,null,null,null,null,null,{"$f":"IF(I2658= \"\",\"\",VLOOKUP(I2658,会場マスタ!$A:$B,2,FALSE))","v":""}]
["",null,null,null,null,null,null,null,null,{"$f":"IF(I2659= \"\",\"\",VLOOKUP(I2659,会場マスタ!$A:$B,2,FALSE))","v":""}]
["",null,null,null,null,null,null,null,null,{"$f":"IF(I2660= \"\",\"\",VLOOKUP(I2660,会場マスタ!$A:$B,2,FALSE))","v":""}]
["",null,null,null,null,null,null,null,null,{"$f":"IF(I2661= \"\",\"\",VLOOKUP(I2661,会場マスタ!$A:$B,2,FALSE))","v":""}]
["",null,null,null,null,null,null,null,null,{"$f":"IF(I2662= \"\",\"\",VLOOKUP(I2662,会場マスタ!$A:$B,2,FALSE))","v":""}]
["",null,null,null,null,null,null,null,null,{"$f":"IF(I2663= \"\",\"\",VLOOKUP(I2663,会場マスタ!$A:$B,2,FALSE))","v":""}]
["",null,null,null,null,null,null,null,null,{"$f":"IF(I2664= \"\",\"\",VLOOKUP(I2664,会場マスタ!$A:$B,2,FALSE))","v":""}]
["",null,null,null,null,null,null,null,null,{"$f":"IF(I2665= \"\",\"\",VLOOKUP(I2665,会場マスタ!$A:$B,2,FALSE))","v":""}]
["",null,null,null,null,null,null,null,null,{"$f":"IF(I2666= \"\",\"\",VLOOKUP(I2666,会場マスタ!$A:$B,2,FALSE))","v":""}]
["",null,null,null,null,null,null,null,null,{"$f":"IF(I2667= \"\",\"\",VLOOKUP(I2667,会場マスタ!$A:$B,2,FALSE))","v":""}]
["",null,null,null,null,null,null,null,null,{"$f":"IF(I2668= \"\",\"\",VLOOKUP(I2668,会場マスタ!$A:$B,2,FALSE))","v":""}]
["",null,null,null,null,null,null,null,null,{"$f":"IF(I2669= \"\",\"\",VLOOKUP(I2669,会場マスタ!$A:$B,2,FALSE))","v":""}]
["",null,null,null,null,null,null,null,null,{"$f":"IF(I2670= \"\",\"\",VLOOKUP(I2670,会場マスタ!$A:$B,2,FALSE))","v":""}]
["",null,null,null,null,null,null,null,null,{"$f":"IF(I2671= \"\",\"\",VLOOKUP(I2671,会場マスタ!$A:$B,2,FALSE))","v":""}]
["",null,null,null,null,null,null,null,null,{"$f":"IF(I2672= \"\",\"\",VLOOKUP(I2672,会場マスタ!$A:$B,2,FALSE))","v":""}]
["",null,null,null,null,null,null,null,null,{"$f":"IF(I2673= \"\",\"\",VLOOKUP(I2673,会場マスタ!$A:$B,2,FALSE))","v":""}]
["",null,null,null,null,null,null,null,null,{"$f":"IF(I2674= \"\",\"\",VLOOKUP(I2674,会場マスタ!$A:$B,2,FALSE))","v":""}]
["",null,null,null,null,null,null,null,null,{"$f":"IF(I2675= \"\",\"\",VLOOKUP(I2675,会場マスタ!$A:$B,2,FALSE))","v":""}]
["",null,null,null,null,null,null,null,null,{"$f":"IF(I2676= \"\",\"\",VLOOKUP(I2676,会場マスタ!$A:$B,2,FALSE))","v":""}]
["",null,null,null,null,null,null,null,null,{"$f":"IF(I2677= \"\",\"\",VLOOKUP(I2677,会場マスタ!$A:$B,2,FALSE))","v":""}]
["",null,null,null,null,null,null,null,null,{"$f":"IF(I2678= \"\",\"\",VLOOKUP(I2678,会場マスタ!$A:$B,2,FALSE))","v":""}]
["",null,null,null,null,null,null,null,null,{"$f":"IF(I2679= \"\",\"\",VLOOKUP(I2679,会場マスタ!$A:$B,2,FALSE))","v":""}]
["",null,null,null,null,null,null,null,null,{"$f":"IF(I2680= \"\",\"\",VLOOKUP(I2680,会場マスタ!$A:$B,2,FALSE))","v":""}]
["",null,null,null,null,null,null,null,null,{"$f":"IF(I2681= \"\",\"\",VLOOKUP(I2681,会場マスタ!$A:$B,2,FALSE))","v":""}]
["",null,null,null,null,null,null,null,null,{"$f":"IF(I2682= \"\",\"\",VLOOKUP(I2682,会場マスタ!$A:$B,2,FALSE))","v":""}]
["",null,null,null,null,null,null,null,null,{"$f":"IF(I2683= \"\",\"\",VLOOKUP(I2683,会場マスタ!$A:$B,2,FALSE))","v":""}]
["",null,null,null,null,null,null,null,null,{"$f":"IF(I2684= \"\",\"\",VLOOKUP(I2684,会場マスタ!$A:$B,2,FALSE))","v":""}]
["",null,null,null,null,null,null,null,null,{"$f":"IF(I2685= \"\",\"\",VLOOKUP(I2685,会場マスタ!$A:$B,2,FALSE))","v":""}]
["",null,null,null,null,null,null,null,null,{"$f":"IF(I2686= \"\",\"\",VLOOKUP(I2686,会場マスタ!$A:$B,2,FALSE))","v":""}]
["",null,null,null,null,null,null,null,null,{"$f":"IF(I2687= \"\",\"\",VLOOKUP(I2687,会場マスタ!$A:$B,2,FALSE))","v":""}]
["",null,null,null,null,null,null,null,null,{"$f":"IF(I2688= \"\",\"\",VLOOKUP(I2688,会場マスタ!$A:$B,2,FALSE))","v":""}]
["",null,null,null,null,null,null,null,null,{"$f":"IF(I2689= \"\",\"\",VLOOKUP(I2689,会場マスタ!$A:$B,2,FALSE))","v":""}]
["",null,null,null,null,null,null,null,null,{"$f":"IF(I2690= \"\",\"\",VLOOKUP(I2690,会場マスタ!$A:$B,2,FALSE))","v":""}]
["",null,null,null,null,null,null,null,null,{"$f":"IF(I2691= \"\",\"\",VLOOKUP(I2691,会場マスタ!$A:$B,2,FALSE))","v":""}]
["",null,null,null,null,null,null,null,null,{"$f":"IF(I2692= \"\",\"\",VLOOKUP(I2692,会場マスタ!$A:$B,2,FALSE))","v":""}]
["",null,null,null,null,null,null,null,null,{"$f":"IF(I2693= \"\",\"\",VLOOKUP(I2693,会場マスタ!$A:$B,2,FALSE))","v":""}]
["",null,null,null,null,null,null,null,null,{"$f":"IF(I2694= \"\",\"\",VLOOKUP(I2694,会場マスタ!$A:$B,2,FALSE))","v":""}]
[{"$f":"IF(B2695<>\"\",ROW(A2695)-4,\"\")","v":""},null,null,null,null,null,null,null,null,{"$f":"IF(I2695= \"\",\"\",VLOOKUP(I2695,会場マスタ!$A:$B,2,FALSE))","v":""}]
["",null,null,null,null,null,null,null,null,{"$f":"IF(I2696= \"\",\"\",VLOOKUP(I2696,会場マスタ!$A:$B,2,FALSE))","v":""}]
["",null,null,null,null,null,null,null,null,{"$f":"IF(I2697= \"\",\"\",VLOOKUP(I2697,会場マスタ!$A:$B,2,FALSE))","v":""}]
["",null,null,null,null,null,null,null,null,{"$f":"IF(I2698= \"\",\"\",VLOOKUP(I2698,会場マスタ!$A:$B,2,FALSE))","v":""}]
["",null,null,null,null,null,null,null,null,{"$f":"IF(I2699= \"\",\"\",VLOOKUP(I2699,会場マスタ!$A:$B,2,FALSE))","v":""}]
["",null,null,null,null,null,null,null,null,{"$f":"IF(I2700= \"\",\"\",VLOOKUP(I2700,会場マスタ!$A:$B,2,FALSE))","v":""}]
["",null,null,null,null,null,null,null,null,{"$f":"IF(I2701= \"\",\"\",VLOOKUP(I2701,会場マスタ!$A:$B,2,FALSE))","v":""}]
["",null,null,null,null,null,null,null,null,{"$f":"IF(I2702= \"\",\"\",VLOOKUP(I2702,会場マスタ!$A:$B,2,FALSE))","v":""}]
["",null,null,null,null,null,null,null,null,{"$f":"IF(I2703= \"\",\"\",VLOOKUP(I2703,会場マスタ!$A:$B,2,FALSE))","v":""}]
["",null,null,null,null,null,null,null,null,{"$f":"IF(I2704= \"\",\"\",VLOOKUP(I2704,会場マスタ!$A:$B,2,FALSE))","v":""}]
["",null,null,null,null,null,null,null,null,{"$f":"IF(I2705= \"\",\"\",VLOOKUP(I2705,会場マスタ!$A:$B,2,FALSE))","v":""}]
["",null,null,null,null,null,null,null,null,{"$f":"IF(I2706= \"\",\"\",VLOOKUP(I2706,会場マスタ!$A:$B,2,FALSE))","v":""}]
["",null,null,null,null,null,null,null,null,{"$f":"IF(I2707= \"\",\"\",VLOOKUP(I2707,会場マスタ!$A:$B,2,FALSE))","v":""}]
["",null,null,null,null,null,null,null,null,{"$f":"IF(I2708= \"\",\"\",VLOOKUP(I2708,会場マスタ!$A:$B,2,FALSE))","v":""}]
["",null,null,null,null,null,null,null,null,{"$f":"IF(I2709= \"\",\"\",VLOOKUP(I2709,会場マスタ!$A:$B,2,FALSE))","v":""}]
["",null,null,null,null,null,null,null,null,{"$f":"IF(I2710= \"\",\"\",VLOOKUP(I2710,会場マスタ!$A:$B,2,FALSE))","v":""}]
["",null,null,null,null,null,null,null,null,{"$f":"IF(I2711= \"\",\"\",VLOOKUP(I2711,会場マスタ!$A:$B,2,FALSE))","v":""}]
["",null,null,null,null,null,null,null,null,{"$f":"IF(I2712= \"\",\"\",VLOOKUP(I2712,会場マスタ!$A:$B,2,FALSE))","v":""}]
["",null,null,null,null,null,null,null,null,{"$f":"IF(I2713= \"\",\"\",VLOOKUP(I2713,会場マスタ!$A:$B,2,FALSE))","v":""}]
["",null,null,null,null,null,null,null,null,{"$f":"IF(I2714= \"\",\"\",VLOOKUP(I2714,会場マスタ!$A:$B,2,FALSE))","v":""}]
["",null,null,null,null,null,null,null,null,{"$f":"IF(I2715= \"\",\"\",VLOOKUP(I2715,会場マスタ!$A:$B,2,FALSE))","v":""}]
["",null,null,null,null,null,null,null,null,{"$f":"IF(I2716= \"\",\"\",VLOOKUP(I2716,会場マスタ!$A:$B,2,FALSE))","v":""}]
["",null,null,null,null,null,null,null,null,{"$f":"IF(I2717= \"\",\"\",VLOOKUP(I2717,会場マスタ!$A:$B,2,FALSE))","v":""}]
["",null,null,null,null,null,null,null,null,{"$f":"IF(I2718= \"\",\"\",VLOOKUP(I2718,会場マスタ!$A:$B,2,FALSE))","v":""}]
["",null,null,null,null,null,null,null,null,{"$f":"IF(I2719= \"\",\"\",VLOOKUP(I2719,会場マスタ!$A:$B,2,FALSE))","v":""}]
["",null,null,null,null,null,null,null,null,{"$f":"IF(I2720= \"\",\"\",VLOOKUP(I2720,会場マスタ!$A:$B,2,FALSE))","v":""}]
["",null,null,null,null,null,null,null,null,{"$f":"IF(I2721= \"\",\"\",VLOOKUP(I2721,会場マスタ!$A:$B,2,FALSE))","v":""}]
["",null,null,null,null,null,null,null,null,{"$f":"IF(I2722= \"\",\"\",VLOOKUP(I2722,会場マスタ!$A:$B,2,FALSE))","v":""}]
["",null,null,null,null,null,null,null,null,{"$f":"IF(I2723= \"\",\"\",VLOOKUP(I2723,会場マスタ!$A:$B,2,FALSE))","v":""}]
["",null,null,null,null,null,null,null,null,{"$f":"IF(I2724= \"\",\"\",VLOOKUP(I2724,会場マスタ!$A:$B,2,FALSE))","v":""}]
["",null,null,null,null,null,null,null,null,{"$f":"IF(I2725= \"\",\"\",VLOOKUP(I2725,会場マスタ!$A:$B,2,FALSE))","v":""}]
["",null,null,null,null,null,null,null,null,{"$f":"IF(I2726= \"\",\"\",VLOOKUP(I2726,会場マスタ!$A:$B,2,FALSE))","v":""}]
["",null,null,null,null,null,null,null,null,{"$f":"IF(I2727= \"\",\"\",VLOOKUP(I2727,会場マスタ!$A:$B,2,FALSE))","v":""}]
["",null,null,null,null,null,null,null,null,{"$f":"IF(I2728= \"\",\"\",VLOOKUP(I2728,会場マスタ!$A:$B,2,FALSE))","v":""}]
["",null,null,null,null,null,null,null,null,{"$f":"IF(I2729= \"\",\"\",VLOOKUP(I2729,会場マスタ!$A:$B,2,FALSE))","v":""}]
["",null,null,null,null,null,null,null,null,{"$f":"IF(I2730= \"\",\"\",VLOOKUP(I2730,会場マスタ!$A:$B,2,FALSE))","v":""}]
["",null,null,null,null,null,null,null,null,{"$f":"IF(I2731= \"\",\"\",VLOOKUP(I2731,会場マスタ!$A:$B,2,FALSE))","v":""}]
["",null,null,null,null,null,null,null,null,{"$f":"IF(I2732= \"\",\"\",VLOOKUP(I2732,会場マスタ!$A:$B,2,FALSE))","v":""}]
["",null,null,null,null,null,null,null,null,{"$f":"IF(I2733= \"\",\"\",VLOOKUP(I2733,会場マスタ!$A:$B,2,FALSE))","v":""}]
["",null,null,null,null,null,null,null,null,{"$f":"IF(I2734= \"\",\"\",VLOOKUP(I2734,会場マスタ!$A:$B,2,FALSE))","v":""}]
["",null,null,null,null,null,null,null,null,{"$f":"IF(I2735= \"\",\"\",VLOOKUP(I2735,会場マスタ!$A:$B,2,FALSE))","v":""}]
["",null,null,null,null,null,null,null,null,{"$f":"IF(I2736= \"\",\"\",VLOOKUP(I2736,会場マスタ!$A:$B,2,FALSE))","v":""}]
["",null,null,null,null,null,null,null,null,{"$f":"IF(I2737= \"\",\"\",VLOOKUP(I2737,会場マスタ!$A:$B,2,FALSE))","v":""}]
["",null,null,null,null,null,null,null,null,{"$f":"IF(I2738= \"\",\"\",VLOOKUP(I2738,会場マスタ!$A:$B,2,FALSE))","v":""}]
["",null,null,null,null,null,null,null,null,{"$f":"IF(I2739= \"\",\"\",VLOOKUP(I2739,会場マスタ!$A:$B,2,FALSE))","v":""}]
["",null,null,null,null,null,null,null,null,{"$f":"IF(I2740= \"\",\"\",VLOOKUP(I2740,会場マスタ!$A:$B,2,FALSE))","v":""}]
["",null,null,null,null,null,null,null,null,{"$f":"IF(I2741= \"\",\"\",VLOOKUP(I2741,会場マスタ!$A:$B,2,FALSE))","v":""}]
["",null,null,null,null,null,null,null,null,{"$f":"IF(I2742= \"\",\"\",VLOOKUP(I2742,会場マスタ!$A:$B,2,FALSE))","v":""}]
["",null,null,null,null,null,null,null,null,{"$f":"IF(I2743= \"\",\"\",VLOOKUP(I2743,会場マスタ!$A:$B,2,FALSE))","v":""}]
["",null,null,null,null,null,null,null,null,{"$f":"IF(I2744= \"\",\"\",VLOOKUP(I2744,会場マスタ!$A:$B,2,FALSE))","v":""}]
["",null,null,null,null,null,null,null,null,{"$f":"IF(I2745= \"\",\"\",VLOOKUP(I2745,会場マスタ!$A:$B,2,FALSE))","v":""}]
["",null,null,null,null,null,null,null,null,{"$f":"IF(I2746= \"\",\"\",VLOOKUP(I2746,会場マスタ!$A:$B,2,FALSE))","v":""}]
["",null,null,null,null,null,null,null,null,{"$f":"IF(I2747= \"\",\"\",VLOOKUP(I2747,会場マスタ!$A:$B,2,FALSE))","v":""}]
["",null,null,null,null,null,null,null,null,{"$f":"IF(I2748= \"\",\"\",VLOOKUP(I2748,会場マスタ!$A:$B,2,FALSE))","v":""}]
["",null,null,null,null,null,null,null,null,{"$f":"IF(I2749= \"\",\"\",VLOOKUP(I2749,会場マスタ!$A:$B,2,FALSE))","v":""}]
["",null,null,null,null,null,null,null,null,{"$f":"IF(I2750= \"\",\"\",VLOOKUP(I2750,会場マスタ!$A:$B,2,FALSE))","v":""}]
["",null,null,null,null,null,null,null,null,{"$f":"IF(I2751= \"\",\"\",VLOOKUP(I2751,会場マスタ!$A:$B,2,FALSE))","v":""}]
["",null,null,null,null,null,null,null,null,{"$f":"IF(I2752= \"\",\"\",VLOOKUP(I2752,会場マスタ!$A:$B,2,FALSE))","v":""}]
["",null,null,null,null,null,null,null,null,{"$f":"IF(I2753= \"\",\"\",VLOOKUP(I2753,会場マスタ!$A:$B,2,FALSE))","v":""}]
["",null,null,null,null,null,null,null,null,{"$f":"IF(I2754= \"\",\"\",VLOOKUP(I2754,会場マスタ!$A:$B,2,FALSE))","v":""}]
["",null,null,null,null,null,null,null,null,{"$f":"IF(I2755= \"\",\"\",VLOOKUP(I2755,会場マスタ!$A:$B,2,FALSE))","v":""}]
["",null,null,null,null,null,null,null,null,{"$f":"IF(I2756= \"\",\"\",VLOOKUP(I2756,会場マスタ!$A:$B,2,FALSE))","v":""}]
["",null,null,null,null,null,null,null,null,{"$f":"IF(I2757= \"\",\"\",VLOOKUP(I2757,会場マスタ!$A:$B,2,FALSE))","v":""}]
["",null,null,null,null,null,null,null,null,{"$f":"IF(I2758= \"\",\"\",VLOOKUP(I2758,会場マスタ!$A:$B,2,FALSE))","v":""}]
[{"$f":"IF(B2759<>\"\",ROW(A2759)-4,\"\")","v":""},null,null,null,null,null,null,null,null,{"$f":"IF(I2759= \"\",\"\",VLOOKUP(I2759,会場マスタ!$A:$B,2,FALSE))","v":""}]
["",null,null,null,null,null,null,null,null,{"$f":"IF(I2760= \"\",\"\",VLOOKUP(I2760,会場マスタ!$A:$B,2,FALSE))","v":""}]
["",null,null,null,null,null,null,null,null,{"$f":"IF(I2761= \"\",\"\",VLOOKUP(I2761,会場マスタ!$A:$B,2,FALSE))","v":""}]
["",null,null,null,null,null,null,null,null,{"$f":"IF(I2762= \"\",\"\",VLOOKUP(I2762,会場マスタ!$A:$B,2,FALSE))","v":""}]
["",null,null,null,null,null,null,null,null,{"$f":"IF(I2763= \"\",\"\",VLOOKUP(I2763,会場マスタ!$A:$B,2,FALSE))","v":""}]
["",null,null,null,null,null,null,null,null,{"$f":"IF(I2764= \"\",\"\",VLOOKUP(I2764,会場マスタ!$A:$B,2,FALSE))","v":""}]
["",null,null,null,null,null,null,null,null,{"$f":"IF(I2765= \"\",\"\",VLOOKUP(I2765,会場マスタ!$A:$B,2,FALSE))","v":""}]
["",null,null,null,null,null,null,null,null,{"$f":"IF(I2766= \"\",\"\",VLOOKUP(I2766,会場マスタ!$A:$B,2,FALSE))","v":""}]
["",null,null,null,null,null,null,null,null,{"$f":"IF(I2767= \"\",\"\",VLOOKUP(I2767,会場マスタ!$A:$B,2,FALSE))","v":""}]
["",null,null,null,null,null,null,null,null,{"$f":"IF(I2768= \"\",\"\",VLOOKUP(I2768,会場マスタ!$A:$B,2,FALSE))","v":""}]
["",null,null,null,null,null,null,null,null,{"$f":"IF(I2769= \"\",\"\",VLOOKUP(I2769,会場マスタ!$A:$B,2,FALSE))","v":""}]
["",null,null,null,null,null,null,null,null,{"$f":"IF(I2770= \"\",\"\",VLOOKUP(I2770,会場マスタ!$A:$B,2,FALSE))","v":""}]
["",null,null,null,null,null,null,null,null,{"$f":"IF(I2771= \"\",\"\",VLOOKUP(I2771,会場マスタ!$A:$B,2,FALSE))","v":""}]
["",null,null,null,null,null,null,null,null,{"$f":"IF(I2772= \"\",\"\",VLOOKUP(I2772,会場マスタ!$A:$B,2,FALSE))","v":""}]
["",null,null,null,null,null,null,null,null,{"$f":"IF(I2773= \"\",\"\",VLOOKUP(I2773,会場マスタ!$A:$B,2,FALSE))","v":""}]
["",null,null,null,null,null,null,null,null,{"$f":"IF(I2774= \"\",\"\",VLOOKUP(I2774,会場マスタ!$A:$B,2,FALSE))","v":""}]
["",null,null,null,null,null,null,null,null,{"$f":"IF(I2775= \"\",\"\",VLOOKUP(I2775,会場マスタ!$A:$B,2,FALSE))","v":""}]
["",null,null,null,null,null,null,null,null,{"$f":"IF(I2776= \"\",\"\",VLOOKUP(I2776,会場マスタ!$A:$B,2,FALSE))","v":""}]
["",null,null,null,null,null,null,null,null,{"$f":"IF(I2777= \"\",\"\",VLOOKUP(I2777,会場マスタ!$A:$B,2,FALSE))","v":""}]
["",null,null,null,null,null,null,null,null,{"$f":"IF(I2778= \"\",\"\",VLOOKUP(I2778,会場マスタ!$A:$B,2,FALSE))","v":""}]
["",null,null,null,null,null,null,null,null,{"$f":"IF(I2779= \"\",\"\",VLOOKUP(I2779,会場マスタ!$A:$B,2,FALSE))","v":""}]
["",null,null,null,null,null,null,null,null,{"$f":"IF(I2780= \"\",\"\",VLOOKUP(I2780,会場マスタ!$A:$B,2,FALSE))","v":""}]
["",null,null,null,null,null,null,null,null,{"$f":"IF(I2781= \"\",\"\",VLOOKUP(I2781,会場マスタ!$A:$B,2,FALSE))","v":""}]
["",null,null,null,null,null,null,null,null,{"$f":"IF(I2782= \"\",\"\",VLOOKUP(I2782,会場マスタ!$A:$B,2,FALSE))","v":""}]
["",null,null,null,null,null,null,null,null,{"$f":"IF(I2783= \"\",\"\",VLOOKUP(I2783,会場マスタ!$A:$B,2,FALSE))","v":""}]
["",null,null,null,null,null,null,null,null,{"$f":"IF(I2784= \"\",\"\",VLOOKUP(I2784,会場マスタ!$A:$B,2,FALSE))","v":""}]
["",null,null,null,null,null,null,null,null,{"$f":"IF(I2785= \"\",\"\",VLOOKUP(I2785,会場マスタ!$A:$B,2,FALSE))","v":""}]
["",null,null,null,null,null,null,null,null,{"$f":"IF(I2786= \"\",\"\",VLOOKUP(I2786,会場マスタ!$A:$B,2,FALSE))","v":""}]
["",null,null,null,null,null,null,null,null,{"$f":"IF(I2787= \"\",\"\",VLOOKUP(I2787,会場マスタ!$A:$B,2,FALSE))","v":""}]
["",null,null,null,null,null,null,null,null,{"$f":"IF(I2788= \"\",\"\",VLOOKUP(I2788,会場マスタ!$A:$B,2,FALSE))","v":""}]
["",null,null,null,null,null,null,null,null,{"$f":"IF(I2789= \"\",\"\",VLOOKUP(I2789,会場マスタ!$A:$B,2,FALSE))","v":""}]
["",null,null,null,null,null,null,null,null,{"$f":"IF(I2790= \"\",\"\",VLOOKUP(I2790,会場マスタ!$A:$B,2,FALSE))","v":""}]
["",null,null,null,null,null,null,null,null,{"$f":"IF(I2791= \"\",\"\",VLOOKUP(I2791,会場マスタ!$A:$B,2,FALSE))","v":""}]
["",null,null,null,null,null,null,null,null,{"$f":"IF(I2792= \"\",\"\",VLOOKUP(I2792,会場マスタ!$A:$B,2,FALSE))","v":""}]
["",null,null,null,null,null,null,null,null,{"$f":"IF(I2793= \"\",\"\",VLOOKUP(I2793,会場マスタ!$A:$B,2,FALSE))","v":""}]
["",null,null,null,null,null,null,null,null,{"$f":"IF(I2794= \"\",\"\",VLOOKUP(I2794,会場マスタ!$A:$B,2,FALSE))","v":""}]
["",null,null,null,null,null,null,null,null,{"$f":"IF(I2795= \"\",\"\",VLOOKUP(I2795,会場マスタ!$A:$B,2,FALSE))","v":""}]
["",null,null,null,null,null,null,null,null,{"$f":"IF(I2796= \"\",\"\",VLOOKUP(I2796,会場マスタ!$A:$B,2,FALSE))","v":""}]
["",null,null,null,null,null,null,null,null,{"$f":"IF(I2797= \"\",\"\",VLOOKUP(I2797,会場マスタ!$A:$B,2,FALSE))","v":""}]
["",null,null,null,null,null,null,null,null,{"$f":"IF(I2798= \"\",\"\",VLOOKUP(I2798,会場マスタ!$A:$B,2,FALSE))","v":""}]
["",null,null,null,null,null,null,null,null,{"$f":"IF(I2799= \"\",\"\",VLOOKUP(I2799,会場マスタ!$A:$B,2,FALSE))","v":""}]
["",null,null,null,null,null,null,null,null,{"$f":"IF(I2800= \"\",\"\",VLOOKUP(I2800,会場マスタ!$A:$B,2,FALSE))","v":""}]
["",null,null,null,null,null,null,null,null,{"$f":"IF(I2801= \"\",\"\",VLOOKUP(I2801,会場マスタ!$A:$B,2,FALSE))","v":""}]
["",null,null,null,null,null,null,null,null,{"$f":"IF(I2802= \"\",\"\",VLOOKUP(I2802,会場マスタ!$A:$B,2,FALSE))","v":""}]
["",null,null,null,null,null,null,null,null,{"$f":"IF(I2803= \"\",\"\",VLOOKUP(I2803,会場マスタ!$A:$B,2,FALSE))","v":""}]
["",null,null,null,null,null,null,null,null,{"$f":"IF(I2804= \"\",\"\",VLOOKUP(I2804,会場マスタ!$A:$B,2,FALSE))","v":""}]
["",null,null,null,null,null,null,null,null,{"$f":"IF(I2805= \"\",\"\",VLOOKUP(I2805,会場マスタ!$A:$B,2,FALSE))","v":""}]
["",null,null,null,null,null,null,null,null,{"$f":"IF(I2806= \"\",\"\",VLOOKUP(I2806,会場マスタ!$A:$B,2,FALSE))","v":""}]
["",null,null,null,null,null,null,null,null,{"$f":"IF(I2807= \"\",\"\",VLOOKUP(I2807,会場マスタ!$A:$B,2,FALSE))","v":""}]
["",null,null,null,null,null,null,null,null,{"$f":"IF(I2808= \"\",\"\",VLOOKUP(I2808,会場マスタ!$A:$B,2,FALSE))","v":""}]
["",null,null,null,null,null,null,null,null,{"$f":"IF(I2809= \"\",\"\",VLOOKUP(I2809,会場マスタ!$A:$B,2,FALSE))","v":""}]
["",null,null,null,null,null,null,null,null,{"$f":"IF(I2810= \"\",\"\",VLOOKUP(I2810,会場マスタ!$A:$B,2,FALSE))","v":""}]
["",null,null,null,null,null,null,null,null,{"$f":"IF(I2811= \"\",\"\",VLOOKUP(I2811,会場マスタ!$A:$B,2,FALSE))","v":""}]
["",null,null,null,null,null,null,null,null,{"$f":"IF(I2812= \"\",\"\",VLOOKUP(I2812,会場マスタ!$A:$B,2,FALSE))","v":""}]
["",null,null,null,null,null,null,null,null,{"$f":"IF(I2813= \"\",\"\",VLOOKUP(I2813,会場マスタ!$A:$B,2,FALSE))","v":""}]
["",null,null,null,null,null,null,null,null,{"$f":"IF(I2814= \"\",\"\",VLOOKUP(I2814,会場マスタ!$A:$B,2,FALSE))","v":""}]
["",null,null,null,null,null,null,null,null,{"$f":"IF(I2815= \"\",\"\",VLOOKUP(I2815,会場マスタ!$A:$B,2,FALSE))","v":""}]
["",null,null,null,null,null,null,null,null,{"$f":"IF(I2816= \"\",\"\",VLOOKUP(I2816,会場マスタ!$A:$B,2,FALSE))","v":""}]
["",null,null,null,null,null,null,null,null,{"$f":"IF(I2817= \"\",\"\",VLOOKUP(I2817,会場マスタ!$A:$B,2,FALSE))","v":""}]
["",null,null,null,null,null,null,null,null,{"$f":"IF(I2818= \"\",\"\",VLOOKUP(I2818,会場マスタ!$A:$B,2,FALSE))","v":""}]
["",null,null,null,null,null,null,null,null,{"$f":"IF(I2819= \"\",\"\",VLOOKUP(I2819,会場マスタ!$A:$B,2,FALSE))","v":""}]
["",null,null,null,null,null,null,null,null,{"$f":"IF(I2820= \"\",\"\",VLOOKUP(I2820,会場マスタ!$A:$B,2,FALSE))","v":""}]
["",null,null,null,null,null,null,null,null,{"$f":"IF(I2821= \"\",\"\",VLOOKUP(I2821,会場マスタ!$A:$B,2,FALSE))","v":""}]
["",null,null,null,null,null,null,null,null,{"$f":"IF(I2822= \"\",\"\",VLOOKUP(I2822,会場マスタ!$A:$B,2,FALSE))","v":""}]
[{"$f":"IF(B2823<>\"\",ROW(A2823)-4,\"\")","v":""},null,null,null,null,null,null,null,null,{"$f":"IF(I2823= \"\",\"\",VLOOKUP(I2823,会場マスタ!$A:$B,2,FALSE))","v":""}]
["",null,null,null,null,null,null,null,null,{"$f":"IF(I2824= \"\",\"\",VLOOKUP(I2824,会場マスタ!$A:$B,2,FALSE))","v":""}]
["",null,null,null,null,null,null,null,null,{"$f":"IF(I2825= \"\",\"\",VLOOKUP(I2825,会場マスタ!$A:$B,2,FALSE))","v":""}]
["",null,null,null,null,null,null,null,null,{"$f":"IF(I2826= \"\",\"\",VLOOKUP(I2826,会場マスタ!$A:$B,2,FALSE))","v":""}]
["",null,null,null,null,null,null,null,null,{"$f":"IF(I2827= \"\",\"\",VLOOKUP(I2827,会場マスタ!$A:$B,2,FALSE))","v":""}]
["",null,null,null,null,null,null,null,null,{"$f":"IF(I2828= \"\",\"\",VLOOKUP(I2828,会場マスタ!$A:$B,2,FALSE))","v":""}]
["",null,null,null,null,null,null,null,null,{"$f":"IF(I2829= \"\",\"\",VLOOKUP(I2829,会場マスタ!$A:$B,2,FALSE))","v":""}]
["",null,null,null,null,null,null,null,null,{"$f":"IF(I2830= \"\",\"\",VLOOKUP(I2830,会場マスタ!$A:$B,2,FALSE))","v":""}]
["",null,null,null,null,null,null,null,null,{"$f":"IF(I2831= \"\",\"\",VLOOKUP(I2831,会場マスタ!$A:$B,2,FALSE))","v":""}]
["",null,null,null,null,null,null,null,null,{"$f":"IF(I2832= \"\",\"\",VLOOKUP(I2832,会場マスタ!$A:$B,2,FALSE))","v":""}]
["",null,null,null,null,null,null,null,null,{"$f":"IF(I2833= \"\",\"\",VLOOKUP(I2833,会場マスタ!$A:$B,2,FALSE))","v":""}]
["",null,null,null,null,null,null,null,null,{"$f":"IF(I2834= \"\",\"\",VLOOKUP(I2834,会場マスタ!$A:$B,2,FALSE))","v":""}]
["",null,null,null,null,null,null,null,null,{"$f":"IF(I2835= \"\",\"\",VLOOKUP(I2835,会場マスタ!$A:$B,2,FALSE))","v":""}]
["",null,null,null,null,null,null,null,null,{"$f":"IF(I2836= \"\",\"\",VLOOKUP(I2836,会場マスタ!$A:$B,2,FALSE))","v":""}]
["",null,null,null,null,null,null,null,null,{"$f":"IF(I2837= \"\",\"\",VLOOKUP(I2837,会場マスタ!$A:$B,2,FALSE))","v":""}]
["",null,null,null,null,null,null,null,null,{"$f":"IF(I2838= \"\",\"\",VLOOKUP(I2838,会場マスタ!$A:$B,2,FALSE))","v":""}]
["",null,null,null,null,null,null,null,null,{"$f":"IF(I2839= \"\",\"\",VLOOKUP(I2839,会場マスタ!$A:$B,2,FALSE))","v":""}]
["",null,null,null,null,null,null,null,null,{"$f":"IF(I2840= \"\",\"\",VLOOKUP(I2840,会場マスタ!$A:$B,2,FALSE))","v":""}]
["",null,null,null,null,null,null,null,null,{"$f":"IF(I2841= \"\",\"\",VLOOKUP(I2841,会場マスタ!$A:$B,2,FALSE))","v":""}]
["",null,null,null,null,null,null,null,null,{"$f":"IF(I2842= \"\",\"\",VLOOKUP(I2842,会場マスタ!$A:$B,2,FALSE))","v":""}]
["",null,null,null,null,null,null,null,null,{"$f":"IF(I2843= \"\",\"\",VLOOKUP(I2843,会場マスタ!$A:$B,2,FALSE))","v":""}]
["",null,null,null,null,null,null,null,null,{"$f":"IF(I2844= \"\",\"\",VLOOKUP(I2844,会場マスタ!$A:$B,2,FALSE))","v":""}]
["",null,null,null,null,null,null,null,null,{"$f":"IF(I2845= \"\",\"\",VLOOKUP(I2845,会場マスタ!$A:$B,2,FALSE))","v":""}]
["",null,null,null,null,null,null,null,null,{"$f":"IF(I2846= \"\",\"\",VLOOKUP(I2846,会場マスタ!$A:$B,2,FALSE))","v":""}]
["",null,null,null,null,null,null,null,null,{"$f":"IF(I2847= \"\",\"\",VLOOKUP(I2847,会場マスタ!$A:$B,2,FALSE))","v":""}]
["",null,null,null,null,null,null,null,null,{"$f":"IF(I2848= \"\",\"\",VLOOKUP(I2848,会場マスタ!$A:$B,2,FALSE))","v":""}]
["",null,null,null,null,null,null,null,null,{"$f":"IF(I2849= \"\",\"\",VLOOKUP(I2849,会場マスタ!$A:$B,2,FALSE))","v":""}]
["",null,null,null,null,null,null,null,null,{"$f":"IF(I2850= \"\",\"\",VLOOKUP(I2850,会場マスタ!$A:$B,2,FALSE))","v":""}]
["",null,null,null,null,null,null,null,null,{"$f":"IF(I2851= \"\",\"\",VLOOKUP(I2851,会場マスタ!$A:$B,2,FALSE))","v":""}]
["",null,null,null,null,null,null,null,null,{"$f":"IF(I2852= \"\",\"\",VLOOKUP(I2852,会場マスタ!$A:$B,2,FALSE))","v":""}]
["",null,null,null,null,null,null,null,null,{"$f":"IF(I2853= \"\",\"\",VLOOKUP(I2853,会場マスタ!$A:$B,2,FALSE))","v":""}]
["",null,null,null,null,null,null,null,null,{"$f":"IF(I2854= \"\",\"\",VLOOKUP(I2854,会場マスタ!$A:$B,2,FALSE))","v":""}]
["",null,null,null,null,null,null,null,null,{"$f":"IF(I2855= \"\",\"\",VLOOKUP(I2855,会場マスタ!$A:$B,2,FALSE))","v":""}]
["",null,null,null,null,null,null,null,null,{"$f":"IF(I2856= \"\",\"\",VLOOKUP(I2856,会場マスタ!$A:$B,2,FALSE))","v":""}]
["",null,null,null,null,null,null,null,null,{"$f":"IF(I2857= \"\",\"\",VLOOKUP(I2857,会場マスタ!$A:$B,2,FALSE))","v":""}]
["",null,null,null,null,null,null,null,null,{"$f":"IF(I2858= \"\",\"\",VLOOKUP(I2858,会場マスタ!$A:$B,2,FALSE))","v":""}]
["",null,null,null,null,null,null,null,null,{"$f":"IF(I2859= \"\",\"\",VLOOKUP(I2859,会場マスタ!$A:$B,2,FALSE))","v":""}]
["",null,null,null,null,null,null,null,null,{"$f":"IF(I2860= \"\",\"\",VLOOKUP(I2860,会場マスタ!$A:$B,2,FALSE))","v":""}]
["",null,null,null,null,null,null,null,null,{"$f":"IF(I2861= \"\",\"\",VLOOKUP(I2861,会場マスタ!$A:$B,2,FALSE))","v":""}]
["",null,null,null,null,null,null,null,null,{"$f":"IF(I2862= \"\",\"\",VLOOKUP(I2862,会場マスタ!$A:$B,2,FALSE))","v":""}]
["",null,null,null,null,null,null,null,null,{"$f":"IF(I2863= \"\",\"\",VLOOKUP(I2863,会場マスタ!$A:$B,2,FALSE))","v":""}]
["",null,null,null,null,null,null,null,null,{"$f":"IF(I2864= \"\",\"\",VLOOKUP(I2864,会場マスタ!$A:$B,2,FALSE))","v":""}]
["",null,null,null,null,null,null,null,null,{"$f":"IF(I2865= \"\",\"\",VLOOKUP(I2865,会場マスタ!$A:$B,2,FALSE))","v":""}]
["",null,null,null,null,null,null,null,null,{"$f":"IF(I2866= \"\",\"\",VLOOKUP(I2866,会場マスタ!$A:$B,2,FALSE))","v":""}]
["",null,null,null,null,null,null,null,null,{"$f":"IF(I2867= \"\",\"\",VLOOKUP(I2867,会場マスタ!$A:$B,2,FALSE))","v":""}]
["",null,null,null,null,null,null,null,null,{"$f":"IF(I2868= \"\",\"\",VLOOKUP(I2868,会場マスタ!$A:$B,2,FALSE))","v":""}]
["",null,null,null,null,null,null,null,null,{"$f":"IF(I2869= \"\",\"\",VLOOKUP(I2869,会場マスタ!$A:$B,2,FALSE))","v":""}]
["",null,null,null,null,null,null,null,null,{"$f":"IF(I2870= \"\",\"\",VLOOKUP(I2870,会場マスタ!$A:$B,2,FALSE))","v":""}]
["",null,null,null,null,null,null,null,null,{"$f":"IF(I2871= \"\",\"\",VLOOKUP(I2871,会場マスタ!$A:$B,2,FALSE))","v":""}]
["",null,null,null,null,null,null,null,null,{"$f":"IF(I2872= \"\",\"\",VLOOKUP(I2872,会場マスタ!$A:$B,2,FALSE))","v":""}]
["",null,null,null,null,null,null,null,null,{"$f":"IF(I2873= \"\",\"\",VLOOKUP(I2873,会場マスタ!$A:$B,2,FALSE))","v":""}]
["",null,null,null,null,null,null,null,null,{"$f":"IF(I2874= \"\",\"\",VLOOKUP(I2874,会場マスタ!$A:$B,2,FALSE))","v":""}]
["",null,null,null,null,null,null,null,null,{"$f":"IF(I2875= \"\",\"\",VLOOKUP(I2875,会場マスタ!$A:$B,2,FALSE))","v":""}]
["",null,null,null,null,null,null,null,null,{"$f":"IF(I2876= \"\",\"\",VLOOKUP(I2876,会場マスタ!$A:$B,2,FALSE))","v":""}]
["",null,null,null,null,null,null,null,null,{"$f":"IF(I2877= \"\",\"\",VLOOKUP(I2877,会場マスタ!$A:$B,2,FALSE))","v":""}]
["",null,null,null,null,null,null,null,null,{"$f":"IF(I2878= \"\",\"\",VLOOKUP(I2878,会場マスタ!$A:$B,2,FALSE))","v":""}]
["",null,null,null,null,null,null,null,null,{"$f":"IF(I2879= \"\",\"\",VLOOKUP(I2879,会場マスタ!$A:$B,2,FALSE))","v":""}]
["",null,null,null,null,null,null,null,null,{"$f":"IF(I2880= \"\",\"\",VLOOKUP(I2880,会場マスタ!$A:$B,2,FALSE))","v":""}]
["",null,null,null,null,null,null,null,null,{"$f":"IF(I2881= \"\",\"\",VLOOKUP(I2881,会場マスタ!$A:$B,2,FALSE))","v":""}]
["",null,null,null,null,null,null,null,null,{"$f":"IF(I2882= \"\",\"\",VLOOKUP(I2882,会場マスタ!$A:$B,2,FALSE))","v":""}]
["",null,null,null,null,null,null,null,null,{"$f":"IF(I2883= \"\",\"\",VLOOKUP(I2883,会場マスタ!$A:$B,2,FALSE))","v":""}]
["",null,null,null,null,null,null,null,null,{"$f":"IF(I2884= \"\",\"\",VLOOKUP(I2884,会場マスタ!$A:$B,2,FALSE))","v":""}]
["",null,null,null,null,null,null,null,null,{"$f":"IF(I2885= \"\",\"\",VLOOKUP(I2885,会場マスタ!$A:$B,2,FALSE))","v":""}]
["",null,null,null,null,null,null,null,null,{"$f":"IF(I2886= \"\",\"\",VLOOKUP(I2886,会場マスタ!$A:$B,2,FALSE))","v":""}]
[{"$f":"IF(B2887<>\"\",ROW(A2887)-4,\"\")","v":""},null,null,null,null,null,null,null,null,{"$f":"IF(I2887= \"\",\"\",VLOOKUP(I2887,会場マスタ!$A:$B,2,FALSE))","v":""}]
["",null,null,null,null,null,null,null,null,{"$f":"IF(I2888= \"\",\"\",VLOOKUP(I2888,会場マスタ!$A:$B,2,FALSE))","v":""}]
["",null,null,null,null,null,null,null,null,{"$f":"IF(I2889= \"\",\"\",VLOOKUP(I2889,会場マスタ!$A:$B,2,FALSE))","v":""}]
["",null,null,null,null,null,null,null,null,{"$f":"IF(I2890= \"\",\"\",VLOOKUP(I2890,会場マスタ!$A:$B,2,FALSE))","v":""}]
["",null,null,null,null,null,null,null,null,{"$f":"IF(I2891= \"\",\"\",VLOOKUP(I2891,会場マスタ!$A:$B,2,FALSE))","v":""}]
["",null,null,null,null,null,null,null,null,{"$f":"IF(I2892= \"\",\"\",VLOOKUP(I2892,会場マスタ!$A:$B,2,FALSE))","v":""}]
["",null,null,null,null,null,null,null,null,{"$f":"IF(I2893= \"\",\"\",VLOOKUP(I2893,会場マスタ!$A:$B,2,FALSE))","v":""}]
["",null,null,null,null,null,null,null,null,{"$f":"IF(I2894= \"\",\"\",VLOOKUP(I2894,会場マスタ!$A:$B,2,FALSE))","v":""}]
["",null,null,null,null,null,null,null,null,{"$f":"IF(I2895= \"\",\"\",VLOOKUP(I2895,会場マスタ!$A:$B,2,FALSE))","v":""}]
["",null,null,null,null,null,null,null,null,{"$f":"IF(I2896= \"\",\"\",VLOOKUP(I2896,会場マスタ!$A:$B,2,FALSE))","v":""}]
["",null,null,null,null,null,null,null,null,{"$f":"IF(I2897= \"\",\"\",VLOOKUP(I2897,会場マスタ!$A:$B,2,FALSE))","v":""}]
["",null,null,null,null,null,null,null,null,{"$f":"IF(I2898= \"\",\"\",VLOOKUP(I2898,会場マスタ!$A:$B,2,FALSE))","v":""}]
["",null,null,null,null,null,null,null,null,{"$f":"IF(I2899= \"\",\"\",VLOOKUP(I2899,会場マスタ!$A:$B,2,FALSE))","v":""}]
["",null,null,null,null,null,null,null,null,{"$f":"IF(I2900= \"\",\"\",VLOOKUP(I2900,会場マスタ!$A:$B,2,FALSE))","v":""}]
["",null,null,null,null,null,null,null,null,{"$f":"IF(I2901= \"\",\"\",VLOOKUP(I2901,会場マスタ!$A:$B,2,FALSE))","v":""}]
["",null,null,null,null,null,null,null,null,{"$f":"IF(I2902= \"\",\"\",VLOOKUP(I2902,会場マスタ!$A:$B,2,FALSE))","v":""}]
["",null,null,null,null,null,null,null,null,{"$f":"IF(I2903= \"\",\"\",VLOOKUP(I2903,会場マスタ!$A:$B,2,FALSE))","v":""}]
["",null,null,null,null,null,null,null,null,{"$f":"IF(I2904= \"\",\"\",VLOOKUP(I2904,会場マスタ!$A:$B,2,FALSE))","v":""}]
["",null,null,null,null,null,null,null,null,{"$f":"IF(I2905= \"\",\"\",VLOOKUP(I2905,会場マスタ!$A:$B,2,FALSE))","v":""}]
["",null,null,null,null,null,null,null,null,{"$f":"IF(I2906= \"\",\"\",VLOOKUP(I2906,会場マスタ!$A:$B,2,FALSE))","v":""}]
["",null,null,null,null,null,null,null,null,{"$f":"IF(I2907= \"\",\"\",VLOOKUP(I2907,会場マスタ!$A:$B,2,FALSE))","v":""}]
["",null,null,null,null,null,null,null,null,{"$f":"IF(I2908= \"\",\"\",VLOOKUP(I2908,会場マスタ!$A:$B,2,FALSE))","v":""}]
["",null,null,null,null,null,null,null,null,{"$f":"IF(I2909= \"\",\"\",VLOOKUP(I2909,会場マスタ!$A:$B,2,FALSE))","v":""}]
["",null,null,null,null,null,null,null,null,{"$f":"IF(I2910= \"\",\"\",VLOOKUP(I2910,会場マスタ!$A:$B,2,FALSE))","v":""}]
["",null,null,null,null,null,null,null,null,{"$f":"IF(I2911= \"\",\"\",VLOOKUP(I2911,会場マスタ!$A:$B,2,FALSE))","v":""}]
["",null,null,null,null,null,null,null,null,{"$f":"IF(I2912= \"\",\"\",VLOOKUP(I2912,会場マスタ!$A:$B,2,FALSE))","v":""}]
["",null,null,null,null,null,null,null,null,{"$f":"IF(I2913= \"\",\"\",VLOOKUP(I2913,会場マスタ!$A:$B,2,FALSE))","v":""}]
["",null,null,null,null,null,null,null,null,{"$f":"IF(I2914= \"\",\"\",VLOOKUP(I2914,会場マスタ!$A:$B,2,FALSE))","v":""}]
["",null,null,null,null,null,null,null,null,{"$f":"IF(I2915= \"\",\"\",VLOOKUP(I2915,会場マスタ!$A:$B,2,FALSE))","v":""}]
["",null,null,null,null,null,null,null,null,{"$f":"IF(I2916= \"\",\"\",VLOOKUP(I2916,会場マスタ!$A:$B,2,FALSE))","v":""}]
["",null,null,null,null,null,null,null,null,{"$f":"IF(I2917= \"\",\"\",VLOOKUP(I2917,会場マスタ!$A:$B,2,FALSE))","v":""}]
["",null,null,null,null,null,null,null,null,{"$f":"IF(I2918= \"\",\"\",VLOOKUP(I2918,会場マスタ!$A:$B,2,FALSE))","v":""}]
["",null,null,null,null,null,null,null,null,{"$f":"IF(I2919= \"\",\"\",VLOOKUP(I2919,会場マスタ!$A:$B,2,FALSE))","v":""}]
["",null,null,null,null,null,null,null,null,{"$f":"IF(I2920= \"\",\"\",VLOOKUP(I2920,会場マスタ!$A:$B,2,FALSE))","v":""}]
["",null,null,null,null,null,null,null,null,{"$f":"IF(I2921= \"\",\"\",VLOOKUP(I2921,会場マスタ!$A:$B,2,FALSE))","v":""}]
["",null,null,null,null,null,null,null,null,{"$f":"IF(I2922= \"\",\"\",VLOOKUP(I2922,会場マスタ!$A:$B,2,FALSE))","v":""}]
["",null,null,null,null,null,null,null,null,{"$f":"IF(I2923= \"\",\"\",VLOOKUP(I2923,会場マスタ!$A:$B,2,FALSE))","v":""}]
["",null,null,null,null,null,null,null,null,{"$f":"IF(I2924= \"\",\"\",VLOOKUP(I2924,会場マスタ!$A:$B,2,FALSE))","v":""}]
["",null,null,null,null,null,null,null,null,{"$f":"IF(I2925= \"\",\"\",VLOOKUP(I2925,会場マスタ!$A:$B,2,FALSE))","v":""}]
["",null,null,null,null,null,null,null,null,{"$f":"IF(I2926= \"\",\"\",VLOOKUP(I2926,会場マスタ!$A:$B,2,FALSE))","v":""}]
["",null,null,null,null,null,null,null,null,{"$f":"IF(I2927= \"\",\"\",VLOOKUP(I2927,会場マスタ!$A:$B,2,FALSE))","v":""}]
["",null,null,null,null,null,null,null,null,{"$f":"IF(I2928= \"\",\"\",VLOOKUP(I2928,会場マスタ!$A:$B,2,FALSE))","v":""}]
["",null,null,null,null,null,null,null,null,{"$f":"IF(I2929= \"\",\"\",VLOOKUP(I2929,会場マスタ!$A:$B,2,FALSE))","v":""}]
["",null,null,null,null,null,null,null,null,{"$f":"IF(I2930= \"\",\"\",VLOOKUP(I2930,会場マスタ!$A:$B,2,FALSE))","v":""}]
["",null,null,null,null,null,null,null,null,{"$f":"IF(I2931= \"\",\"\",VLOOKUP(I2931,会場マスタ!$A:$B,2,FALSE))","v":""}]
["",null,null,null,null,null,null,null,null,{"$f":"IF(I2932= \"\",\"\",VLOOKUP(I2932,会場マスタ!$A:$B,2,FALSE))","v":""}]
["",null,null,null,null,null,null,null,null,{"$f":"IF(I2933= \"\",\"\",VLOOKUP(I2933,会場マスタ!$A:$B,2,FALSE))","v":""}]
["",null,null,null,null,null,null,null,null,{"$f":"IF(I2934= \"\",\"\",VLOOKUP(I2934,会場マスタ!$A:$B,2,FALSE))","v":""}]
["",null,null,null,null,null,null,null,null,{"$f":"IF(I2935= \"\",\"\",VLOOKUP(I2935,会場マスタ!$A:$B,2,FALSE))","v":""}]
["",null,null,null,null,null,null,null,null,{"$f":"IF(I2936= \"\",\"\",VLOOKUP(I2936,会場マスタ!$A:$B,2,FALSE))","v":""}]
["",null,null,null,null,null,null,null,null,{"$f":"IF(I2937= \"\",\"\",VLOOKUP(I2937,会場マスタ!$A:$B,2,FALSE))","v":""}]
["",null,null,null,null,null,null,null,null,{"$f":"IF(I2938= \"\",\"\",VLOOKUP(I2938,会場マスタ!$A:$B,2,FALSE))","v":""}]
["",null,null,null,null,null,null,null,null,{"$f":"IF(I2939= \"\",\"\",VLOOKUP(I2939,会場マスタ!$A:$B,2,FALSE))","v":""}]
["",null,null,null,null,null,null,null,null,{"$f":"IF(I2940= \"\",\"\",VLOOKUP(I2940,会場マスタ!$A:$B,2,FALSE))","v":""}]
["",null,null,null,null,null,null,null,null,{"$f":"IF(I2941= \"\",\"\",VLOOKUP(I2941,会場マスタ!$A:$B,2,FALSE))","v":""}]
["",null,null,null,null,null,null,null,null,{"$f":"IF(I2942= \"\",\"\",VLOOKUP(I2942,会場マスタ!$A:$B,2,FALSE))","v":""}]
["",null,null,null,null,null,null,null,null,{"$f":"IF(I2943= \"\",\"\",VLOOKUP(I2943,会場マスタ!$A:$B,2,FALSE))","v":""}]
["",null,null,null,null,null,null,null,null,{"$f":"IF(I2944= \"\",\"\",VLOOKUP(I2944,会場マスタ!$A:$B,2,FALSE))","v":""}]
["",null,null,null,null,null,null,null,null,{"$f":"IF(I2945= \"\",\"\",VLOOKUP(I2945,会場マスタ!$A:$B,2,FALSE))","v":""}]
["",null,null,null,null,null,null,null,null,{"$f":"IF(I2946= \"\",\"\",VLOOKUP(I2946,会場マスタ!$A:$B,2,FALSE))","v":""}]
["",null,null,null,null,null,null,null,null,{"$f":"IF(I2947= \"\",\"\",VLOOKUP(I2947,会場マスタ!$A:$B,2,FALSE))","v":""}]
["",null,null,null,null,null,null,null,null,{"$f":"IF(I2948= \"\",\"\",VLOOKUP(I2948,会場マスタ!$A:$B,2,FALSE))","v":""}]
["",null,null,null,null,null,null,null,null,{"$f":"IF(I2949= \"\",\"\",VLOOKUP(I2949,会場マスタ!$A:$B,2,FALSE))","v":""}]
["",null,null,null,null,null,null,null,null,{"$f":"IF(I2950= \"\",\"\",VLOOKUP(I2950,会場マスタ!$A:$B,2,FALSE))","v":""}]
[{"$f":"IF(B2951<>\"\",ROW(A2951)-4,\"\")","v":""},null,null,null,null,null,null,null,null,{"$f":"IF(I2951= \"\",\"\",VLOOKUP(I2951,会場マスタ!$A:$B,2,FALSE))","v":""}]
["",null,null,null,null,null,null,null,null,{"$f":"IF(I2952= \"\",\"\",VLOOKUP(I2952,会場マスタ!$A:$B,2,FALSE))","v":""}]
["",null,null,null,null,null,null,null,null,{"$f":"IF(I2953= \"\",\"\",VLOOKUP(I2953,会場マスタ!$A:$B,2,FALSE))","v":""}]
["",null,null,null,null,null,null,null,null,{"$f":"IF(I2954= \"\",\"\",VLOOKUP(I2954,会場マスタ!$A:$B,2,FALSE))","v":""}]
["",null,null,null,null,null,null,null,null,{"$f":"IF(I2955= \"\",\"\",VLOOKUP(I2955,会場マスタ!$A:$B,2,FALSE))","v":""}]
["",null,null,null,null,null,null,null,null,{"$f":"IF(I2956= \"\",\"\",VLOOKUP(I2956,会場マスタ!$A:$B,2,FALSE))","v":""}]
["",null,null,null,null,null,null,null,null,{"$f":"IF(I2957= \"\",\"\",VLOOKUP(I2957,会場マスタ!$A:$B,2,FALSE))","v":""}]
["",null,null,null,null,null,null,null,null,{"$f":"IF(I2958= \"\",\"\",VLOOKUP(I2958,会場マスタ!$A:$B,2,FALSE))","v":""}]
["",null,null,null,null,null,null,null,null,{"$f":"IF(I2959= \"\",\"\",VLOOKUP(I2959,会場マスタ!$A:$B,2,FALSE))","v":""}]
["",null,null,null,null,null,null,null,null,{"$f":"IF(I2960= \"\",\"\",VLOOKUP(I2960,会場マスタ!$A:$B,2,FALSE))","v":""}]
["",null,null,null,null,null,null,null,null,{"$f":"IF(I2961= \"\",\"\",VLOOKUP(I2961,会場マスタ!$A:$B,2,FALSE))","v":""}]
["",null,null,null,null,null,null,null,null,{"$f":"IF(I2962= \"\",\"\",VLOOKUP(I2962,会場マスタ!$A:$B,2,FALSE))","v":""}]
["",null,null,null,null,null,null,null,null,{"$f":"IF(I2963= \"\",\"\",VLOOKUP(I2963,会場マスタ!$A:$B,2,FALSE))","v":""}]
["",null,null,null,null,null,null,null,null,{"$f":"IF(I2964= \"\",\"\",VLOOKUP(I2964,会場マスタ!$A:$B,2,FALSE))","v":""}]
["",null,null,null,null,null,null,null,null,{"$f":"IF(I2965= \"\",\"\",VLOOKUP(I2965,会場マスタ!$A:$B,2,FALSE))","v":""}]
["",null,null,null,null,null,null,null,null,{"$f":"IF(I2966= \"\",\"\",VLOOKUP(I2966,会場マスタ!$A:$B,2,FALSE))","v":""}]
["",null,null,null,null,null,null,null,null,{"$f":"IF(I2967= \"\",\"\",VLOOKUP(I2967,会場マスタ!$A:$B,2,FALSE))","v":""}]
["",null,null,null,null,null,null,null,null,{"$f":"IF(I2968= \"\",\"\",VLOOKUP(I2968,会場マスタ!$A:$B,2,FALSE))","v":""}]
["",null,null,null,null,null,null,null,null,{"$f":"IF(I2969= \"\",\"\",VLOOKUP(I2969,会場マスタ!$A:$B,2,FALSE))","v":""}]
["",null,null,null,null,null,null,null,null,{"$f":"IF(I2970= \"\",\"\",VLOOKUP(I2970,会場マスタ!$A:$B,2,FALSE))","v":""}]
["",null,null,null,null,null,null,null,null,{"$f":"IF(I2971= \"\",\"\",VLOOKUP(I2971,会場マスタ!$A:$B,2,FALSE))","v":""}]
["",null,null,null,null,null,null,null,null,{"$f":"IF(I2972= \"\",\"\",VLOOKUP(I2972,会場マスタ!$A:$B,2,FALSE))","v":""}]
["",null,null,null,null,null,null,null,null,{"$f":"IF(I2973= \"\",\"\",VLOOKUP(I2973,会場マスタ!$A:$B,2,FALSE))","v":""}]
["",null,null,null,null,null,null,null,null,{"$f":"IF(I2974= \"\",\"\",VLOOKUP(I2974,会場マスタ!$A:$B,2,FALSE))","v":""}]
["",null,null,null,null,null,null,null,null,{"$f":"IF(I2975= \"\",\"\",VLOOKUP(I2975,会場マスタ!$A:$B,2,FALSE))","v":""}]
["",null,null,null,null,null,null,null,null,{"$f":"IF(I2976= \"\",\"\",VLOOKUP(I2976,会場マスタ!$A:$B,2,FALSE))","v":""}]
["",null,null,null,null,null,null,null,null,{"$f":"IF(I2977= \"\",\"\",VLOOKUP(I2977,会場マスタ!$A:$B,2,FALSE))","v":""}]
["",null,null,null,null,null,null,null,null,{"$f":"IF(I2978= \"\",\"\",VLOOKUP(I2978,会場マスタ!$A:$B,2,FALSE))","v":""}]
["",null,null,null,null,null,null,null,null,{"$f":"IF(I2979= \"\",\"\",VLOOKUP(I2979,会場マスタ!$A:$B,2,FALSE))","v":""}]
["",null,null,null,null,null,null,null,null,{"$f":"IF(I2980= \"\",\"\",VLOOKUP(I2980,会場マスタ!$A:$B,2,FALSE))","v":""}]
["",null,null,null,null,null,null,null,null,{"$f":"IF(I2981= \"\",\"\",VLOOKUP(I2981,会場マスタ!$A:$B,2,FALSE))","v":""}]
["",null,null,null,null,null,null,null,null,{"$f":"IF(I2982= \"\",\"\",VLOOKUP(I2982,会場マスタ!$A:$B,2,FALSE))","v":""}]
["",null,null,null,null,null,null,null,null,{"$f":"IF(I2983= \"\",\"\",VLOOKUP(I2983,会場マスタ!$A:$B,2,FALSE))","v":""}]
["",null,null,null,null,null,null,null,null,{"$f":"IF(I2984= \"\",\"\",VLOOKUP(I2984,会場マスタ!$A:$B,2,FALSE))","v":""}]
["",null,null,null,null,null,null,null,null,{"$f":"IF(I2985= \"\",\"\",VLOOKUP(I2985,会場マスタ!$A:$B,2,FALSE))","v":""}]
["",null,null,null,null,null,null,null,null,{"$f":"IF(I2986= \"\",\"\",VLOOKUP(I2986,会場マスタ!$A:$B,2,FALSE))","v":""}]
["",null,null,null,null,null,null,null,null,{"$f":"IF(I2987= \"\",\"\",VLOOKUP(I2987,会場マスタ!$A:$B,2,FALSE))","v":""}]
["",null,null,null,null,null,null,null,null,{"$f":"IF(I2988= \"\",\"\",VLOOKUP(I2988,会場マスタ!$A:$B,2,FALSE))","v":""}]
["",null,null,null,null,null,null,null,null,{"$f":"IF(I2989= \"\",\"\",VLOOKUP(I2989,会場マスタ!$A:$B,2,FALSE))","v":""}]
["",null,null,null,null,null,null,null,null,{"$f":"IF(I2990= \"\",\"\",VLOOKUP(I2990,会場マスタ!$A:$B,2,FALSE))","v":""}]
["",null,null,null,null,null,null,null,null,{"$f":"IF(I2991= \"\",\"\",VLOOKUP(I2991,会場マスタ!$A:$B,2,FALSE))","v":""}]
["",null,null,null,null,null,null,null,null,{"$f":"IF(I2992= \"\",\"\",VLOOKUP(I2992,会場マスタ!$A:$B,2,FALSE))","v":""}]
["",null,null,null,null,null,null,null,null,{"$f":"IF(I2993= \"\",\"\",VLOOKUP(I2993,会場マスタ!$A:$B,2,FALSE))","v":""}]
["",null,null,null,null,null,null,null,null,{"$f":"IF(I2994= \"\",\"\",VLOOKUP(I2994,会場マスタ!$A:$B,2,FALSE))","v":""}]
["",null,null,null,null,null,null,null,null,{"$f":"IF(I2995= \"\",\"\",VLOOKUP(I2995,会場マスタ!$A:$B,2,FALSE))","v":""}]
["",null,null,null,null,null,null,null,null,{"$f":"IF(I2996= \"\",\"\",VLOOKUP(I2996,会場マスタ!$A:$B,2,FALSE))","v":""}]
["",null,null,null,null,null,null,null,null,{"$f":"IF(I2997= \"\",\"\",VLOOKUP(I2997,会場マスタ!$A:$B,2,FALSE))","v":""}]
["",null,null,null,null,null,null,null,null,{"$f":"IF(I2998= \"\",\"\",VLOOKUP(I2998,会場マスタ!$A:$B,2,FALSE))","v":""}]
["",null,null,null,null,null,null,null,null,{"$f":"IF(I2999= \"\",\"\",VLOOKUP(I2999,会場マスタ!$A:$B,2,FALSE))","v":""}]
["",null,null,null,null,null,null,null,null,{"$f":"IF(I3000= \"\",\"\",VLOOKUP(I3000,会場マスタ!$A:$B,2,FALSE))","v":""}]
["",null,null,null,null,null,null,null,null,{"$f":"IF(I3001= \"\",\"\",VLOOKUP(I3001,会場マスタ!$A:$B,2,FALSE))","v":""}]
["",null,null,null,null,null,null,null,null,{"$f":"IF(I3002= \"\",\"\",VLOOKUP(I3002,会場マスタ!$A:$B,2,FALSE))","v":""}]
["",null,null,null,null,null,null,null,null,{"$f":"IF(I3003= \"\",\"\",VLOOKUP(I3003,会場マスタ!$A:$B,2,FALSE))","v":""}]
["",null,null,null,null,null,null,null,null,{"$f":"IF(I3004= \"\",\"\",VLOOKUP(I3004,会場マスタ!$A:$B,2,FALSE))","v":""}]
["",null,null,null,null,null,null,null,null,{"$f":"IF(I3005= \"\",\"\",VLOOKUP(I3005,会場マスタ!$A:$B,2,FALSE))","v":""}]
["",null,null,null,null,null,null,null,null,{"$f":"IF(I3006= \"\",\"\",VLOOKUP(I3006,会場マスタ!$A:$B,2,FALSE))","v":""}]
["",null,null,null,null,null,null,null,null,{"$f":"IF(I3007= \"\",\"\",VLOOKUP(I3007,会場マスタ!$A:$B,2,FALSE))","v":""}]
["",null,null,null,null,null,null,null,null,{"$f":"IF(I3008= \"\",\"\",VLOOKUP(I3008,会場マスタ!$A:$B,2,FALSE))","v":""}]
["",null,null,null,null,null,null,null,null,{"$f":"IF(I3009= \"\",\"\",VLOOKUP(I3009,会場マスタ!$A:$B,2,FALSE))","v":""}]
["",null,null,null,null,null,null,null,null,{"$f":"IF(I3010= \"\",\"\",VLOOKUP(I3010,会場マスタ!$A:$B,2,FALSE))","v":""}]
["",null,null,null,null,null,null,null,null,{"$f":"IF(I3011= \"\",\"\",VLOOKUP(I3011,会場マスタ!$A:$B,2,FALSE))","v":""}]
["",null,null,null,null,null,null,null,null,{"$f":"IF(I3012= \"\",\"\",VLOOKUP(I3012,会場マスタ!$A:$B,2,FALSE))","v":""}]
["",null,null,null,null,null,null,null,null,{"$f":"IF(I3013= \"\",\"\",VLOOKUP(I3013,会場マスタ!$A:$B,2,FALSE))","v":""}]
["",null,null,null,null,null,null,null,null,{"$f":"IF(I3014= \"\",\"\",VLOOKUP(I3014,会場マスタ!$A:$B,2,FALSE))","v":""}]
[{"$f":"IF(B3015<>\"\",ROW(A3015)-4,\"\")","v":""},null,null,null,null,null,null,null,null,{"$f":"IF(I3015= \"\",\"\",VLOOKUP(I3015,会場マスタ!$A:$B,2,FALSE))","v":""}]
["",null,null,null,null,null,null,null,null,{"$f":"IF(I3016= \"\",\"\",VLOOKUP(I3016,会場マスタ!$A:$B,2,FALSE))","v":""}]
["",null,null,null,null,null,null,null,null,{"$f":"IF(I3017= \"\",\"\",VLOOKUP(I3017,会場マスタ!$A:$B,2,FALSE))","v":""}]
["",null,null,null,null,null,null,null,null,{"$f":"IF(I3018= \"\",\"\",VLOOKUP(I3018,会場マスタ!$A:$B,2,FALSE))","v":""}]
["",null,null,null,null,null,null,null,null,{"$f":"IF(I3019= \"\",\"\",VLOOKUP(I3019,会場マスタ!$A:$B,2,FALSE))","v":""}]
["",null,null,null,null,null,null,null,null,{"$f":"IF(I3020= \"\",\"\",VLOOKUP(I3020,会場マスタ!$A:$B,2,FALSE))","v":""}]
["",null,null,null,null,null,null,null,null,{"$f":"IF(I3021= \"\",\"\",VLOOKUP(I3021,会場マスタ!$A:$B,2,FALSE))","v":""}]
["",null,null,null,null,null,null,null,null,{"$f":"IF(I3022= \"\",\"\",VLOOKUP(I3022,会場マスタ!$A:$B,2,FALSE))","v":""}]
["",null,null,null,null,null,null,null,null,{"$f":"IF(I3023= \"\",\"\",VLOOKUP(I3023,会場マスタ!$A:$B,2,FALSE))","v":""}]
["",null,null,null,null,null,null,null,null,{"$f":"IF(I3024= \"\",\"\",VLOOKUP(I3024,会場マスタ!$A:$B,2,FALSE))","v":""}]
["",null,null,null,null,null,null,null,null,{"$f":"IF(I3025= \"\",\"\",VLOOKUP(I3025,会場マスタ!$A:$B,2,FALSE))","v":""}]
["",null,null,null,null,null,null,null,null,{"$f":"IF(I3026= \"\",\"\",VLOOKUP(I3026,会場マスタ!$A:$B,2,FALSE))","v":""}]
["",null,null,null,null,null,null,null,null,{"$f":"IF(I3027= \"\",\"\",VLOOKUP(I3027,会場マスタ!$A:$B,2,FALSE))","v":""}]
["",null,null,null,null,null,null,null,null,{"$f":"IF(I3028= \"\",\"\",VLOOKUP(I3028,会場マスタ!$A:$B,2,FALSE))","v":""}]
["",null,null,null,null,null,null,null,null,{"$f":"IF(I3029= \"\",\"\",VLOOKUP(I3029,会場マスタ!$A:$B,2,FALSE))","v":""}]
["",null,null,null,null,null,null,null,null,{"$f":"IF(I3030= \"\",\"\",VLOOKUP(I3030,会場マスタ!$A:$B,2,FALSE))","v":""}]
["",null,null,null,null,null,null,null,null,{"$f":"IF(I3031= \"\",\"\",VLOOKUP(I3031,会場マスタ!$A:$B,2,FALSE))","v":""}]
["",null,null,null,null,null,null,null,null,{"$f":"IF(I3032= \"\",\"\",VLOOKUP(I3032,会場マスタ!$A:$B,2,FALSE))","v":""}]
["",null,null,null,null,null,null,null,null,{"$f":"IF(I3033= \"\",\"\",VLOOKUP(I3033,会場マスタ!$A:$B,2,FALSE))","v":""}]
["",null,null,null,null,null,null,null,null,{"$f":"IF(I3034= \"\",\"\",VLOOKUP(I3034,会場マスタ!$A:$B,2,FALSE))","v":""}]
["",null,null,null,null,null,null,null,null,{"$f":"IF(I3035= \"\",\"\",VLOOKUP(I3035,会場マスタ!$A:$B,2,FALSE))","v":""}]
["",null,null,null,null,null,null,null,null,{"$f":"IF(I3036= \"\",\"\",VLOOKUP(I3036,会場マスタ!$A:$B,2,FALSE))","v":""}]
["",null,null,null,null,null,null,null,null,{"$f":"IF(I3037= \"\",\"\",VLOOKUP(I3037,会場マスタ!$A:$B,2,FALSE))","v":""}]
["",null,null,null,null,null,null,null,null,{"$f":"IF(I3038= \"\",\"\",VLOOKUP(I3038,会場マスタ!$A:$B,2,FALSE))","v":""}]
["",null,null,null,null,null,null,null,null,{"$f":"IF(I3039= \"\",\"\",VLOOKUP(I3039,会場マスタ!$A:$B,2,FALSE))","v":""}]
["",null,null,null,null,null,null,null,null,{"$f":"IF(I3040= \"\",\"\",VLOOKUP(I3040,会場マスタ!$A:$B,2,FALSE))","v":""}]
["",null,null,null,null,null,null,null,null,{"$f":"IF(I3041= \"\",\"\",VLOOKUP(I3041,会場マスタ!$A:$B,2,FALSE))","v":""}]
["",null,null,null,null,null,null,null,null,{"$f":"IF(I3042= \"\",\"\",VLOOKUP(I3042,会場マスタ!$A:$B,2,FALSE))","v":""}]
["",null,null,null,null,null,null,null,null,{"$f":"IF(I3043= \"\",\"\",VLOOKUP(I3043,会場マスタ!$A:$B,2,FALSE))","v":""}]
["",null,null,null,null,null,null,null,null,{"$f":"IF(I3044= \"\",\"\",VLOOKUP(I3044,会場マスタ!$A:$B,2,FALSE))","v":""}]
["",null,null,null,null,null,null,null,null,{"$f":"IF(I3045= \"\",\"\",VLOOKUP(I3045,会場マスタ!$A:$B,2,FALSE))","v":""}]
["",null,null,null,null,null,null,null,null,{"$f":"IF(I3046= \"\",\"\",VLOOKUP(I3046,会場マスタ!$A:$B,2,FALSE))","v":""}]
["",null,null,null,null,null,null,null,null,{"$f":"IF(I3047= \"\",\"\",VLOOKUP(I3047,会場マスタ!$A:$B,2,FALSE))","v":""}]
["",null,null,null,null,null,null,null,null,{"$f":"IF(I3048= \"\",\"\",VLOOKUP(I3048,会場マスタ!$A:$B,2,FALSE))","v":""}]
["",null,null,null,null,null,null,null,null,{"$f":"IF(I3049= \"\",\"\",VLOOKUP(I3049,会場マスタ!$A:$B,2,FALSE))","v":""}]
["",null,null,null,null,null,null,null,null,{"$f":"IF(I3050= \"\",\"\",VLOOKUP(I3050,会場マスタ!$A:$B,2,FALSE))","v":""}]
["",null,null,null,null,null,null,null,null,{"$f":"IF(I3051= \"\",\"\",VLOOKUP(I3051,会場マスタ!$A:$B,2,FALSE))","v":""}]
["",null,null,null,null,null,null,null,null,{"$f":"IF(I3052= \"\",\"\",VLOOKUP(I3052,会場マスタ!$A:$B,2,FALSE))","v":""}]
["",null,null,null,null,null,null,null,null,{"$f":"IF(I3053= \"\",\"\",VLOOKUP(I3053,会場マスタ!$A:$B,2,FALSE))","v":""}]
["",null,null,null,null,null,null,null,null,{"$f":"IF(I3054= \"\",\"\",VLOOKUP(I3054,会場マスタ!$A:$B,2,FALSE))","v":""}]
["",null,null,null,null,null,null,null,null,{"$f":"IF(I3055= \"\",\"\",VLOOKUP(I3055,会場マスタ!$A:$B,2,FALSE))","v":""}]
["",null,null,null,null,null,null,null,null,{"$f":"IF(I3056= \"\",\"\",VLOOKUP(I3056,会場マスタ!$A:$B,2,FALSE))","v":""}]
["",null,null,null,null,null,null,null,null,{"$f":"IF(I3057= \"\",\"\",VLOOKUP(I3057,会場マスタ!$A:$B,2,FALSE))","v":""}]
["",null,null,null,null,null,null,null,null,{"$f":"IF(I3058= \"\",\"\",VLOOKUP(I3058,会場マスタ!$A:$B,2,FALSE))","v":""}]
["",null,null,null,null,null,null,null,null,{"$f":"IF(I3059= \"\",\"\",VLOOKUP(I3059,会場マスタ!$A:$B,2,FALSE))","v":""}]
["",null,null,null,null,null,null,null,null,{"$f":"IF(I3060= \"\",\"\",VLOOKUP(I3060,会場マスタ!$A:$B,2,FALSE))","v":""}]
["",null,null,null,null,null,null,null,null,{"$f":"IF(I3061= \"\",\"\",VLOOKUP(I3061,会場マスタ!$A:$B,2,FALSE))","v":""}]
["",null,null,null,null,null,null,null,null,{"$f":"IF(I3062= \"\",\"\",VLOOKUP(I3062,会場マスタ!$A:$B,2,FALSE))","v":""}]
["",null,null,null,null,null,null,null,null,{"$f":"IF(I3063= \"\",\"\",VLOOKUP(I3063,会場マスタ!$A:$B,2,FALSE))","v":""}]
["",null,null,null,null,null,null,null,null,{"$f":"IF(I3064= \"\",\"\",VLOOKUP(I3064,会場マスタ!$A:$B,2,FALSE))","v":""}]
["",null,null,null,null,null,null,null,null,{"$f":"IF(I3065= \"\",\"\",VLOOKUP(I3065,会場マスタ!$A:$B,2,FALSE))","v":""}]
["",null,null,null,null,null,null,null,null,{"$f":"IF(I3066= \"\",\"\",VLOOKUP(I3066,会場マスタ!$A:$B,2,FALSE))","v":""}]
["",null,null,null,null,null,null,null,null,{"$f":"IF(I3067= \"\",\"\",VLOOKUP(I3067,会場マスタ!$A:$B,2,FALSE))","v":""}]
["",null,null,null,null,null,null,null,null,{"$f":"IF(I3068= \"\",\"\",VLOOKUP(I3068,会場マスタ!$A:$B,2,FALSE))","v":""}]
["",null,null,null,null,null,null,null,null,{"$f":"IF(I3069= \"\",\"\",VLOOKUP(I3069,会場マスタ!$A:$B,2,FALSE))","v":""}]
["",null,null,null,null,null,null,null,null,{"$f":"IF(I3070= \"\",\"\",VLOOKUP(I3070,会場マスタ!$A:$B,2,FALSE))","v":""}]
["",null,null,null,null,null,null,null,null,{"$f":"IF(I3071= \"\",\"\",VLOOKUP(I3071,会場マスタ!$A:$B,2,FALSE))","v":""}]
["",null,null,null,null,null,null,null,null,{"$f":"IF(I3072= \"\",\"\",VLOOKUP(I3072,会場マスタ!$A:$B,2,FALSE))","v":""}]
["",null,null,null,null,null,null,null,null,{"$f":"IF(I3073= \"\",\"\",VLOOKUP(I3073,会場マスタ!$A:$B,2,FALSE))","v":""}]
["",null,null,null,null,null,null,null,null,{"$f":"IF(I3074= \"\",\"\",VLOOKUP(I3074,会場マスタ!$A:$B,2,FALSE))","v":""}]
["",null,null,null,null,null,null,null,null,{"$f":"IF(I3075= \"\",\"\",VLOOKUP(I3075,会場マスタ!$A:$B,2,FALSE))","v":""}]
["",null,null,null,null,null,null,null,null,{"$f":"IF(I3076= \"\",\"\",VLOOKUP(I3076,会場マスタ!$A:$B,2,FALSE))","v":""}]
["",null,null,null,null,null,null,null,null,{"$f":"IF(I3077= \"\",\"\",VLOOKUP(I3077,会場マスタ!$A:$B,2,FALSE))","v":""}]
["",null,null,null,null,null,null,null,null,{"$f":"IF(I3078= \"\",\"\",VLOOKUP(I3078,会場マスタ!$A:$B,2,FALSE))","v":""}]
[{"$f":"IF(B3079<>\"\",ROW(A3079)-4,\"\")","v":""},null,null,null,null,null,null,null,null,{"$f":"IF(I3079= \"\",\"\",VLOOKUP(I3079,会場マスタ!$A:$B,2,FALSE))","v":""}]
["",null,null,null,null,null,null,null,null,{"$f":"IF(I3080= \"\",\"\",VLOOKUP(I3080,会場マスタ!$A:$B,2,FALSE))","v":""}]
["",null,null,null,null,null,null,null,null,{"$f":"IF(I3081= \"\",\"\",VLOOKUP(I3081,会場マスタ!$A:$B,2,FALSE))","v":""}]
["",null,null,null,null,null,null,null,null,{"$f":"IF(I3082= \"\",\"\",VLOOKUP(I3082,会場マスタ!$A:$B,2,FALSE))","v":""}]
["",null,null,null,null,null,null,null,null,{"$f":"IF(I3083= \"\",\"\",VLOOKUP(I3083,会場マスタ!$A:$B,2,FALSE))","v":""}]
["",null,null,null,null,null,null,null,null,{"$f":"IF(I3084= \"\",\"\",VLOOKUP(I3084,会場マスタ!$A:$B,2,FALSE))","v":""}]
["",null,null,null,null,null,null,null,null,{"$f":"IF(I3085= \"\",\"\",VLOOKUP(I3085,会場マスタ!$A:$B,2,FALSE))","v":""}]
["",null,null,null,null,null,null,null,null,{"$f":"IF(I3086= \"\",\"\",VLOOKUP(I3086,会場マスタ!$A:$B,2,FALSE))","v":""}]
["",null,null,null,null,null,null,null,null,{"$f":"IF(I3087= \"\",\"\",VLOOKUP(I3087,会場マスタ!$A:$B,2,FALSE))","v":""}]
["",null,null,null,null,null,null,null,null,{"$f":"IF(I3088= \"\",\"\",VLOOKUP(I3088,会場マスタ!$A:$B,2,FALSE))","v":""}]
["",null,null,null,null,null,null,null,null,{"$f":"IF(I3089= \"\",\"\",VLOOKUP(I3089,会場マスタ!$A:$B,2,FALSE))","v":""}]
["",null,null,null,null,null,null,null,null,{"$f":"IF(I3090= \"\",\"\",VLOOKUP(I3090,会場マスタ!$A:$B,2,FALSE))","v":""}]
["",null,null,null,null,null,null,null,null,{"$f":"IF(I3091= \"\",\"\",VLOOKUP(I3091,会場マスタ!$A:$B,2,FALSE))","v":""}]
["",null,null,null,null,null,null,null,null,{"$f":"IF(I3092= \"\",\"\",VLOOKUP(I3092,会場マスタ!$A:$B,2,FALSE))","v":""}]
["",null,null,null,null,null,null,null,null,{"$f":"IF(I3093= \"\",\"\",VLOOKUP(I3093,会場マスタ!$A:$B,2,FALSE))","v":""}]
["",null,null,null,null,null,null,null,null,{"$f":"IF(I3094= \"\",\"\",VLOOKUP(I3094,会場マスタ!$A:$B,2,FALSE))","v":""}]
["",null,null,null,null,null,null,null,null,{"$f":"IF(I3095= \"\",\"\",VLOOKUP(I3095,会場マスタ!$A:$B,2,FALSE))","v":""}]
["",null,null,null,null,null,null,null,null,{"$f":"IF(I3096= \"\",\"\",VLOOKUP(I3096,会場マスタ!$A:$B,2,FALSE))","v":""}]
["",null,null,null,null,null,null,null,null,{"$f":"IF(I3097= \"\",\"\",VLOOKUP(I3097,会場マスタ!$A:$B,2,FALSE))","v":""}]
["",null,null,null,null,null,null,null,null,{"$f":"IF(I3098= \"\",\"\",VLOOKUP(I3098,会場マスタ!$A:$B,2,FALSE))","v":""}]
["",null,null,null,null,null,null,null,null,{"$f":"IF(I3099= \"\",\"\",VLOOKUP(I3099,会場マスタ!$A:$B,2,FALSE))","v":""}]
["",null,null,null,null,null,null,null,null,{"$f":"IF(I3100= \"\",\"\",VLOOKUP(I3100,会場マスタ!$A:$B,2,FALSE))","v":""}]
["",null,null,null,null,null,null,null,null,{"$f":"IF(I3101= \"\",\"\",VLOOKUP(I3101,会場マスタ!$A:$B,2,FALSE))","v":""}]
["",null,null,null,null,null,null,null,null,{"$f":"IF(I3102= \"\",\"\",VLOOKUP(I3102,会場マスタ!$A:$B,2,FALSE))","v":""}]
["",null,null,null,null,null,null,null,null,{"$f":"IF(I3103= \"\",\"\",VLOOKUP(I3103,会場マスタ!$A:$B,2,FALSE))","v":""}]
["",null,null,null,null,null,null,null,null,{"$f":"IF(I3104= \"\",\"\",VLOOKUP(I3104,会場マスタ!$A:$B,2,FALSE))","v":""}]
["",null,null,null,null,null,null,null,null,{"$f":"IF(I3105= \"\",\"\",VLOOKUP(I3105,会場マスタ!$A:$B,2,FALSE))","v":""}]
["",null,null,null,null,null,null,null,null,{"$f":"IF(I3106= \"\",\"\",VLOOKUP(I3106,会場マスタ!$A:$B,2,FALSE))","v":""}]
["",null,null,null,null,null,null,null,null,{"$f":"IF(I3107= \"\",\"\",VLOOKUP(I3107,会場マスタ!$A:$B,2,FALSE))","v":""}]
["",null,null,null,null,null,null,null,null,{"$f":"IF(I3108= \"\",\"\",VLOOKUP(I3108,会場マスタ!$A:$B,2,FALSE))","v":""}]
["",null,null,null,null,null,null,null,null,{"$f":"IF(I3109= \"\",\"\",VLOOKUP(I3109,会場マスタ!$A:$B,2,FALSE))","v":""}]
["",null,null,null,null,null,null,null,null,{"$f":"IF(I3110= \"\",\"\",VLOOKUP(I3110,会場マスタ!$A:$B,2,FALSE))","v":""}]
["",null,null,null,null,null,null,null,null,{"$f":"IF(I3111= \"\",\"\",VLOOKUP(I3111,会場マスタ!$A:$B,2,FALSE))","v":""}]
["",null,null,null,null,null,null,null,null,{"$f":"IF(I3112= \"\",\"\",VLOOKUP(I3112,会場マスタ!$A:$B,2,FALSE))","v":""}]
["",null,null,null,null,null,null,null,null,{"$f":"IF(I3113= \"\",\"\",VLOOKUP(I3113,会場マスタ!$A:$B,2,FALSE))","v":""}]
["",null,null,null,null,null,null,null,null,{"$f":"IF(I3114= \"\",\"\",VLOOKUP(I3114,会場マスタ!$A:$B,2,FALSE))","v":""}]
["",null,null,null,null,null,null,null,null,{"$f":"IF(I3115= \"\",\"\",VLOOKUP(I3115,会場マスタ!$A:$B,2,FALSE))","v":""}]
["",null,null,null,null,null,null,null,null,{"$f":"IF(I3116= \"\",\"\",VLOOKUP(I3116,会場マスタ!$A:$B,2,FALSE))","v":""}]
["",null,null,null,null,null,null,null,null,{"$f":"IF(I3117= \"\",\"\",VLOOKUP(I3117,会場マスタ!$A:$B,2,FALSE))","v":""}]
["",null,null,null,null,null,null,null,null,{"$f":"IF(I3118= \"\",\"\",VLOOKUP(I3118,会場マスタ!$A:$B,2,FALSE))","v":""}]
["",null,null,null,null,null,null,null,null,{"$f":"IF(I3119= \"\",\"\",VLOOKUP(I3119,会場マスタ!$A:$B,2,FALSE))","v":""}]
["",null,null,null,null,null,null,null,null,{"$f":"IF(I3120= \"\",\"\",VLOOKUP(I3120,会場マスタ!$A:$B,2,FALSE))","v":""}]
["",null,null,null,null,null,null,null,null,{"$f":"IF(I3121= \"\",\"\",VLOOKUP(I3121,会場マスタ!$A:$B,2,FALSE))","v":""}]
["",null,null,null,null,null,null,null,null,{"$f":"IF(I3122= \"\",\"\",VLOOKUP(I3122,会場マスタ!$A:$B,2,FALSE))","v":""}]
["",null,null,null,null,null,null,null,null,{"$f":"IF(I3123= \"\",\"\",VLOOKUP(I3123,会場マスタ!$A:$B,2,FALSE))","v":""}]
["",null,null,null,null,null,null,null,null,{"$f":"IF(I3124= \"\",\"\",VLOOKUP(I3124,会場マスタ!$A:$B,2,FALSE))","v":""}]
["",null,null,null,null,null,null,null,null,{"$f":"IF(I3125= \"\",\"\",VLOOKUP(I3125,会場マスタ!$A:$B,2,FALSE))","v":""}]
["",null,null,null,null,null,null,null,null,{"$f":"IF(I3126= \"\",\"\",VLOOKUP(I3126,会場マスタ!$A:$B,2,FALSE))","v":""}]
["",null,null,null,null,null,null,null,null,{"$f":"IF(I3127= \"\",\"\",VLOOKUP(I3127,会場マスタ!$A:$B,2,FALSE))","v":""}]
["",null,null,null,null,null,null,null,null,{"$f":"IF(I3128= \"\",\"\",VLOOKUP(I3128,会場マスタ!$A:$B,2,FALSE))","v":""}]
["",null,null,null,null,null,null,null,null,{"$f":"IF(I3129= \"\",\"\",VLOOKUP(I3129,会場マスタ!$A:$B,2,FALSE))","v":""}]
["",null,null,null,null,null,null,null,null,{"$f":"IF(I3130= \"\",\"\",VLOOKUP(I3130,会場マスタ!$A:$B,2,FALSE))","v":""}]
["",null,null,null,null,null,null,null,null,{"$f":"IF(I3131= \"\",\"\",VLOOKUP(I3131,会場マスタ!$A:$B,2,FALSE))","v":""}]
["",null,null,null,null,null,null,null,null,{"$f":"IF(I3132= \"\",\"\",VLOOKUP(I3132,会場マスタ!$A:$B,2,FALSE))","v":""}]
["",null,null,null,null,null,null,null,null,{"$f":"IF(I3133= \"\",\"\",VLOOKUP(I3133,会場マスタ!$A:$B,2,FALSE))","v":""}]
["",null,null,null,null,null,null,null,null,{"$f":"IF(I3134= \"\",\"\",VLOOKUP(I3134,会場マスタ!$A:$B,2,FALSE))","v":""}]
["",null,null,null,null,null,null,null,null,{"$f":"IF(I3135= \"\",\"\",VLOOKUP(I3135,会場マスタ!$A:$B,2,FALSE))","v":""}]
["",null,null,null,null,null,null,null,null,{"$f":"IF(I3136= \"\",\"\",VLOOKUP(I3136,会場マスタ!$A:$B,2,FALSE))","v":""}]
["",null,null,null,null,null,null,null,null,{"$f":"IF(I3137= \"\",\"\",VLOOKUP(I3137,会場マスタ!$A:$B,2,FALSE))","v":""}]
["",null,null,null,null,null,null,null,null,{"$f":"IF(I3138= \"\",\"\",VLOOKUP(I3138,会場マスタ!$A:$B,2,FALSE))","v":""}]
["",null,null,null,null,null,null,null,null,{"$f":"IF(I3139= \"\",\"\",VLOOKUP(I3139,会場マスタ!$A:$B,2,FALSE))","v":""}]
["",null,null,null,null,null,null,null,null,{"$f":"IF(I3140= \"\",\"\",VLOOKUP(I3140,会場マスタ!$A:$B,2,FALSE))","v":""}]
["",null,null,null,null,null,null,null,null,{"$f":"IF(I3141= \"\",\"\",VLOOKUP(I3141,会場マスタ!$A:$B,2,FALSE))","v":""}]
["",null,null,null,null,null,null,null,null,{"$f":"IF(I3142= \"\",\"\",VLOOKUP(I3142,会場マスタ!$A:$B,2,FALSE))","v":""}]
[{"$f":"IF(B3143<>\"\",ROW(A3143)-4,\"\")","v":""},null,null,null,null,null,null,null,null,{"$f":"IF(I3143= \"\",\"\",VLOOKUP(I3143,会場マスタ!$A:$B,2,FALSE))","v":""}]
["",null,null,null,null,null,null,null,null,{"$f":"IF(I3144= \"\",\"\",VLOOKUP(I3144,会場マスタ!$A:$B,2,FALSE))","v":""}]
["",null,null,null,null,null,null,null,null,{"$f":"IF(I3145= \"\",\"\",VLOOKUP(I3145,会場マスタ!$A:$B,2,FALSE))","v":""}]
["",null,null,null,null,null,null,null,null,{"$f":"IF(I3146= \"\",\"\",VLOOKUP(I3146,会場マスタ!$A:$B,2,FALSE))","v":""}]
["",null,null,null,null,null,null,null,null,{"$f":"IF(I3147= \"\",\"\",VLOOKUP(I3147,会場マスタ!$A:$B,2,FALSE))","v":""}]
["",null,null,null,null,null,null,null,null,{"$f":"IF(I3148= \"\",\"\",VLOOKUP(I3148,会場マスタ!$A:$B,2,FALSE))","v":""}]
["",null,null,null,null,null,null,null,null,{"$f":"IF(I3149= \"\",\"\",VLOOKUP(I3149,会場マスタ!$A:$B,2,FALSE))","v":""}]
["",null,null,null,null,null,null,null,null,{"$f":"IF(I3150= \"\",\"\",VLOOKUP(I3150,会場マスタ!$A:$B,2,FALSE))","v":""}]
["",null,null,null,null,null,null,null,null,{"$f":"IF(I3151= \"\",\"\",VLOOKUP(I3151,会場マスタ!$A:$B,2,FALSE))","v":""}]
["",null,null,null,null,null,null,null,null,{"$f":"IF(I3152= \"\",\"\",VLOOKUP(I3152,会場マスタ!$A:$B,2,FALSE))","v":""}]
["",null,null,null,null,null,null,null,null,{"$f":"IF(I3153= \"\",\"\",VLOOKUP(I3153,会場マスタ!$A:$B,2,FALSE))","v":""}]
["",null,null,null,null,null,null,null,null,{"$f":"IF(I3154= \"\",\"\",VLOOKUP(I3154,会場マスタ!$A:$B,2,FALSE))","v":""}]
["",null,null,null,null,null,null,null,null,{"$f":"IF(I3155= \"\",\"\",VLOOKUP(I3155,会場マスタ!$A:$B,2,FALSE))","v":""}]
["",null,null,null,null,null,null,null,null,{"$f":"IF(I3156= \"\",\"\",VLOOKUP(I3156,会場マスタ!$A:$B,2,FALSE))","v":""}]
["",null,null,null,null,null,null,null,null,{"$f":"IF(I3157= \"\",\"\",VLOOKUP(I3157,会場マスタ!$A:$B,2,FALSE))","v":""}]
["",null,null,null,null,null,null,null,null,{"$f":"IF(I3158= \"\",\"\",VLOOKUP(I3158,会場マスタ!$A:$B,2,FALSE))","v":""}]
["",null,null,null,null,null,null,null,null,{"$f":"IF(I3159= \"\",\"\",VLOOKUP(I3159,会場マスタ!$A:$B,2,FALSE))","v":""}]
["",null,null,null,null,null,null,null,null,{"$f":"IF(I3160= \"\",\"\",VLOOKUP(I3160,会場マスタ!$A:$B,2,FALSE))","v":""}]
["",null,null,null,null,null,null,null,null,{"$f":"IF(I3161= \"\",\"\",VLOOKUP(I3161,会場マスタ!$A:$B,2,FALSE))","v":""}]
["",null,null,null,null,null,null,null,null,{"$f":"IF(I3162= \"\",\"\",VLOOKUP(I3162,会場マスタ!$A:$B,2,FALSE))","v":""}]
["",null,null,null,null,null,null,null,null,{"$f":"IF(I3163= \"\",\"\",VLOOKUP(I3163,会場マスタ!$A:$B,2,FALSE))","v":""}]
["",null,null,null,null,null,null,null,null,{"$f":"IF(I3164= \"\",\"\",VLOOKUP(I3164,会場マスタ!$A:$B,2,FALSE))","v":""}]
["",null,null,null,null,null,null,null,null,{"$f":"IF(I3165= \"\",\"\",VLOOKUP(I3165,会場マスタ!$A:$B,2,FALSE))","v":""}]
["",null,null,null,null,null,null,null,null,{"$f":"IF(I3166= \"\",\"\",VLOOKUP(I3166,会場マスタ!$A:$B,2,FALSE))","v":""}]
["",null,null,null,null,null,null,null,null,{"$f":"IF(I3167= \"\",\"\",VLOOKUP(I3167,会場マスタ!$A:$B,2,FALSE))","v":""}]
["",null,null,null,null,null,null,null,null,{"$f":"IF(I3168= \"\",\"\",VLOOKUP(I3168,会場マスタ!$A:$B,2,FALSE))","v":""}]
["",null,null,null,null,null,null,null,null,{"$f":"IF(I3169= \"\",\"\",VLOOKUP(I3169,会場マスタ!$A:$B,2,FALSE))","v":""}]
["",null,null,null,null,null,null,null,null,{"$f":"IF(I3170= \"\",\"\",VLOOKUP(I3170,会場マスタ!$A:$B,2,FALSE))","v":""}]
["",null,null,null,null,null,null,null,null,{"$f":"IF(I3171= \"\",\"\",VLOOKUP(I3171,会場マスタ!$A:$B,2,FALSE))","v":""}]
["",null,null,null,null,null,null,null,null,{"$f":"IF(I3172= \"\",\"\",VLOOKUP(I3172,会場マスタ!$A:$B,2,FALSE))","v":""}]
["",null,null,null,null,null,null,null,null,{"$f":"IF(I3173= \"\",\"\",VLOOKUP(I3173,会場マスタ!$A:$B,2,FALSE))","v":""}]
["",null,null,null,null,null,null,null,null,{"$f":"IF(I3174= \"\",\"\",VLOOKUP(I3174,会場マスタ!$A:$B,2,FALSE))","v":""}]
["",null,null,null,null,null,null,null,null,{"$f":"IF(I3175= \"\",\"\",VLOOKUP(I3175,会場マスタ!$A:$B,2,FALSE))","v":""}]
["",null,null,null,null,null,null,null,null,{"$f":"IF(I3176= \"\",\"\",VLOOKUP(I3176,会場マスタ!$A:$B,2,FALSE))","v":""}]
["",null,null,null,null,null,null,null,null,{"$f":"IF(I3177= \"\",\"\",VLOOKUP(I3177,会場マスタ!$A:$B,2,FALSE))","v":""}]
["",null,null,null,null,null,null,null,null,{"$f":"IF(I3178= \"\",\"\",VLOOKUP(I3178,会場マスタ!$A:$B,2,FALSE))","v":""}]
["",null,null,null,null,null,null,null,null,{"$f":"IF(I3179= \"\",\"\",VLOOKUP(I3179,会場マスタ!$A:$B,2,FALSE))","v":""}]
["",null,null,null,null,null,null,null,null,{"$f":"IF(I3180= \"\",\"\",VLOOKUP(I3180,会場マスタ!$A:$B,2,FALSE))","v":""}]
["",null,null,null,null,null,null,null,null,{"$f":"IF(I3181= \"\",\"\",VLOOKUP(I3181,会場マスタ!$A:$B,2,FALSE))","v":""}]
["",null,null,null,null,null,null,null,null,{"$f":"IF(I3182= \"\",\"\",VLOOKUP(I3182,会場マスタ!$A:$B,2,FALSE))","v":""}]
["",null,null,null,null,null,null,null,null,{"$f":"IF(I3183= \"\",\"\",VLOOKUP(I3183,会場マスタ!$A:$B,2,FALSE))","v":""}]
["",null,null,null,null,null,null,null,null,{"$f":"IF(I3184= \"\",\"\",VLOOKUP(I3184,会場マスタ!$A:$B,2,FALSE))","v":""}]
["",null,null,null,null,null,null,null,null,{"$f":"IF(I3185= \"\",\"\",VLOOKUP(I3185,会場マスタ!$A:$B,2,FALSE))","v":""}]
["",null,null,null,null,null,null,null,null,{"$f":"IF(I3186= \"\",\"\",VLOOKUP(I3186,会場マスタ!$A:$B,2,FALSE))","v":""}]
["",null,null,null,null,null,null,null,null,{"$f":"IF(I3187= \"\",\"\",VLOOKUP(I3187,会場マスタ!$A:$B,2,FALSE))","v":""}]
["",null,null,null,null,null,null,null,null,{"$f":"IF(I3188= \"\",\"\",VLOOKUP(I3188,会場マスタ!$A:$B,2,FALSE))","v":""}]
["",null,null,null,null,null,null,null,null,{"$f":"IF(I3189= \"\",\"\",VLOOKUP(I3189,会場マスタ!$A:$B,2,FALSE))","v":""}]
["",null,null,null,null,null,null,null,null,{"$f":"IF(I3190= \"\",\"\",VLOOKUP(I3190,会場マスタ!$A:$B,2,FALSE))","v":""}]
["",null,null,null,null,null,null,null,null,{"$f":"IF(I3191= \"\",\"\",VLOOKUP(I3191,会場マスタ!$A:$B,2,FALSE))","v":""}]
["",null,null,null,null,null,null,null,null,{"$f":"IF(I3192= \"\",\"\",VLOOKUP(I3192,会場マスタ!$A:$B,2,FALSE))","v":""}]
["",null,null,null,null,null,null,null,null,{"$f":"IF(I3193= \"\",\"\",VLOOKUP(I3193,会場マスタ!$A:$B,2,FALSE))","v":""}]
["",null,null,null,null,null,null,null,null,{"$f":"IF(I3194= \"\",\"\",VLOOKUP(I3194,会場マスタ!$A:$B,2,FALSE))","v":""}]
["",null,null,null,null,null,null,null,null,{"$f":"IF(I3195= \"\",\"\",VLOOKUP(I3195,会場マスタ!$A:$B,2,FALSE))","v":""}]
["",null,null,null,null,null,null,null,null,{"$f":"IF(I3196= \"\",\"\",VLOOKUP(I3196,会場マスタ!$A:$B,2,FALSE))","v":""}]
["",null,null,null,null,null,null,null,null,{"$f":"IF(I3197= \"\",\"\",VLOOKUP(I3197,会場マスタ!$A:$B,2,FALSE))","v":""}]
["",null,null,null,null,null,null,null,null,{"$f":"IF(I3198= \"\",\"\",VLOOKUP(I3198,会場マスタ!$A:$B,2,FALSE))","v":""}]
["",null,null,null,null,null,null,null,null,{"$f":"IF(I3199= \"\",\"\",VLOOKUP(I3199,会場マスタ!$A:$B,2,FALSE))","v":""}]
["",null,null,null,null,null,null,null,null,{"$f":"IF(I3200= \"\",\"\",VLOOKUP(I3200,会場マスタ!$A:$B,2,FALSE))","v":""}]
["",null,null,null,null,null,null,null,null,{"$f":"IF(I3201= \"\",\"\",VLOOKUP(I3201,会場マスタ!$A:$B,2,FALSE))","v":""}]
["",null,null,null,null,null,null,null,null,{"$f":"IF(I3202= \"\",\"\",VLOOKUP(I3202,会場マスタ!$A:$B,2,FALSE))","v":""}]
["",null,null,null,null,null,null,null,null,{"$f":"IF(I3203= \"\",\"\",VLOOKUP(I3203,会場マスタ!$A:$B,2,FALSE))","v":""}]
["",null,null,null,null,null,null,null,null,{"$f":"IF(I3204= \"\",\"\",VLOOKUP(I3204,会場マスタ!$A:$B,2,FALSE))","v":""}]
["",null,null,null,null,null,null,null,null,{"$f":"IF(I3205= \"\",\"\",VLOOKUP(I3205,会場マスタ!$A:$B,2,FALSE))","v":""}]
["",null,null,null,null,null,null,null,null,{"$f":"IF(I3206= \"\",\"\",VLOOKUP(I3206,会場マスタ!$A:$B,2,FALSE))","v":""}]
[{"$f":"IF(B3207<>\"\",ROW(A3207)-4,\"\")","v":""},null,null,null,null,null,null,null,null,{"$f":"IF(I3207= \"\",\"\",VLOOKUP(I3207,会場マスタ!$A:$B,2,FALSE))","v":""}]
["",null,null,null,null,null,null,null,null,{"$f":"IF(I3208= \"\",\"\",VLOOKUP(I3208,会場マスタ!$A:$B,2,FALSE))","v":""}]
["",null,null,null,null,null,null,null,null,{"$f":"IF(I3209= \"\",\"\",VLOOKUP(I3209,会場マスタ!$A:$B,2,FALSE))","v":""}]
["",null,null,null,null,null,null,null,null,{"$f":"IF(I3210= \"\",\"\",VLOOKUP(I3210,会場マスタ!$A:$B,2,FALSE))","v":""}]
["",null,null,null,null,null,null,null,null,{"$f":"IF(I3211= \"\",\"\",VLOOKUP(I3211,会場マスタ!$A:$B,2,FALSE))","v":""}]
["",null,null,null,null,null,null,null,null,{"$f":"IF(I3212= \"\",\"\",VLOOKUP(I3212,会場マスタ!$A:$B,2,FALSE))","v":""}]
["",null,null,null,null,null,null,null,null,{"$f":"IF(I3213= \"\",\"\",VLOOKUP(I3213,会場マスタ!$A:$B,2,FALSE))","v":""}]
["",null,null,null,null,null,null,null,null,{"$f":"IF(I3214= \"\",\"\",VLOOKUP(I3214,会場マスタ!$A:$B,2,FALSE))","v":""}]
["",null,null,null,null,null,null,null,null,{"$f":"IF(I3215= \"\",\"\",VLOOKUP(I3215,会場マスタ!$A:$B,2,FALSE))","v":""}]
["",null,null,null,null,null,null,null,null,{"$f":"IF(I3216= \"\",\"\",VLOOKUP(I3216,会場マスタ!$A:$B,2,FALSE))","v":""}]
["",null,null,null,null,null,null,null,null,{"$f":"IF(I3217= \"\",\"\",VLOOKUP(I3217,会場マスタ!$A:$B,2,FALSE))","v":""}]
["",null,null,null,null,null,null,null,null,{"$f":"IF(I3218= \"\",\"\",VLOOKUP(I3218,会場マスタ!$A:$B,2,FALSE))","v":""}]
["",null,null,null,null,null,null,null,null,{"$f":"IF(I3219= \"\",\"\",VLOOKUP(I3219,会場マスタ!$A:$B,2,FALSE))","v":""}]
["",null,null,null,null,null,null,null,null,{"$f":"IF(I3220= \"\",\"\",VLOOKUP(I3220,会場マスタ!$A:$B,2,FALSE))","v":""}]
["",null,null,null,null,null,null,null,null,{"$f":"IF(I3221= \"\",\"\",VLOOKUP(I3221,会場マスタ!$A:$B,2,FALSE))","v":""}]
["",null,null,null,null,null,null,null,null,{"$f":"IF(I3222= \"\",\"\",VLOOKUP(I3222,会場マスタ!$A:$B,2,FALSE))","v":""}]
["",null,null,null,null,null,null,null,null,{"$f":"IF(I3223= \"\",\"\",VLOOKUP(I3223,会場マスタ!$A:$B,2,FALSE))","v":""}]
["",null,null,null,null,null,null,null,null,{"$f":"IF(I3224= \"\",\"\",VLOOKUP(I3224,会場マスタ!$A:$B,2,FALSE))","v":""}]
["",null,null,null,null,null,null,null,null,{"$f":"IF(I3225= \"\",\"\",VLOOKUP(I3225,会場マスタ!$A:$B,2,FALSE))","v":""}]
["",null,null,null,null,null,null,null,null,{"$f":"IF(I3226= \"\",\"\",VLOOKUP(I3226,会場マスタ!$A:$B,2,FALSE))","v":""}]
["",null,null,null,null,null,null,null,null,{"$f":"IF(I3227= \"\",\"\",VLOOKUP(I3227,会場マスタ!$A:$B,2,FALSE))","v":""}]
["",null,null,null,null,null,null,null,null,{"$f":"IF(I3228= \"\",\"\",VLOOKUP(I3228,会場マスタ!$A:$B,2,FALSE))","v":""}]
["",null,null,null,null,null,null,null,null,{"$f":"IF(I3229= \"\",\"\",VLOOKUP(I3229,会場マスタ!$A:$B,2,FALSE))","v":""}]
["",null,null,null,null,null,null,null,null,{"$f":"IF(I3230= \"\",\"\",VLOOKUP(I3230,会場マスタ!$A:$B,2,FALSE))","v":""}]
["",null,null,null,null,null,null,null,null,{"$f":"IF(I3231= \"\",\"\",VLOOKUP(I3231,会場マスタ!$A:$B,2,FALSE))","v":""}]
["",null,null,null,null,null,null,null,null,{"$f":"IF(I3232= \"\",\"\",VLOOKUP(I3232,会場マスタ!$A:$B,2,FALSE))","v":""}]
["",null,null,null,null,null,null,null,null,{"$f":"IF(I3233= \"\",\"\",VLOOKUP(I3233,会場マスタ!$A:$B,2,FALSE))","v":""}]
["",null,null,null,null,null,null,null,null,{"$f":"IF(I3234= \"\",\"\",VLOOKUP(I3234,会場マスタ!$A:$B,2,FALSE))","v":""}]
["",null,null,null,null,null,null,null,null,{"$f":"IF(I3235= \"\",\"\",VLOOKUP(I3235,会場マスタ!$A:$B,2,FALSE))","v":""}]
["",null,null,null,null,null,null,null,null,{"$f":"IF(I3236= \"\",\"\",VLOOKUP(I3236,会場マスタ!$A:$B,2,FALSE))","v":""}]
["",null,null,null,null,null,null,null,null,{"$f":"IF(I3237= \"\",\"\",VLOOKUP(I3237,会場マスタ!$A:$B,2,FALSE))","v":""}]
["",null,null,null,null,null,null,null,null,{"$f":"IF(I3238= \"\",\"\",VLOOKUP(I3238,会場マスタ!$A:$B,2,FALSE))","v":""}]
["",null,null,null,null,null,null,null,null,{"$f":"IF(I3239= \"\",\"\",VLOOKUP(I3239,会場マスタ!$A:$B,2,FALSE))","v":""}]
["",null,null,null,null,null,null,null,null,{"$f":"IF(I3240= \"\",\"\",VLOOKUP(I3240,会場マスタ!$A:$B,2,FALSE))","v":""}]
["",null,null,null,null,null,null,null,null,{"$f":"IF(I3241= \"\",\"\",VLOOKUP(I3241,会場マスタ!$A:$B,2,FALSE))","v":""}]
["",null,null,null,null,null,null,null,null,{"$f":"IF(I3242= \"\",\"\",VLOOKUP(I3242,会場マスタ!$A:$B,2,FALSE))","v":""}]
["",null,null,null,null,null,null,null,null,{"$f":"IF(I3243= \"\",\"\",VLOOKUP(I3243,会場マスタ!$A:$B,2,FALSE))","v":""}]
["",null,null,null,null,null,null,null,null,{"$f":"IF(I3244= \"\",\"\",VLOOKUP(I3244,会場マスタ!$A:$B,2,FALSE))","v":""}]
["",null,null,null,null,null,null,null,null,{"$f":"IF(I3245= \"\",\"\",VLOOKUP(I3245,会場マスタ!$A:$B,2,FALSE))","v":""}]
["",null,null,null,null,null,null,null,null,{"$f":"IF(I3246= \"\",\"\",VLOOKUP(I3246,会場マスタ!$A:$B,2,FALSE))","v":""}]
["",null,null,null,null,null,null,null,null,{"$f":"IF(I3247= \"\",\"\",VLOOKUP(I3247,会場マスタ!$A:$B,2,FALSE))","v":""}]
["",null,null,null,null,null,null,null,null,{"$f":"IF(I3248= \"\",\"\",VLOOKUP(I3248,会場マスタ!$A:$B,2,FALSE))","v":""}]
["",null,null,null,null,null,null,null,null,{"$f":"IF(I3249= \"\",\"\",VLOOKUP(I3249,会場マスタ!$A:$B,2,FALSE))","v":""}]
["",null,null,null,null,null,null,null,null,{"$f":"IF(I3250= \"\",\"\",VLOOKUP(I3250,会場マスタ!$A:$B,2,FALSE))","v":""}]
["",null,null,null,null,null,null,null,null,{"$f":"IF(I3251= \"\",\"\",VLOOKUP(I3251,会場マスタ!$A:$B,2,FALSE))","v":""}]
["",null,null,null,null,null,null,null,null,{"$f":"IF(I3252= \"\",\"\",VLOOKUP(I3252,会場マスタ!$A:$B,2,FALSE))","v":""}]
["",null,null,null,null,null,null,null,null,{"$f":"IF(I3253= \"\",\"\",VLOOKUP(I3253,会場マスタ!$A:$B,2,FALSE))","v":""}]
["",null,null,null,null,null,null,null,null,{"$f":"IF(I3254= \"\",\"\",VLOOKUP(I3254,会場マスタ!$A:$B,2,FALSE))","v":""}]
["",null,null,null,null,null,null,null,null,{"$f":"IF(I3255= \"\",\"\",VLOOKUP(I3255,会場マスタ!$A:$B,2,FALSE))","v":""}]
["",null,null,null,null,null,null,null,null,{"$f":"IF(I3256= \"\",\"\",VLOOKUP(I3256,会場マスタ!$A:$B,2,FALSE))","v":""}]
["",null,null,null,null,null,null,null,null,{"$f":"IF(I3257= \"\",\"\",VLOOKUP(I3257,会場マスタ!$A:$B,2,FALSE))","v":""}]
["",null,null,null,null,null,null,null,null,{"$f":"IF(I3258= \"\",\"\",VLOOKUP(I3258,会場マスタ!$A:$B,2,FALSE))","v":""}]
["",null,null,null,null,null,null,null,null,{"$f":"IF(I3259= \"\",\"\",VLOOKUP(I3259,会場マスタ!$A:$B,2,FALSE))","v":""}]
["",null,null,null,null,null,null,null,null,{"$f":"IF(I3260= \"\",\"\",VLOOKUP(I3260,会場マスタ!$A:$B,2,FALSE))","v":""}]
["",null,null,null,null,null,null,null,null,{"$f":"IF(I3261= \"\",\"\",VLOOKUP(I3261,会場マスタ!$A:$B,2,FALSE))","v":""}]
["",null,null,null,null,null,null,null,null,{"$f":"IF(I3262= \"\",\"\",VLOOKUP(I3262,会場マスタ!$A:$B,2,FALSE))","v":""}]
["",null,null,null,null,null,null,null,null,{"$f":"IF(I3263= \"\",\"\",VLOOKUP(I3263,会場マスタ!$A:$B,2,FALSE))","v":""}]
["",null,null,null,null,null,null,null,null,{"$f":"IF(I3264= \"\",\"\",VLOOKUP(I3264,会場マスタ!$A:$B,2,FALSE))","v":""}]
["",null,null,null,null,null,null,null,null,{"$f":"IF(I3265= \"\",\"\",VLOOKUP(I3265,会場マスタ!$A:$B,2,FALSE))","v":""}]
["",null,null,null,null,null,null,null,null,{"$f":"IF(I3266= \"\",\"\",VLOOKUP(I3266,会場マスタ!$A:$B,2,FALSE))","v":""}]
["",null,null,null,null,null,null,null,null,{"$f":"IF(I3267= \"\",\"\",VLOOKUP(I3267,会場マスタ!$A:$B,2,FALSE))","v":""}]
["",null,null,null,null,null,null,null,null,{"$f":"IF(I3268= \"\",\"\",VLOOKUP(I3268,会場マスタ!$A:$B,2,FALSE))","v":""}]
["",null,null,null,null,null,null,null,null,{"$f":"IF(I3269= \"\",\"\",VLOOKUP(I3269,会場マスタ!$A:$B,2,FALSE))","v":""}]
["",null,null,null,null,null,null,null,null,{"$f":"IF(I3270= \"\",\"\",VLOOKUP(I3270,会場マスタ!$A:$B,2,FALSE))","v":""}]
[{"$f":"IF(B3271<>\"\",ROW(A3271)-4,\"\")","v":""},null,null,null,null,null,null,null,null,{"$f":"IF(I3271= \"\",\"\",VLOOKUP(I3271,会場マスタ!$A:$B,2,FALSE))","v":""}]
["",null,null,null,null,null,null,null,null,{"$f":"IF(I3272= \"\",\"\",VLOOKUP(I3272,会場マスタ!$A:$B,2,FALSE))","v":""}]
["",null,null,null,null,null,null,null,null,{"$f":"IF(I3273= \"\",\"\",VLOOKUP(I3273,会場マスタ!$A:$B,2,FALSE))","v":""}]
["",null,null,null,null,null,null,null,null,{"$f":"IF(I3274= \"\",\"\",VLOOKUP(I3274,会場マスタ!$A:$B,2,FALSE))","v":""}]
["",null,null,null,null,null,null,null,null,{"$f":"IF(I3275= \"\",\"\",VLOOKUP(I3275,会場マスタ!$A:$B,2,FALSE))","v":""}]
["",null,null,null,null,null,null,null,null,{"$f":"IF(I3276= \"\",\"\",VLOOKUP(I3276,会場マスタ!$A:$B,2,FALSE))","v":""}]
["",null,null,null,null,null,null,null,null,{"$f":"IF(I3277= \"\",\"\",VLOOKUP(I3277,会場マスタ!$A:$B,2,FALSE))","v":""}]
["",null,null,null,null,null,null,null,null,{"$f":"IF(I3278= \"\",\"\",VLOOKUP(I3278,会場マスタ!$A:$B,2,FALSE))","v":""}]
["",null,null,null,null,null,null,null,null,{"$f":"IF(I3279= \"\",\"\",VLOOKUP(I3279,会場マスタ!$A:$B,2,FALSE))","v":""}]
["",null,null,null,null,null,null,null,null,{"$f":"IF(I3280= \"\",\"\",VLOOKUP(I3280,会場マスタ!$A:$B,2,FALSE))","v":""}]
["",null,null,null,null,null,null,null,null,{"$f":"IF(I3281= \"\",\"\",VLOOKUP(I3281,会場マスタ!$A:$B,2,FALSE))","v":""}]
["",null,null,null,null,null,null,null,null,{"$f":"IF(I3282= \"\",\"\",VLOOKUP(I3282,会場マスタ!$A:$B,2,FALSE))","v":""}]
["",null,null,null,null,null,null,null,null,{"$f":"IF(I3283= \"\",\"\",VLOOKUP(I3283,会場マスタ!$A:$B,2,FALSE))","v":""}]
["",null,null,null,null,null,null,null,null,{"$f":"IF(I3284= \"\",\"\",VLOOKUP(I3284,会場マスタ!$A:$B,2,FALSE))","v":""}]
["",null,null,null,null,null,null,null,null,{"$f":"IF(I3285= \"\",\"\",VLOOKUP(I3285,会場マスタ!$A:$B,2,FALSE))","v":""}]
["",null,null,null,null,null,null,null,null,{"$f":"IF(I3286= \"\",\"\",VLOOKUP(I3286,会場マスタ!$A:$B,2,FALSE))","v":""}]
["",null,null,null,null,null,null,null,null,{"$f":"IF(I3287= \"\",\"\",VLOOKUP(I3287,会場マスタ!$A:$B,2,FALSE))","v":""}]
["",null,null,null,null,null,null,null,null,{"$f":"IF(I3288= \"\",\"\",VLOOKUP(I3288,会場マスタ!$A:$B,2,FALSE))","v":""}]
["",null,null,null,null,null,null,null,null,{"$f":"IF(I3289= \"\",\"\",VLOOKUP(I3289,会場マスタ!$A:$B,2,FALSE))","v":""}]
["",null,null,null,null,null,null,null,null,{"$f":"IF(I3290= \"\",\"\",VLOOKUP(I3290,会場マスタ!$A:$B,2,FALSE))","v":""}]
["",null,null,null,null,null,null,null,null,{"$f":"IF(I3291= \"\",\"\",VLOOKUP(I3291,会場マスタ!$A:$B,2,FALSE))","v":""}]
["",null,null,null,null,null,null,null,null,{"$f":"IF(I3292= \"\",\"\",VLOOKUP(I3292,会場マスタ!$A:$B,2,FALSE))","v":""}]
["",null,null,null,null,null,null,null,null,{"$f":"IF(I3293= \"\",\"\",VLOOKUP(I3293,会場マスタ!$A:$B,2,FALSE))","v":""}]
["",null,null,null,null,null,null,null,null,{"$f":"IF(I3294= \"\",\"\",VLOOKUP(I3294,会場マスタ!$A:$B,2,FALSE))","v":""}]
["",null,null,null,null,null,null,null,null,{"$f":"IF(I3295= \"\",\"\",VLOOKUP(I3295,会場マスタ!$A:$B,2,FALSE))","v":""}]
["",null,null,null,null,null,null,null,null,{"$f":"IF(I3296= \"\",\"\",VLOOKUP(I3296,会場マスタ!$A:$B,2,FALSE))","v":""}]
["",null,null,null,null,null,null,null,null,{"$f":"IF(I3297= \"\",\"\",VLOOKUP(I3297,会場マスタ!$A:$B,2,FALSE))","v":""}]
["",null,null,null,null,null,null,null,null,{"$f":"IF(I3298= \"\",\"\",VLOOKUP(I3298,会場マスタ!$A:$B,2,FALSE))","v":""}]
["",null,null,null,null,null,null,null,null,{"$f":"IF(I3299= \"\",\"\",VLOOKUP(I3299,会場マスタ!$A:$B,2,FALSE))","v":""}]
["",null,null,null,null,null,null,null,null,{"$f":"IF(I3300= \"\",\"\",VLOOKUP(I3300,会場マスタ!$A:$B,2,FALSE))","v":""}]
["",null,null,null,null,null,null,null,null,{"$f":"IF(I3301= \"\",\"\",VLOOKUP(I3301,会場マスタ!$A:$B,2,FALSE))","v":""}]
["",null,null,null,null,null,null,null,null,{"$f":"IF(I3302= \"\",\"\",VLOOKUP(I3302,会場マスタ!$A:$B,2,FALSE))","v":""}]
["",null,null,null,null,null,null,null,null,{"$f":"IF(I3303= \"\",\"\",VLOOKUP(I3303,会場マスタ!$A:$B,2,FALSE))","v":""}]
["",null,null,null,null,null,null,null,null,{"$f":"IF(I3304= \"\",\"\",VLOOKUP(I3304,会場マスタ!$A:$B,2,FALSE))","v":""}]
["",null,null,null,null,null,null,null,null,{"$f":"IF(I3305= \"\",\"\",VLOOKUP(I3305,会場マスタ!$A:$B,2,FALSE))","v":""}]
["",null,null,null,null,null,null,null,null,{"$f":"IF(I3306= \"\",\"\",VLOOKUP(I3306,会場マスタ!$A:$B,2,FALSE))","v":""}]
["",null,null,null,null,null,null,null,null,{"$f":"IF(I3307= \"\",\"\",VLOOKUP(I3307,会場マスタ!$A:$B,2,FALSE))","v":""}]
["",null,null,null,null,null,null,null,null,{"$f":"IF(I3308= \"\",\"\",VLOOKUP(I3308,会場マスタ!$A:$B,2,FALSE))","v":""}]
["",null,null,null,null,null,null,null,null,{"$f":"IF(I3309= \"\",\"\",VLOOKUP(I3309,会場マスタ!$A:$B,2,FALSE))","v":""}]
["",null,null,null,null,null,null,null,null,{"$f":"IF(I3310= \"\",\"\",VLOOKUP(I3310,会場マスタ!$A:$B,2,FALSE))","v":""}]
["",null,null,null,null,null,null,null,null,{"$f":"IF(I3311= \"\",\"\",VLOOKUP(I3311,会場マスタ!$A:$B,2,FALSE))","v":""}]
["",null,null,null,null,null,null,null,null,{"$f":"IF(I3312= \"\",\"\",VLOOKUP(I3312,会場マスタ!$A:$B,2,FALSE))","v":""}]
["",null,null,null,null,null,null,null,null,{"$f":"IF(I3313= \"\",\"\",VLOOKUP(I3313,会場マスタ!$A:$B,2,FALSE))","v":""}]
["",null,null,null,null,null,null,null,null,{"$f":"IF(I3314= \"\",\"\",VLOOKUP(I3314,会場マスタ!$A:$B,2,FALSE))","v":""}]
["",null,null,null,null,null,null,null,null,{"$f":"IF(I3315= \"\",\"\",VLOOKUP(I3315,会場マスタ!$A:$B,2,FALSE))","v":""}]
["",null,null,null,null,null,null,null,null,{"$f":"IF(I3316= \"\",\"\",VLOOKUP(I3316,会場マスタ!$A:$B,2,FALSE))","v":""}]
["",null,null,null,null,null,null,null,null,{"$f":"IF(I3317= \"\",\"\",VLOOKUP(I3317,会場マスタ!$A:$B,2,FALSE))","v":""}]
["",null,null,null,null,null,null,null,null,{"$f":"IF(I3318= \"\",\"\",VLOOKUP(I3318,会場マスタ!$A:$B,2,FALSE))","v":""}]
["",null,null,null,null,null,null,null,null,{"$f":"IF(I3319= \"\",\"\",VLOOKUP(I3319,会場マスタ!$A:$B,2,FALSE))","v":""}]
["",null,null,null,null,null,null,null,null,{"$f":"IF(I3320= \"\",\"\",VLOOKUP(I3320,会場マスタ!$A:$B,2,FALSE))","v":""}]
["",null,null,null,null,null,null,null,null,{"$f":"IF(I3321= \"\",\"\",VLOOKUP(I3321,会場マスタ!$A:$B,2,FALSE))","v":""}]
["",null,null,null,null,null,null,null,null,{"$f":"IF(I3322= \"\",\"\",VLOOKUP(I3322,会場マスタ!$A:$B,2,FALSE))","v":""}]
["",null,null,null,null,null,null,null,null,{"$f":"IF(I3323= \"\",\"\",VLOOKUP(I3323,会場マスタ!$A:$B,2,FALSE))","v":""}]
["",null,null,null,null,null,null,null,null,{"$f":"IF(I3324= \"\",\"\",VLOOKUP(I3324,会場マスタ!$A:$B,2,FALSE))","v":""}]
["",null,null,null,null,null,null,null,null,{"$f":"IF(I3325= \"\",\"\",VLOOKUP(I3325,会場マスタ!$A:$B,2,FALSE))","v":""}]
["",null,null,null,null,null,null,null,null,{"$f":"IF(I3326= \"\",\"\",VLOOKUP(I3326,会場マスタ!$A:$B,2,FALSE))","v":""}]
["",null,null,null,null,null,null,null,null,{"$f":"IF(I3327= \"\",\"\",VLOOKUP(I3327,会場マスタ!$A:$B,2,FALSE))","v":""}]
["",null,null,null,null,null,null,null,null,{"$f":"IF(I3328= \"\",\"\",VLOOKUP(I3328,会場マスタ!$A:$B,2,FALSE))","v":""}]
["",null,null,null,null,null,null,null,null,{"$f":"IF(I3329= \"\",\"\",VLOOKUP(I3329,会場マスタ!$A:$B,2,FALSE))","v":""}]
["",null,null,null,null,null,null,null,null,{"$f":"IF(I3330= \"\",\"\",VLOOKUP(I3330,会場マスタ!$A:$B,2,FALSE))","v":""}]
["",null,null,null,null,null,null,null,null,{"$f":"IF(I3331= \"\",\"\",VLOOKUP(I3331,会場マスタ!$A:$B,2,FALSE))","v":""}]
["",null,null,null,null,null,null,null,null,{"$f":"IF(I3332= \"\",\"\",VLOOKUP(I3332,会場マスタ!$A:$B,2,FALSE))","v":""}]
["",null,null,null,null,null,null,null,null,{"$f":"IF(I3333= \"\",\"\",VLOOKUP(I3333,会場マスタ!$A:$B,2,FALSE))","v":""}]
["",null,null,null,null,null,null,null,null,{"$f":"IF(I3334= \"\",\"\",VLOOKUP(I3334,会場マスタ!$A:$B,2,FALSE))","v":""}]
[{"$f":"IF(B3335<>\"\",ROW(A3335)-4,\"\")","v":""},null,null,null,null,null,null,null,null,{"$f":"IF(I3335= \"\",\"\",VLOOKUP(I3335,会場マスタ!$A:$B,2,FALSE))","v":""}]
["",null,null,null,null,null,null,null,null,{"$f":"IF(I3336= \"\",\"\",VLOOKUP(I3336,会場マスタ!$A:$B,2,FALSE))","v":""}]
["",null,null,null,null,null,null,null,null,{"$f":"IF(I3337= \"\",\"\",VLOOKUP(I3337,会場マスタ!$A:$B,2,FALSE))","v":""}]
["",null,null,null,null,null,null,null,null,{"$f":"IF(I3338= \"\",\"\",VLOOKUP(I3338,会場マスタ!$A:$B,2,FALSE))","v":""}]
["",null,null,null,null,null,null,null,null,{"$f":"IF(I3339= \"\",\"\",VLOOKUP(I3339,会場マスタ!$A:$B,2,FALSE))","v":""}]
["",null,null,null,null,null,null,null,null,{"$f":"IF(I3340= \"\",\"\",VLOOKUP(I3340,会場マスタ!$A:$B,2,FALSE))","v":""}]
["",null,null,null,null,null,null,null,null,{"$f":"IF(I3341= \"\",\"\",VLOOKUP(I3341,会場マスタ!$A:$B,2,FALSE))","v":""}]
["",null,null,null,null,null,null,null,null,{"$f":"IF(I3342= \"\",\"\",VLOOKUP(I3342,会場マスタ!$A:$B,2,FALSE))","v":""}]
["",null,null,null,null,null,null,null,null,{"$f":"IF(I3343= \"\",\"\",VLOOKUP(I3343,会場マスタ!$A:$B,2,FALSE))","v":""}]
["",null,null,null,null,null,null,null,null,{"$f":"IF(I3344= \"\",\"\",VLOOKUP(I3344,会場マスタ!$A:$B,2,FALSE))","v":""}]
["",null,null,null,null,null,null,null,null,{"$f":"IF(I3345= \"\",\"\",VLOOKUP(I3345,会場マスタ!$A:$B,2,FALSE))","v":""}]
["",null,null,null,null,null,null,null,null,{"$f":"IF(I3346= \"\",\"\",VLOOKUP(I3346,会場マスタ!$A:$B,2,FALSE))","v":""}]
["",null,null,null,null,null,null,null,null,{"$f":"IF(I3347= \"\",\"\",VLOOKUP(I3347,会場マスタ!$A:$B,2,FALSE))","v":""}]
["",null,null,null,null,null,null,null,null,{"$f":"IF(I3348= \"\",\"\",VLOOKUP(I3348,会場マスタ!$A:$B,2,FALSE))","v":""}]
["",null,null,null,null,null,null,null,null,{"$f":"IF(I3349= \"\",\"\",VLOOKUP(I3349,会場マスタ!$A:$B,2,FALSE))","v":""}]
["",null,null,null,null,null,null,null,null,{"$f":"IF(I3350= \"\",\"\",VLOOKUP(I3350,会場マスタ!$A:$B,2,FALSE))","v":""}]
["",null,null,null,null,null,null,null,null,{"$f":"IF(I3351= \"\",\"\",VLOOKUP(I3351,会場マスタ!$A:$B,2,FALSE))","v":""}]
["",null,null,null,null,null,null,null,null,{"$f":"IF(I3352= \"\",\"\",VLOOKUP(I3352,会場マスタ!$A:$B,2,FALSE))","v":""}]
["",null,null,null,null,null,null,null,null,{"$f":"IF(I3353= \"\",\"\",VLOOKUP(I3353,会場マスタ!$A:$B,2,FALSE))","v":""}]
["",null,null,null,null,null,null,null,null,{"$f":"IF(I3354= \"\",\"\",VLOOKUP(I3354,会場マスタ!$A:$B,2,FALSE))","v":""}]
["",null,null,null,null,null,null,null,null,{"$f":"IF(I3355= \"\",\"\",VLOOKUP(I3355,会場マスタ!$A:$B,2,FALSE))","v":""}]
["",null,null,null,null,null,null,null,null,{"$f":"IF(I3356= \"\",\"\",VLOOKUP(I3356,会場マスタ!$A:$B,2,FALSE))","v":""}]
["",null,null,null,null,null,null,null,null,{"$f":"IF(I3357= \"\",\"\",VLOOKUP(I3357,会場マスタ!$A:$B,2,FALSE))","v":""}]
["",null,null,null,null,null,null,null,null,{"$f":"IF(I3358= \"\",\"\",VLOOKUP(I3358,会場マスタ!$A:$B,2,FALSE))","v":""}]
["",null,null,null,null,null,null,null,null,{"$f":"IF(I3359= \"\",\"\",VLOOKUP(I3359,会場マスタ!$A:$B,2,FALSE))","v":""}]
["",null,null,null,null,null,null,null,null,{"$f":"IF(I3360= \"\",\"\",VLOOKUP(I3360,会場マスタ!$A:$B,2,FALSE))","v":""}]
["",null,null,null,null,null,null,null,null,{"$f":"IF(I3361= \"\",\"\",VLOOKUP(I3361,会場マスタ!$A:$B,2,FALSE))","v":""}]
["",null,null,null,null,null,null,null,null,{"$f":"IF(I3362= \"\",\"\",VLOOKUP(I3362,会場マスタ!$A:$B,2,FALSE))","v":""}]
["",null,null,null,null,null,null,null,null,{"$f":"IF(I3363= \"\",\"\",VLOOKUP(I3363,会場マスタ!$A:$B,2,FALSE))","v":""}]
["",null,null,null,null,null,null,null,null,{"$f":"IF(I3364= \"\",\"\",VLOOKUP(I3364,会場マスタ!$A:$B,2,FALSE))","v":""}]
["",null,null,null,null,null,null,null,null,{"$f":"IF(I3365= \"\",\"\",VLOOKUP(I3365,会場マスタ!$A:$B,2,FALSE))","v":""}]
["",null,null,null,null,null,null,null,null,{"$f":"IF(I3366= \"\",\"\",VLOOKUP(I3366,会場マスタ!$A:$B,2,FALSE))","v":""}]
["",null,null,null,null,null,null,null,null,{"$f":"IF(I3367= \"\",\"\",VLOOKUP(I3367,会場マスタ!$A:$B,2,FALSE))","v":""}]
["",null,null,null,null,null,null,null,null,{"$f":"IF(I3368= \"\",\"\",VLOOKUP(I3368,会場マスタ!$A:$B,2,FALSE))","v":""}]
["",null,null,null,null,null,null,null,null,{"$f":"IF(I3369= \"\",\"\",VLOOKUP(I3369,会場マスタ!$A:$B,2,FALSE))","v":""}]
["",null,null,null,null,null,null,null,null,{"$f":"IF(I3370= \"\",\"\",VLOOKUP(I3370,会場マスタ!$A:$B,2,FALSE))","v":""}]
["",null,null,null,null,null,null,null,null,{"$f":"IF(I3371= \"\",\"\",VLOOKUP(I3371,会場マスタ!$A:$B,2,FALSE))","v":""}]
["",null,null,null,null,null,null,null,null,{"$f":"IF(I3372= \"\",\"\",VLOOKUP(I3372,会場マスタ!$A:$B,2,FALSE))","v":""}]
["",null,null,null,null,null,null,null,null,{"$f":"IF(I3373= \"\",\"\",VLOOKUP(I3373,会場マスタ!$A:$B,2,FALSE))","v":""}]
["",null,null,null,null,null,null,null,null,{"$f":"IF(I3374= \"\",\"\",VLOOKUP(I3374,会場マスタ!$A:$B,2,FALSE))","v":""}]
["",null,null,null,null,null,null,null,null,{"$f":"IF(I3375= \"\",\"\",VLOOKUP(I3375,会場マスタ!$A:$B,2,FALSE))","v":""}]
["",null,null,null,null,null,null,null,null,{"$f":"IF(I3376= \"\",\"\",VLOOKUP(I3376,会場マスタ!$A:$B,2,FALSE))","v":""}]
["",null,null,null,null,null,null,null,null,{"$f":"IF(I3377= \"\",\"\",VLOOKUP(I3377,会場マスタ!$A:$B,2,FALSE))","v":""}]
["",null,null,null,null,null,null,null,null,{"$f":"IF(I3378= \"\",\"\",VLOOKUP(I3378,会場マスタ!$A:$B,2,FALSE))","v":""}]
["",null,null,null,null,null,null,null,null,{"$f":"IF(I3379= \"\",\"\",VLOOKUP(I3379,会場マスタ!$A:$B,2,FALSE))","v":""}]
["",null,null,null,null,null,null,null,null,{"$f":"IF(I3380= \"\",\"\",VLOOKUP(I3380,会場マスタ!$A:$B,2,FALSE))","v":""}]
["",null,null,null,null,null,null,null,null,{"$f":"IF(I3381= \"\",\"\",VLOOKUP(I3381,会場マスタ!$A:$B,2,FALSE))","v":""}]
["",null,null,null,null,null,null,null,null,{"$f":"IF(I3382= \"\",\"\",VLOOKUP(I3382,会場マスタ!$A:$B,2,FALSE))","v":""}]
["",null,null,null,null,null,null,null,null,{"$f":"IF(I3383= \"\",\"\",VLOOKUP(I3383,会場マスタ!$A:$B,2,FALSE))","v":""}]
["",null,null,null,null,null,null,null,null,{"$f":"IF(I3384= \"\",\"\",VLOOKUP(I3384,会場マスタ!$A:$B,2,FALSE))","v":""}]
["",null,null,null,null,null,null,null,null,{"$f":"IF(I3385= \"\",\"\",VLOOKUP(I3385,会場マスタ!$A:$B,2,FALSE))","v":""}]
["",null,null,null,null,null,null,null,null,{"$f":"IF(I3386= \"\",\"\",VLOOKUP(I3386,会場マスタ!$A:$B,2,FALSE))","v":""}]
["",null,null,null,null,null,null,null,null,{"$f":"IF(I3387= \"\",\"\",VLOOKUP(I3387,会場マスタ!$A:$B,2,FALSE))","v":""}]
["",null,null,null,null,null,null,null,null,{"$f":"IF(I3388= \"\",\"\",VLOOKUP(I3388,会場マスタ!$A:$B,2,FALSE))","v":""}]
["",null,null,null,null,null,null,null,null,{"$f":"IF(I3389= \"\",\"\",VLOOKUP(I3389,会場マスタ!$A:$B,2,FALSE))","v":""}]
["",null,null,null,null,null,null,null,null,{"$f":"IF(I3390= \"\",\"\",VLOOKUP(I3390,会場マスタ!$A:$B,2,FALSE))","v":""}]
["",null,null,null,null,null,null,null,null,{"$f":"IF(I3391= \"\",\"\",VLOOKUP(I3391,会場マスタ!$A:$B,2,FALSE))","v":""}]
["",null,null,null,null,null,null,null,null,{"$f":"IF(I3392= \"\",\"\",VLOOKUP(I3392,会場マスタ!$A:$B,2,FALSE))","v":""}]
["",null,null,null,null,null,null,null,null,{"$f":"IF(I3393= \"\",\"\",VLOOKUP(I3393,会場マスタ!$A:$B,2,FALSE))","v":""}]
["",null,null,null,null,null,null,null,null,{"$f":"IF(I3394= \"\",\"\",VLOOKUP(I3394,会場マスタ!$A:$B,2,FALSE))","v":""}]
["",null,null,null,null,null,null,null,null,{"$f":"IF(I3395= \"\",\"\",VLOOKUP(I3395,会場マスタ!$A:$B,2,FALSE))","v":""}]
["",null,null,null,null,null,null,null,null,{"$f":"IF(I3396= \"\",\"\",VLOOKUP(I3396,会場マスタ!$A:$B,2,FALSE))","v":""}]
["",null,null,null,null,null,null,null,null,{"$f":"IF(I3397= \"\",\"\",VLOOKUP(I3397,会場マスタ!$A:$B,2,FALSE))","v":""}]
["",null,null,null,null,null,null,null,null,{"$f":"IF(I3398= \"\",\"\",VLOOKUP(I3398,会場マスタ!$A:$B,2,FALSE))","v":""}]
[{"$f":"IF(B3399<>\"\",ROW(A3399)-4,\"\")","v":""},null,null,null,null,null,null,null,null,{"$f":"IF(I3399= \"\",\"\",VLOOKUP(I3399,会場マスタ!$A:$B,2,FALSE))","v":""}]
["",null,null,null,null,null,null,null,null,{"$f":"IF(I3400= \"\",\"\",VLOOKUP(I3400,会場マスタ!$A:$B,2,FALSE))","v":""}]
["",null,null,null,null,null,null,null,null,{"$f":"IF(I3401= \"\",\"\",VLOOKUP(I3401,会場マスタ!$A:$B,2,FALSE))","v":""}]
["",null,null,null,null,null,null,null,null,{"$f":"IF(I3402= \"\",\"\",VLOOKUP(I3402,会場マスタ!$A:$B,2,FALSE))","v":""}]
["",null,null,null,null,null,null,null,null,{"$f":"IF(I3403= \"\",\"\",VLOOKUP(I3403,会場マスタ!$A:$B,2,FALSE))","v":""}]
["",null,null,null,null,null,null,null,null,{"$f":"IF(I3404= \"\",\"\",VLOOKUP(I3404,会場マスタ!$A:$B,2,FALSE))","v":""}]
["",null,null,null,null,null,null,null,null,{"$f":"IF(I3405= \"\",\"\",VLOOKUP(I3405,会場マスタ!$A:$B,2,FALSE))","v":""}]
["",null,null,null,null,null,null,null,null,{"$f":"IF(I3406= \"\",\"\",VLOOKUP(I3406,会場マスタ!$A:$B,2,FALSE))","v":""}]
["",null,null,null,null,null,null,null,null,{"$f":"IF(I3407= \"\",\"\",VLOOKUP(I3407,会場マスタ!$A:$B,2,FALSE))","v":""}]
["",null,null,null,null,null,null,null,null,{"$f":"IF(I3408= \"\",\"\",VLOOKUP(I3408,会場マスタ!$A:$B,2,FALSE))","v":""}]
["",null,null,null,null,null,null,null,null,{"$f":"IF(I3409= \"\",\"\",VLOOKUP(I3409,会場マスタ!$A:$B,2,FALSE))","v":""}]
["",null,null,null,null,null,null,null,null,{"$f":"IF(I3410= \"\",\"\",VLOOKUP(I3410,会場マスタ!$A:$B,2,FALSE))","v":""}]
["",null,null,null,null,null,null,null,null,{"$f":"IF(I3411= \"\",\"\",VLOOKUP(I3411,会場マスタ!$A:$B,2,FALSE))","v":""}]
["",null,null,null,null,null,null,null,null,{"$f":"IF(I3412= \"\",\"\",VLOOKUP(I3412,会場マスタ!$A:$B,2,FALSE))","v":""}]
["",null,null,null,null,null,null,null,null,{"$f":"IF(I3413= \"\",\"\",VLOOKUP(I3413,会場マスタ!$A:$B,2,FALSE))","v":""}]
["",null,null,null,null,null,null,null,null,{"$f":"IF(I3414= \"\",\"\",VLOOKUP(I3414,会場マスタ!$A:$B,2,FALSE))","v":""}]
["",null,null,null,null,null,null,null,null,{"$f":"IF(I3415= \"\",\"\",VLOOKUP(I3415,会場マスタ!$A:$B,2,FALSE))","v":""}]
["",null,null,null,null,null,null,null,null,{"$f":"IF(I3416= \"\",\"\",VLOOKUP(I3416,会場マスタ!$A:$B,2,FALSE))","v":""}]
["",null,null,null,null,null,null,null,null,{"$f":"IF(I3417= \"\",\"\",VLOOKUP(I3417,会場マスタ!$A:$B,2,FALSE))","v":""}]
["",null,null,null,null,null,null,null,null,{"$f":"IF(I3418= \"\",\"\",VLOOKUP(I3418,会場マスタ!$A:$B,2,FALSE))","v":""}]
["",null,null,null,null,null,null,null,null,{"$f":"IF(I3419= \"\",\"\",VLOOKUP(I3419,会場マスタ!$A:$B,2,FALSE))","v":""}]
["",null,null,null,null,null,null,null,null,{"$f":"IF(I3420= \"\",\"\",VLOOKUP(I3420,会場マスタ!$A:$B,2,FALSE))","v":""}]
["",null,null,null,null,null,null,null,null,{"$f":"IF(I3421= \"\",\"\",VLOOKUP(I3421,会場マスタ!$A:$B,2,FALSE))","v":""}]
["",null,null,null,null,null,null,null,null,{"$f":"IF(I3422= \"\",\"\",VLOOKUP(I3422,会場マスタ!$A:$B,2,FALSE))","v":""}]
["",null,null,null,null,null,null,null,null,{"$f":"IF(I3423= \"\",\"\",VLOOKUP(I3423,会場マスタ!$A:$B,2,FALSE))","v":""}]
["",null,null,null,null,null,null,null,null,{"$f":"IF(I3424= \"\",\"\",VLOOKUP(I3424,会場マスタ!$A:$B,2,FALSE))","v":""}]
["",null,null,null,null,null,null,null,null,{"$f":"IF(I3425= \"\",\"\",VLOOKUP(I3425,会場マスタ!$A:$B,2,FALSE))","v":""}]
["",null,null,null,null,null,null,null,null,{"$f":"IF(I3426= \"\",\"\",VLOOKUP(I3426,会場マスタ!$A:$B,2,FALSE))","v":""}]
["",null,null,null,null,null,null,null,null,{"$f":"IF(I3427= \"\",\"\",VLOOKUP(I3427,会場マスタ!$A:$B,2,FALSE))","v":""}]
["",null,null,null,null,null,null,null,null,{"$f":"IF(I3428= \"\",\"\",VLOOKUP(I3428,会場マスタ!$A:$B,2,FALSE))","v":""}]
["",null,null,null,null,null,null,null,null,{"$f":"IF(I3429= \"\",\"\",VLOOKUP(I3429,会場マスタ!$A:$B,2,FALSE))","v":""}]
["",null,null,null,null,null,null,null,null,{"$f":"IF(I3430= \"\",\"\",VLOOKUP(I3430,会場マスタ!$A:$B,2,FALSE))","v":""}]
["",null,null,null,null,null,null,null,null,{"$f":"IF(I3431= \"\",\"\",VLOOKUP(I3431,会場マスタ!$A:$B,2,FALSE))","v":""}]
["",null,null,null,null,null,null,null,null,{"$f":"IF(I3432= \"\",\"\",VLOOKUP(I3432,会場マスタ!$A:$B,2,FALSE))","v":""}]
["",null,null,null,null,null,null,null,null,{"$f":"IF(I3433= \"\",\"\",VLOOKUP(I3433,会場マスタ!$A:$B,2,FALSE))","v":""}]
["",null,null,null,null,null,null,null,null,{"$f":"IF(I3434= \"\",\"\",VLOOKUP(I3434,会場マスタ!$A:$B,2,FALSE))","v":""}]
["",null,null,null,null,null,null,null,null,{"$f":"IF(I3435= \"\",\"\",VLOOKUP(I3435,会場マスタ!$A:$B,2,FALSE))","v":""}]
["",null,null,null,null,null,null,null,null,{"$f":"IF(I3436= \"\",\"\",VLOOKUP(I3436,会場マスタ!$A:$B,2,FALSE))","v":""}]
["",null,null,null,null,null,null,null,null,{"$f":"IF(I3437= \"\",\"\",VLOOKUP(I3437,会場マスタ!$A:$B,2,FALSE))","v":""}]
["",null,null,null,null,null,null,null,null,{"$f":"IF(I3438= \"\",\"\",VLOOKUP(I3438,会場マスタ!$A:$B,2,FALSE))","v":""}]
["",null,null,null,null,null,null,null,null,{"$f":"IF(I3439= \"\",\"\",VLOOKUP(I3439,会場マスタ!$A:$B,2,FALSE))","v":""}]
["",null,null,null,null,null,null,null,null,{"$f":"IF(I3440= \"\",\"\",VLOOKUP(I3440,会場マスタ!$A:$B,2,FALSE))","v":""}]
["",null,null,null,null,null,null,null,null,{"$f":"IF(I3441= \"\",\"\",VLOOKUP(I3441,会場マスタ!$A:$B,2,FALSE))","v":""}]
["",null,null,null,null,null,null,null,null,{"$f":"IF(I3442= \"\",\"\",VLOOKUP(I3442,会場マスタ!$A:$B,2,FALSE))","v":""}]
["",null,null,null,null,null,null,null,null,{"$f":"IF(I3443= \"\",\"\",VLOOKUP(I3443,会場マスタ!$A:$B,2,FALSE))","v":""}]
["",null,null,null,null,null,null,null,null,{"$f":"IF(I3444= \"\",\"\",VLOOKUP(I3444,会場マスタ!$A:$B,2,FALSE))","v":""}]
["",null,null,null,null,null,null,null,null,{"$f":"IF(I3445= \"\",\"\",VLOOKUP(I3445,会場マスタ!$A:$B,2,FALSE))","v":""}]
["",null,null,null,null,null,null,null,null,{"$f":"IF(I3446= \"\",\"\",VLOOKUP(I3446,会場マスタ!$A:$B,2,FALSE))","v":""}]
["",null,null,null,null,null,null,null,null,{"$f":"IF(I3447= \"\",\"\",VLOOKUP(I3447,会場マスタ!$A:$B,2,FALSE))","v":""}]
["",null,null,null,null,null,null,null,null,{"$f":"IF(I3448= \"\",\"\",VLOOKUP(I3448,会場マスタ!$A:$B,2,FALSE))","v":""}]
["",null,null,null,null,null,null,null,null,{"$f":"IF(I3449= \"\",\"\",VLOOKUP(I3449,会場マスタ!$A:$B,2,FALSE))","v":""}]
["",null,null,null,null,null,null,null,null,{"$f":"IF(I3450= \"\",\"\",VLOOKUP(I3450,会場マスタ!$A:$B,2,FALSE))","v":""}]
["",null,null,null,null,null,null,null,null,{"$f":"IF(I3451= \"\",\"\",VLOOKUP(I3451,会場マスタ!$A:$B,2,FALSE))","v":""}]
["",null,null,null,null,null,null,null,null,{"$f":"IF(I3452= \"\",\"\",VLOOKUP(I3452,会場マスタ!$A:$B,2,FALSE))","v":""}]
["",null,null,null,null,null,null,null,null,{"$f":"IF(I3453= \"\",\"\",VLOOKUP(I3453,会場マスタ!$A:$B,2,FALSE))","v":""}]
["",null,null,null,null,null,null,null,null,{"$f":"IF(I3454= \"\",\"\",VLOOKUP(I3454,会場マスタ!$A:$B,2,FALSE))","v":""}]
["",null,null,null,null,null,null,null,null,{"$f":"IF(I3455= \"\",\"\",VLOOKUP(I3455,会場マスタ!$A:$B,2,FALSE))","v":""}]
["",null,null,null,null,null,null,null,null,{"$f":"IF(I3456= \"\",\"\",VLOOKUP(I3456,会場マスタ!$A:$B,2,FALSE))","v":""}]
["",null,null,null,null,null,null,null,null,{"$f":"IF(I3457= \"\",\"\",VLOOKUP(I3457,会場マスタ!$A:$B,2,FALSE))","v":""}]
["",null,null,null,null,null,null,null,null,{"$f":"IF(I3458= \"\",\"\",VLOOKUP(I3458,会場マスタ!$A:$B,2,FALSE))","v":""}]
["",null,null,null,null,null,null,null,null,{"$f":"IF(I3459= \"\",\"\",VLOOKUP(I3459,会場マスタ!$A:$B,2,FALSE))","v":""}]
["",null,null,null,null,null,null,null,null,{"$f":"IF(I3460= \"\",\"\",VLOOKUP(I3460,会場マスタ!$A:$B,2,FALSE))","v":""}]
["",null,null,null,null,null,null,null,null,{"$f":"IF(I3461= \"\",\"\",VLOOKUP(I3461,会場マスタ!$A:$B,2,FALSE))","v":""}]
["",null,null,null,null,null,null,null,null,{"$f":"IF(I3462= \"\",\"\",VLOOKUP(I3462,会場マスタ!$A:$B,2,FALSE))","v":""}]
[{"$f":"IF(B3463<>\"\",ROW(A3463)-4,\"\")","v":""},null,null,null,null,null,null,null,null,{"$f":"IF(I3463= \"\",\"\",VLOOKUP(I3463,会場マスタ!$A:$B,2,FALSE))","v":""}]
["",null,null,null,null,null,null,null,null,{"$f":"IF(I3464= \"\",\"\",VLOOKUP(I3464,会場マスタ!$A:$B,2,FALSE))","v":""}]
["",null,null,null,null,null,null,null,null,{"$f":"IF(I3465= \"\",\"\",VLOOKUP(I3465,会場マスタ!$A:$B,2,FALSE))","v":""}]
["",null,null,null,null,null,null,null,null,{"$f":"IF(I3466= \"\",\"\",VLOOKUP(I3466,会場マスタ!$A:$B,2,FALSE))","v":""}]
["",null,null,null,null,null,null,null,null,{"$f":"IF(I3467= \"\",\"\",VLOOKUP(I3467,会場マスタ!$A:$B,2,FALSE))","v":""}]
["",null,null,null,null,null,null,null,null,{"$f":"IF(I3468= \"\",\"\",VLOOKUP(I3468,会場マスタ!$A:$B,2,FALSE))","v":""}]
["",null,null,null,null,null,null,null,null,{"$f":"IF(I3469= \"\",\"\",VLOOKUP(I3469,会場マスタ!$A:$B,2,FALSE))","v":""}]
["",null,null,null,null,null,null,null,null,{"$f":"IF(I3470= \"\",\"\",VLOOKUP(I3470,会場マスタ!$A:$B,2,FALSE))","v":""}]
["",null,null,null,null,null,null,null,null,{"$f":"IF(I3471= \"\",\"\",VLOOKUP(I3471,会場マスタ!$A:$B,2,FALSE))","v":""}]
["",null,null,null,null,null,null,null,null,{"$f":"IF(I3472= \"\",\"\",VLOOKUP(I3472,会場マスタ!$A:$B,2,FALSE))","v":""}]
["",null,null,null,null,null,null,null,null,{"$f":"IF(I3473= \"\",\"\",VLOOKUP(I3473,会場マスタ!$A:$B,2,FALSE))","v":""}]
["",null,null,null,null,null,null,null,null,{"$f":"IF(I3474= \"\",\"\",VLOOKUP(I3474,会場マスタ!$A:$B,2,FALSE))","v":""}]
["",null,null,null,null,null,null,null,null,{"$f":"IF(I3475= \"\",\"\",VLOOKUP(I3475,会場マスタ!$A:$B,2,FALSE))","v":""}]
["",null,null,null,null,null,null,null,null,{"$f":"IF(I3476= \"\",\"\",VLOOKUP(I3476,会場マスタ!$A:$B,2,FALSE))","v":""}]
["",null,null,null,null,null,null,null,null,{"$f":"IF(I3477= \"\",\"\",VLOOKUP(I3477,会場マスタ!$A:$B,2,FALSE))","v":""}]
["",null,null,null,null,null,null,null,null,{"$f":"IF(I3478= \"\",\"\",VLOOKUP(I3478,会場マスタ!$A:$B,2,FALSE))","v":""}]
["",null,null,null,null,null,null,null,null,{"$f":"IF(I3479= \"\",\"\",VLOOKUP(I3479,会場マスタ!$A:$B,2,FALSE))","v":""}]
["",null,null,null,null,null,null,null,null,{"$f":"IF(I3480= \"\",\"\",VLOOKUP(I3480,会場マスタ!$A:$B,2,FALSE))","v":""}]
["",null,null,null,null,null,null,null,null,{"$f":"IF(I3481= \"\",\"\",VLOOKUP(I3481,会場マスタ!$A:$B,2,FALSE))","v":""}]
["",null,null,null,null,null,null,null,null,{"$f":"IF(I3482= \"\",\"\",VLOOKUP(I3482,会場マスタ!$A:$B,2,FALSE))","v":""}]
["",null,null,null,null,null,null,null,null,{"$f":"IF(I3483= \"\",\"\",VLOOKUP(I3483,会場マスタ!$A:$B,2,FALSE))","v":""}]
["",null,null,null,null,null,null,null,null,{"$f":"IF(I3484= \"\",\"\",VLOOKUP(I3484,会場マスタ!$A:$B,2,FALSE))","v":""}]
["",null,null,null,null,null,null,null,null,{"$f":"IF(I3485= \"\",\"\",VLOOKUP(I3485,会場マスタ!$A:$B,2,FALSE))","v":""}]
["",null,null,null,null,null,null,null,null,{"$f":"IF(I3486= \"\",\"\",VLOOKUP(I3486,会場マスタ!$A:$B,2,FALSE))","v":""}]
["",null,null,null,null,null,null,null,null,{"$f":"IF(I3487= \"\",\"\",VLOOKUP(I3487,会場マスタ!$A:$B,2,FALSE))","v":""}]
["",null,null,null,null,null,null,null,null,{"$f":"IF(I3488= \"\",\"\",VLOOKUP(I3488,会場マスタ!$A:$B,2,FALSE))","v":""}]
["",null,null,null,null,null,null,null,null,{"$f":"IF(I3489= \"\",\"\",VLOOKUP(I3489,会場マスタ!$A:$B,2,FALSE))","v":""}]
["",null,null,null,null,null,null,null,null,{"$f":"IF(I3490= \"\",\"\",VLOOKUP(I3490,会場マスタ!$A:$B,2,FALSE))","v":""}]
["",null,null,null,null,null,null,null,null,{"$f":"IF(I3491= \"\",\"\",VLOOKUP(I3491,会場マスタ!$A:$B,2,FALSE))","v":""}]
["",null,null,null,null,null,null,null,null,{"$f":"IF(I3492= \"\",\"\",VLOOKUP(I3492,会場マスタ!$A:$B,2,FALSE))","v":""}]
["",null,null,null,null,null,null,null,null,{"$f":"IF(I3493= \"\",\"\",VLOOKUP(I3493,会場マスタ!$A:$B,2,FALSE))","v":""}]
["",null,null,null,null,null,null,null,null,{"$f":"IF(I3494= \"\",\"\",VLOOKUP(I3494,会場マスタ!$A:$B,2,FALSE))","v":""}]
["",null,null,null,null,null,null,null,null,{"$f":"IF(I3495= \"\",\"\",VLOOKUP(I3495,会場マスタ!$A:$B,2,FALSE))","v":""}]
["",null,null,null,null,null,null,null,null,{"$f":"IF(I3496= \"\",\"\",VLOOKUP(I3496,会場マスタ!$A:$B,2,FALSE))","v":""}]
["",null,null,null,null,null,null,null,null,{"$f":"IF(I3497= \"\",\"\",VLOOKUP(I3497,会場マスタ!$A:$B,2,FALSE))","v":""}]
["",null,null,null,null,null,null,null,null,{"$f":"IF(I3498= \"\",\"\",VLOOKUP(I3498,会場マスタ!$A:$B,2,FALSE))","v":""}]
["",null,null,null,null,null,null,null,null,{"$f":"IF(I3499= \"\",\"\",VLOOKUP(I3499,会場マスタ!$A:$B,2,FALSE))","v":""}]
["",null,null,null,null,null,null,null,null,{"$f":"IF(I3500= \"\",\"\",VLOOKUP(I3500,会場マスタ!$A:$B,2,FALSE))","v":""}]
["",null,null,null,null,null,null,null,null,{"$f":"IF(I3501= \"\",\"\",VLOOKUP(I3501,会場マスタ!$A:$B,2,FALSE))","v":""}]
["",null,null,null,null,null,null,null,null,{"$f":"IF(I3502= \"\",\"\",VLOOKUP(I3502,会場マスタ!$A:$B,2,FALSE))","v":""}]
["",null,null,null,null,null,null,null,null,{"$f":"IF(I3503= \"\",\"\",VLOOKUP(I3503,会場マスタ!$A:$B,2,FALSE))","v":""}]
["",null,null,null,null,null,null,null,null,{"$f":"IF(I3504= \"\",\"\",VLOOKUP(I3504,会場マスタ!$A:$B,2,FALSE))","v":""}]
["",null,null,null,null,null,null,null,null,{"$f":"IF(I3505= \"\",\"\",VLOOKUP(I3505,会場マスタ!$A:$B,2,FALSE))","v":""}]
["",null,null,null,null,null,null,null,null,{"$f":"IF(I3506= \"\",\"\",VLOOKUP(I3506,会場マスタ!$A:$B,2,FALSE))","v":""}]
["",null,null,null,null,null,null,null,null,{"$f":"IF(I3507= \"\",\"\",VLOOKUP(I3507,会場マスタ!$A:$B,2,FALSE))","v":""}]
["",null,null,null,null,null,null,null,null,{"$f":"IF(I3508= \"\",\"\",VLOOKUP(I3508,会場マスタ!$A:$B,2,FALSE))","v":""}]
["",null,null,null,null,null,null,null,null,{"$f":"IF(I3509= \"\",\"\",VLOOKUP(I3509,会場マスタ!$A:$B,2,FALSE))","v":""}]
["",null,null,null,null,null,null,null,null,{"$f":"IF(I3510= \"\",\"\",VLOOKUP(I3510,会場マスタ!$A:$B,2,FALSE))","v":""}]
["",null,null,null,null,null,null,null,null,{"$f":"IF(I3511= \"\",\"\",VLOOKUP(I3511,会場マスタ!$A:$B,2,FALSE))","v":""}]
["",null,null,null,null,null,null,null,null,{"$f":"IF(I3512= \"\",\"\",VLOOKUP(I3512,会場マスタ!$A:$B,2,FALSE))","v":""}]
["",null,null,null,null,null,null,null,null,{"$f":"IF(I3513= \"\",\"\",VLOOKUP(I3513,会場マスタ!$A:$B,2,FALSE))","v":""}]
["",null,null,null,null,null,null,null,null,{"$f":"IF(I3514= \"\",\"\",VLOOKUP(I3514,会場マスタ!$A:$B,2,FALSE))","v":""}]
["",null,null,null,null,null,null,null,null,{"$f":"IF(I3515= \"\",\"\",VLOOKUP(I3515,会場マスタ!$A:$B,2,FALSE))","v":""}]
["",null,null,null,null,null,null,null,null,{"$f":"IF(I3516= \"\",\"\",VLOOKUP(I3516,会場マスタ!$A:$B,2,FALSE))","v":""}]
["",null,null,null,null,null,null,null,null,{"$f":"IF(I3517= \"\",\"\",VLOOKUP(I3517,会場マスタ!$A:$B,2,FALSE))","v":""}]
["",null,null,null,null,null,null,null,null,{"$f":"IF(I3518= \"\",\"\",VLOOKUP(I3518,会場マスタ!$A:$B,2,FALSE))","v":""}]
["",null,null,null,null,null,null,null,null,{"$f":"IF(I3519= \"\",\"\",VLOOKUP(I3519,会場マスタ!$A:$B,2,FALSE))","v":""}]
["",null,null,null,null,null,null,null,null,{"$f":"IF(I3520= \"\",\"\",VLOOKUP(I3520,会場マスタ!$A:$B,2,FALSE))","v":""}]
["",null,null,null,null,null,null,null,null,{"$f":"IF(I3521= \"\",\"\",VLOOKUP(I3521,会場マスタ!$A:$B,2,FALSE))","v":""}]
["",null,null,null,null,null,null,null,null,{"$f":"IF(I3522= \"\",\"\",VLOOKUP(I3522,会場マスタ!$A:$B,2,FALSE))","v":""}]
["",null,null,null,null,null,null,null,null,{"$f":"IF(I3523= \"\",\"\",VLOOKUP(I3523,会場マスタ!$A:$B,2,FALSE))","v":""}]
["",null,null,null,null,null,null,null,null,{"$f":"IF(I3524= \"\",\"\",VLOOKUP(I3524,会場マスタ!$A:$B,2,FALSE))","v":""}]
["",null,null,null,null,null,null,null,null,{"$f":"IF(I3525= \"\",\"\",VLOOKUP(I3525,会場マスタ!$A:$B,2,FALSE))","v":""}]
["",null,null,null,null,null,null,null,null,{"$f":"IF(I3526= \"\",\"\",VLOOKUP(I3526,会場マスタ!$A:$B,2,FALSE))","v":""}]
[{"$f":"IF(B3527<>\"\",ROW(A3527)-4,\"\")","v":""},null,null,null,null,null,null,null,null,{"$f":"IF(I3527= \"\",\"\",VLOOKUP(I3527,会場マスタ!$A:$B,2,FALSE))","v":""}]
["",null,null,null,null,null,null,null,null,{"$f":"IF(I3528= \"\",\"\",VLOOKUP(I3528,会場マスタ!$A:$B,2,FALSE))","v":""}]
["",null,null,null,null,null,null,null,null,{"$f":"IF(I3529= \"\",\"\",VLOOKUP(I3529,会場マスタ!$A:$B,2,FALSE))","v":""}]
["",null,null,null,null,null,null,null,null,{"$f":"IF(I3530= \"\",\"\",VLOOKUP(I3530,会場マスタ!$A:$B,2,FALSE))","v":""}]
["",null,null,null,null,null,null,null,null,{"$f":"IF(I3531= \"\",\"\",VLOOKUP(I3531,会場マスタ!$A:$B,2,FALSE))","v":""}]
["",null,null,null,null,null,null,null,null,{"$f":"IF(I3532= \"\",\"\",VLOOKUP(I3532,会場マスタ!$A:$B,2,FALSE))","v":""}]
["",null,null,null,null,null,null,null,null,{"$f":"IF(I3533= \"\",\"\",VLOOKUP(I3533,会場マスタ!$A:$B,2,FALSE))","v":""}]
["",null,null,null,null,null,null,null,null,{"$f":"IF(I3534= \"\",\"\",VLOOKUP(I3534,会場マスタ!$A:$B,2,FALSE))","v":""}]
["",null,null,null,null,null,null,null,null,{"$f":"IF(I3535= \"\",\"\",VLOOKUP(I3535,会場マスタ!$A:$B,2,FALSE))","v":""}]
["",null,null,null,null,null,null,null,null,{"$f":"IF(I3536= \"\",\"\",VLOOKUP(I3536,会場マスタ!$A:$B,2,FALSE))","v":""}]
["",null,null,null,null,null,null,null,null,{"$f":"IF(I3537= \"\",\"\",VLOOKUP(I3537,会場マスタ!$A:$B,2,FALSE))","v":""}]
["",null,null,null,null,null,null,null,null,{"$f":"IF(I3538= \"\",\"\",VLOOKUP(I3538,会場マスタ!$A:$B,2,FALSE))","v":""}]
["",null,null,null,null,null,null,null,null,{"$f":"IF(I3539= \"\",\"\",VLOOKUP(I3539,会場マスタ!$A:$B,2,FALSE))","v":""}]
["",null,null,null,null,null,null,null,null,{"$f":"IF(I3540= \"\",\"\",VLOOKUP(I3540,会場マスタ!$A:$B,2,FALSE))","v":""}]
["",null,null,null,null,null,null,null,null,{"$f":"IF(I3541= \"\",\"\",VLOOKUP(I3541,会場マスタ!$A:$B,2,FALSE))","v":""}]
["",null,null,null,null,null,null,null,null,{"$f":"IF(I3542= \"\",\"\",VLOOKUP(I3542,会場マスタ!$A:$B,2,FALSE))","v":""}]
["",null,null,null,null,null,null,null,null,{"$f":"IF(I3543= \"\",\"\",VLOOKUP(I3543,会場マスタ!$A:$B,2,FALSE))","v":""}]
["",null,null,null,null,null,null,null,null,{"$f":"IF(I3544= \"\",\"\",VLOOKUP(I3544,会場マスタ!$A:$B,2,FALSE))","v":""}]
["",null,null,null,null,null,null,null,null,{"$f":"IF(I3545= \"\",\"\",VLOOKUP(I3545,会場マスタ!$A:$B,2,FALSE))","v":""}]
["",null,null,null,null,null,null,null,null,{"$f":"IF(I3546= \"\",\"\",VLOOKUP(I3546,会場マスタ!$A:$B,2,FALSE))","v":""}]
["",null,null,null,null,null,null,null,null,{"$f":"IF(I3547= \"\",\"\",VLOOKUP(I3547,会場マスタ!$A:$B,2,FALSE))","v":""}]
["",null,null,null,null,null,null,null,null,{"$f":"IF(I3548= \"\",\"\",VLOOKUP(I3548,会場マスタ!$A:$B,2,FALSE))","v":""}]
["",null,null,null,null,null,null,null,null,{"$f":"IF(I3549= \"\",\"\",VLOOKUP(I3549,会場マスタ!$A:$B,2,FALSE))","v":""}]
["",null,null,null,null,null,null,null,null,{"$f":"IF(I3550= \"\",\"\",VLOOKUP(I3550,会場マスタ!$A:$B,2,FALSE))","v":""}]
["",null,null,null,null,null,null,null,null,{"$f":"IF(I3551= \"\",\"\",VLOOKUP(I3551,会場マスタ!$A:$B,2,FALSE))","v":""}]
["",null,null,null,null,null,null,null,null,{"$f":"IF(I3552= \"\",\"\",VLOOKUP(I3552,会場マスタ!$A:$B,2,FALSE))","v":""}]
["",null,null,null,null,null,null,null,null,{"$f":"IF(I3553= \"\",\"\",VLOOKUP(I3553,会場マスタ!$A:$B,2,FALSE))","v":""}]
["",null,null,null,null,null,null,null,null,{"$f":"IF(I3554= \"\",\"\",VLOOKUP(I3554,会場マスタ!$A:$B,2,FALSE))","v":""}]
["",null,null,null,null,null,null,null,null,{"$f":"IF(I3555= \"\",\"\",VLOOKUP(I3555,会場マスタ!$A:$B,2,FALSE))","v":""}]
["",null,null,null,null,null,null,null,null,{"$f":"IF(I3556= \"\",\"\",VLOOKUP(I3556,会場マスタ!$A:$B,2,FALSE))","v":""}]
["",null,null,null,null,null,null,null,null,{"$f":"IF(I3557= \"\",\"\",VLOOKUP(I3557,会場マスタ!$A:$B,2,FALSE))","v":""}]
["",null,null,null,null,null,null,null,null,{"$f":"IF(I3558= \"\",\"\",VLOOKUP(I3558,会場マスタ!$A:$B,2,FALSE))","v":""}]
["",null,null,null,null,null,null,null,null,{"$f":"IF(I3559= \"\",\"\",VLOOKUP(I3559,会場マスタ!$A:$B,2,FALSE))","v":""}]
["",null,null,null,null,null,null,null,null,{"$f":"IF(I3560= \"\",\"\",VLOOKUP(I3560,会場マスタ!$A:$B,2,FALSE))","v":""}]
["",null,null,null,null,null,null,null,null,{"$f":"IF(I3561= \"\",\"\",VLOOKUP(I3561,会場マスタ!$A:$B,2,FALSE))","v":""}]
["",null,null,null,null,null,null,null,null,{"$f":"IF(I3562= \"\",\"\",VLOOKUP(I3562,会場マスタ!$A:$B,2,FALSE))","v":""}]
["",null,null,null,null,null,null,null,null,{"$f":"IF(I3563= \"\",\"\",VLOOKUP(I3563,会場マスタ!$A:$B,2,FALSE))","v":""}]
["",null,null,null,null,null,null,null,null,{"$f":"IF(I3564= \"\",\"\",VLOOKUP(I3564,会場マスタ!$A:$B,2,FALSE))","v":""}]
["",null,null,null,null,null,null,null,null,{"$f":"IF(I3565= \"\",\"\",VLOOKUP(I3565,会場マスタ!$A:$B,2,FALSE))","v":""}]
["",null,null,null,null,null,null,null,null,{"$f":"IF(I3566= \"\",\"\",VLOOKUP(I3566,会場マスタ!$A:$B,2,FALSE))","v":""}]
["",null,null,null,null,null,null,null,null,{"$f":"IF(I3567= \"\",\"\",VLOOKUP(I3567,会場マスタ!$A:$B,2,FALSE))","v":""}]
["",null,null,null,null,null,null,null,null,{"$f":"IF(I3568= \"\",\"\",VLOOKUP(I3568,会場マスタ!$A:$B,2,FALSE))","v":""}]
["",null,null,null,null,null,null,null,null,{"$f":"IF(I3569= \"\",\"\",VLOOKUP(I3569,会場マスタ!$A:$B,2,FALSE))","v":""}]
["",null,null,null,null,null,null,null,null,{"$f":"IF(I3570= \"\",\"\",VLOOKUP(I3570,会場マスタ!$A:$B,2,FALSE))","v":""}]
["",null,null,null,null,null,null,null,null,{"$f":"IF(I3571= \"\",\"\",VLOOKUP(I3571,会場マスタ!$A:$B,2,FALSE))","v":""}]
["",null,null,null,null,null,null,null,null,{"$f":"IF(I3572= \"\",\"\",VLOOKUP(I3572,会場マスタ!$A:$B,2,FALSE))","v":""}]
["",null,null,null,null,null,null,null,null,{"$f":"IF(I3573= \"\",\"\",VLOOKUP(I3573,会場マスタ!$A:$B,2,FALSE))","v":""}]
["",null,null,null,null,null,null,null,null,{"$f":"IF(I3574= \"\",\"\",VLOOKUP(I3574,会場マスタ!$A:$B,2,FALSE))","v":""}]
["",null,null,null,null,null,null,null,null,{"$f":"IF(I3575= \"\",\"\",VLOOKUP(I3575,会場マスタ!$A:$B,2,FALSE))","v":""}]
["",null,null,null,null,null,null,null,null,{"$f":"IF(I3576= \"\",\"\",VLOOKUP(I3576,会場マスタ!$A:$B,2,FALSE))","v":""}]
["",null,null,null,null,null,null,null,null,{"$f":"IF(I3577= \"\",\"\",VLOOKUP(I3577,会場マスタ!$A:$B,2,FALSE))","v":""}]
["",null,null,null,null,null,null,null,null,{"$f":"IF(I3578= \"\",\"\",VLOOKUP(I3578,会場マスタ!$A:$B,2,FALSE))","v":""}]
["",null,null,null,null,null,null,null,null,{"$f":"IF(I3579= \"\",\"\",VLOOKUP(I3579,会場マスタ!$A:$B,2,FALSE))","v":""}]
["",null,null,null,null,null,null,null,null,{"$f":"IF(I3580= \"\",\"\",VLOOKUP(I3580,会場マスタ!$A:$B,2,FALSE))","v":""}]
["",null,null,null,null,null,null,null,null,{"$f":"IF(I3581= \"\",\"\",VLOOKUP(I3581,会場マスタ!$A:$B,2,FALSE))","v":""}]
["",null,null,null,null,null,null,null,null,{"$f":"IF(I3582= \"\",\"\",VLOOKUP(I3582,会場マスタ!$A:$B,2,FALSE))","v":""}]
["",null,null,null,null,null,null,null,null,{"$f":"IF(I3583= \"\",\"\",VLOOKUP(I3583,会場マスタ!$A:$B,2,FALSE))","v":""}]
["",null,null,null,null,null,null,null,null,{"$f":"IF(I3584= \"\",\"\",VLOOKUP(I3584,会場マスタ!$A:$B,2,FALSE))","v":""}]
["",null,null,null,null,null,null,null,null,{"$f":"IF(I3585= \"\",\"\",VLOOKUP(I3585,会場マスタ!$A:$B,2,FALSE))","v":""}]
["",null,null,null,null,null,null,null,null,{"$f":"IF(I3586= \"\",\"\",VLOOKUP(I3586,会場マスタ!$A:$B,2,FALSE))","v":""}]
["",null,null,null,null,null,null,null,null,{"$f":"IF(I3587= \"\",\"\",VLOOKUP(I3587,会場マスタ!$A:$B,2,FALSE))","v":""}]
["",null,null,null,null,null,null,null,null,{"$f":"IF(I3588= \"\",\"\",VLOOKUP(I3588,会場マスタ!$A:$B,2,FALSE))","v":""}]
["",null,null,null,null,null,null,null,null,{"$f":"IF(I3589= \"\",\"\",VLOOKUP(I3589,会場マスタ!$A:$B,2,FALSE))","v":""}]
["",null,null,null,null,null,null,null,null,{"$f":"IF(I3590= \"\",\"\",VLOOKUP(I3590,会場マスタ!$A:$B,2,FALSE))","v":""}]
[{"$f":"IF(B3591<>\"\",ROW(A3591)-4,\"\")","v":""},null,null,null,null,null,null,null,null,{"$f":"IF(I3591= \"\",\"\",VLOOKUP(I3591,会場マスタ!$A:$B,2,FALSE))","v":""}]
["",null,null,null,null,null,null,null,null,{"$f":"IF(I3592= \"\",\"\",VLOOKUP(I3592,会場マスタ!$A:$B,2,FALSE))","v":""}]
["",null,null,null,null,null,null,null,null,{"$f":"IF(I3593= \"\",\"\",VLOOKUP(I3593,会場マスタ!$A:$B,2,FALSE))","v":""}]
["",null,null,null,null,null,null,null,null,{"$f":"IF(I3594= \"\",\"\",VLOOKUP(I3594,会場マスタ!$A:$B,2,FALSE))","v":""}]
["",null,null,null,null,null,null,null,null,{"$f":"IF(I3595= \"\",\"\",VLOOKUP(I3595,会場マスタ!$A:$B,2,FALSE))","v":""}]
["",null,null,null,null,null,null,null,null,{"$f":"IF(I3596= \"\",\"\",VLOOKUP(I3596,会場マスタ!$A:$B,2,FALSE))","v":""}]
["",null,null,null,null,null,null,null,null,{"$f":"IF(I3597= \"\",\"\",VLOOKUP(I3597,会場マスタ!$A:$B,2,FALSE))","v":""}]
["",null,null,null,null,null,null,null,null,{"$f":"IF(I3598= \"\",\"\",VLOOKUP(I3598,会場マスタ!$A:$B,2,FALSE))","v":""}]
["",null,null,null,null,null,null,null,null,{"$f":"IF(I3599= \"\",\"\",VLOOKUP(I3599,会場マスタ!$A:$B,2,FALSE))","v":""}]
["",null,null,null,null,null,null,null,null,{"$f":"IF(I3600= \"\",\"\",VLOOKUP(I3600,会場マスタ!$A:$B,2,FALSE))","v":""}]
["",null,null,null,null,null,null,null,null,{"$f":"IF(I3601= \"\",\"\",VLOOKUP(I3601,会場マスタ!$A:$B,2,FALSE))","v":""}]
["",null,null,null,null,null,null,null,null,{"$f":"IF(I3602= \"\",\"\",VLOOKUP(I3602,会場マスタ!$A:$B,2,FALSE))","v":""}]
["",null,null,null,null,null,null,null,null,{"$f":"IF(I3603= \"\",\"\",VLOOKUP(I3603,会場マスタ!$A:$B,2,FALSE))","v":""}]
["",null,null,null,null,null,null,null,null,{"$f":"IF(I3604= \"\",\"\",VLOOKUP(I3604,会場マスタ!$A:$B,2,FALSE))","v":""}]
["",null,null,null,null,null,null,null,null,{"$f":"IF(I3605= \"\",\"\",VLOOKUP(I3605,会場マスタ!$A:$B,2,FALSE))","v":""}]
["",null,null,null,null,null,null,null,null,{"$f":"IF(I3606= \"\",\"\",VLOOKUP(I3606,会場マスタ!$A:$B,2,FALSE))","v":""}]
["",null,null,null,null,null,null,null,null,{"$f":"IF(I3607= \"\",\"\",VLOOKUP(I3607,会場マスタ!$A:$B,2,FALSE))","v":""}]
["",null,null,null,null,null,null,null,null,{"$f":"IF(I3608= \"\",\"\",VLOOKUP(I3608,会場マスタ!$A:$B,2,FALSE))","v":""}]
["",null,null,null,null,null,null,null,null,{"$f":"IF(I3609= \"\",\"\",VLOOKUP(I3609,会場マスタ!$A:$B,2,FALSE))","v":""}]
["",null,null,null,null,null,null,null,null,{"$f":"IF(I3610= \"\",\"\",VLOOKUP(I3610,会場マスタ!$A:$B,2,FALSE))","v":""}]
["",null,null,null,null,null,null,null,null,{"$f":"IF(I3611= \"\",\"\",VLOOKUP(I3611,会場マスタ!$A:$B,2,FALSE))","v":""}]
["",null,null,null,null,null,null,null,null,{"$f":"IF(I3612= \"\",\"\",VLOOKUP(I3612,会場マスタ!$A:$B,2,FALSE))","v":""}]
["",null,null,null,null,null,null,null,null,{"$f":"IF(I3613= \"\",\"\",VLOOKUP(I3613,会場マスタ!$A:$B,2,FALSE))","v":""}]
["",null,null,null,null,null,null,null,null,{"$f":"IF(I3614= \"\",\"\",VLOOKUP(I3614,会場マスタ!$A:$B,2,FALSE))","v":""}]
["",null,null,null,null,null,null,null,null,{"$f":"IF(I3615= \"\",\"\",VLOOKUP(I3615,会場マスタ!$A:$B,2,FALSE))","v":""}]
["",null,null,null,null,null,null,null,null,{"$f":"IF(I3616= \"\",\"\",VLOOKUP(I3616,会場マスタ!$A:$B,2,FALSE))","v":""}]
["",null,null,null,null,null,null,null,null,{"$f":"IF(I3617= \"\",\"\",VLOOKUP(I3617,会場マスタ!$A:$B,2,FALSE))","v":""}]
["",null,null,null,null,null,null,null,null,{"$f":"IF(I3618= \"\",\"\",VLOOKUP(I3618,会場マスタ!$A:$B,2,FALSE))","v":""}]
["",null,null,null,null,null,null,null,null,{"$f":"IF(I3619= \"\",\"\",VLOOKUP(I3619,会場マスタ!$A:$B,2,FALSE))","v":""}]
["",null,null,null,null,null,null,null,null,{"$f":"IF(I3620= \"\",\"\",VLOOKUP(I3620,会場マスタ!$A:$B,2,FALSE))","v":""}]
["",null,null,null,null,null,null,null,null,{"$f":"IF(I3621= \"\",\"\",VLOOKUP(I3621,会場マスタ!$A:$B,2,FALSE))","v":""}]
["",null,null,null,null,null,null,null,null,{"$f":"IF(I3622= \"\",\"\",VLOOKUP(I3622,会場マスタ!$A:$B,2,FALSE))","v":""}]
["",null,null,null,null,null,null,null,null,{"$f":"IF(I3623= \"\",\"\",VLOOKUP(I3623,会場マスタ!$A:$B,2,FALSE))","v":""}]
["",null,null,null,null,null,null,null,null,{"$f":"IF(I3624= \"\",\"\",VLOOKUP(I3624,会場マスタ!$A:$B,2,FALSE))","v":""}]
["",null,null,null,null,null,null,null,null,{"$f":"IF(I3625= \"\",\"\",VLOOKUP(I3625,会場マスタ!$A:$B,2,FALSE))","v":""}]
["",null,null,null,null,null,null,null,null,{"$f":"IF(I3626= \"\",\"\",VLOOKUP(I3626,会場マスタ!$A:$B,2,FALSE))","v":""}]
["",null,null,null,null,null,null,null,null,{"$f":"IF(I3627= \"\",\"\",VLOOKUP(I3627,会場マスタ!$A:$B,2,FALSE))","v":""}]
["",null,null,null,null,null,null,null,null,{"$f":"IF(I3628= \"\",\"\",VLOOKUP(I3628,会場マスタ!$A:$B,2,FALSE))","v":""}]
["",null,null,null,null,null,null,null,null,{"$f":"IF(I3629= \"\",\"\",VLOOKUP(I3629,会場マスタ!$A:$B,2,FALSE))","v":""}]
["",null,null,null,null,null,null,null,null,{"$f":"IF(I3630= \"\",\"\",VLOOKUP(I3630,会場マスタ!$A:$B,2,FALSE))","v":""}]
["",null,null,null,null,null,null,null,null,{"$f":"IF(I3631= \"\",\"\",VLOOKUP(I3631,会場マスタ!$A:$B,2,FALSE))","v":""}]
["",null,null,null,null,null,null,null,null,{"$f":"IF(I3632= \"\",\"\",VLOOKUP(I3632,会場マスタ!$A:$B,2,FALSE))","v":""}]
["",null,null,null,null,null,null,null,null,{"$f":"IF(I3633= \"\",\"\",VLOOKUP(I3633,会場マスタ!$A:$B,2,FALSE))","v":""}]
["",null,null,null,null,null,null,null,null,{"$f":"IF(I3634= \"\",\"\",VLOOKUP(I3634,会場マスタ!$A:$B,2,FALSE))","v":""}]
["",null,null,null,null,null,null,null,null,{"$f":"IF(I3635= \"\",\"\",VLOOKUP(I3635,会場マスタ!$A:$B,2,FALSE))","v":""}]
["",null,null,null,null,null,null,null,null,{"$f":"IF(I3636= \"\",\"\",VLOOKUP(I3636,会場マスタ!$A:$B,2,FALSE))","v":""}]
["",null,null,null,null,null,null,null,null,{"$f":"IF(I3637= \"\",\"\",VLOOKUP(I3637,会場マスタ!$A:$B,2,FALSE))","v":""}]
["",null,null,null,null,null,null,null,null,{"$f":"IF(I3638= \"\",\"\",VLOOKUP(I3638,会場マスタ!$A:$B,2,FALSE))","v":""}]
["",null,null,null,null,null,null,null,null,{"$f":"IF(I3639= \"\",\"\",VLOOKUP(I3639,会場マスタ!$A:$B,2,FALSE))","v":""}]
["",null,null,null,null,null,null,null,null,{"$f":"IF(I3640= \"\",\"\",VLOOKUP(I3640,会場マスタ!$A:$B,2,FALSE))","v":""}]
["",null,null,null,null,null,null,null,null,{"$f":"IF(I3641= \"\",\"\",VLOOKUP(I3641,会場マスタ!$A:$B,2,FALSE))","v":""}]
["",null,null,null,null,null,null,null,null,{"$f":"IF(I3642= \"\",\"\",VLOOKUP(I3642,会場マスタ!$A:$B,2,FALSE))","v":""}]
["",null,null,null,null,null,null,null,null,{"$f":"IF(I3643= \"\",\"\",VLOOKUP(I3643,会場マスタ!$A:$B,2,FALSE))","v":""}]
["",null,null,null,null,null,null,null,null,{"$f":"IF(I3644= \"\",\"\",VLOOKUP(I3644,会場マスタ!$A:$B,2,FALSE))","v":""}]
["",null,null,null,null,null,null,null,null,{"$f":"IF(I3645= \"\",\"\",VLOOKUP(I3645,会場マスタ!$A:$B,2,FALSE))","v":""}]
["",null,null,null,null,null,null,null,null,{"$f":"IF(I3646= \"\",\"\",VLOOKUP(I3646,会場マスタ!$A:$B,2,FALSE))","v":""}]
["",null,null,null,null,null,null,null,null,{"$f":"IF(I3647= \"\",\"\",VLOOKUP(I3647,会場マスタ!$A:$B,2,FALSE))","v":""}]
["",null,null,null,null,null,null,null,null,{"$f":"IF(I3648= \"\",\"\",VLOOKUP(I3648,会場マスタ!$A:$B,2,FALSE))","v":""}]
["",null,null,null,null,null,null,null,null,{"$f":"IF(I3649= \"\",\"\",VLOOKUP(I3649,会場マスタ!$A:$B,2,FALSE))","v":""}]
["",null,null,null,null,null,null,null,null,{"$f":"IF(I3650= \"\",\"\",VLOOKUP(I3650,会場マスタ!$A:$B,2,FALSE))","v":""}]
["",null,null,null,null,null,null,null,null,{"$f":"IF(I3651= \"\",\"\",VLOOKUP(I3651,会場マスタ!$A:$B,2,FALSE))","v":""}]
["",null,null,null,null,null,null,null,null,{"$f":"IF(I3652= \"\",\"\",VLOOKUP(I3652,会場マスタ!$A:$B,2,FALSE))","v":""}]
["",null,null,null,null,null,null,null,null,{"$f":"IF(I3653= \"\",\"\",VLOOKUP(I3653,会場マスタ!$A:$B,2,FALSE))","v":""}]
["",null,null,null,null,null,null,null,null,{"$f":"IF(I3654= \"\",\"\",VLOOKUP(I3654,会場マスタ!$A:$B,2,FALSE))","v":""}]
[{"$f":"IF(B3655<>\"\",ROW(A3655)-4,\"\")","v":""},null,null,null,null,null,null,null,null,{"$f":"IF(I3655= \"\",\"\",VLOOKUP(I3655,会場マスタ!$A:$B,2,FALSE))","v":""}]
["",null,null,null,null,null,null,null,null,{"$f":"IF(I3656= \"\",\"\",VLOOKUP(I3656,会場マスタ!$A:$B,2,FALSE))","v":""}]
["",null,null,null,null,null,null,null,null,{"$f":"IF(I3657= \"\",\"\",VLOOKUP(I3657,会場マスタ!$A:$B,2,FALSE))","v":""}]
["",null,null,null,null,null,null,null,null,{"$f":"IF(I3658= \"\",\"\",VLOOKUP(I3658,会場マスタ!$A:$B,2,FALSE))","v":""}]
["",null,null,null,null,null,null,null,null,{"$f":"IF(I3659= \"\",\"\",VLOOKUP(I3659,会場マスタ!$A:$B,2,FALSE))","v":""}]
["",null,null,null,null,null,null,null,null,{"$f":"IF(I3660= \"\",\"\",VLOOKUP(I3660,会場マスタ!$A:$B,2,FALSE))","v":""}]
["",null,null,null,null,null,null,null,null,{"$f":"IF(I3661= \"\",\"\",VLOOKUP(I3661,会場マスタ!$A:$B,2,FALSE))","v":""}]
["",null,null,null,null,null,null,null,null,{"$f":"IF(I3662= \"\",\"\",VLOOKUP(I3662,会場マスタ!$A:$B,2,FALSE))","v":""}]
["",null,null,null,null,null,null,null,null,{"$f":"IF(I3663= \"\",\"\",VLOOKUP(I3663,会場マスタ!$A:$B,2,FALSE))","v":""}]
["",null,null,null,null,null,null,null,null,{"$f":"IF(I3664= \"\",\"\",VLOOKUP(I3664,会場マスタ!$A:$B,2,FALSE))","v":""}]
["",null,null,null,null,null,null,null,null,{"$f":"IF(I3665= \"\",\"\",VLOOKUP(I3665,会場マスタ!$A:$B,2,FALSE))","v":""}]
["",null,null,null,null,null,null,null,null,{"$f":"IF(I3666= \"\",\"\",VLOOKUP(I3666,会場マスタ!$A:$B,2,FALSE))","v":""}]
["",null,null,null,null,null,null,null,null,{"$f":"IF(I3667= \"\",\"\",VLOOKUP(I3667,会場マスタ!$A:$B,2,FALSE))","v":""}]
["",null,null,null,null,null,null,null,null,{"$f":"IF(I3668= \"\",\"\",VLOOKUP(I3668,会場マスタ!$A:$B,2,FALSE))","v":""}]
["",null,null,null,null,null,null,null,null,{"$f":"IF(I3669= \"\",\"\",VLOOKUP(I3669,会場マスタ!$A:$B,2,FALSE))","v":""}]
["",null,null,null,null,null,null,null,null,{"$f":"IF(I3670= \"\",\"\",VLOOKUP(I3670,会場マスタ!$A:$B,2,FALSE))","v":""}]
["",null,null,null,null,null,null,null,null,{"$f":"IF(I3671= \"\",\"\",VLOOKUP(I3671,会場マスタ!$A:$B,2,FALSE))","v":""}]
["",null,null,null,null,null,null,null,null,{"$f":"IF(I3672= \"\",\"\",VLOOKUP(I3672,会場マスタ!$A:$B,2,FALSE))","v":""}]
["",null,null,null,null,null,null,null,null,{"$f":"IF(I3673= \"\",\"\",VLOOKUP(I3673,会場マスタ!$A:$B,2,FALSE))","v":""}]
["",null,null,null,null,null,null,null,null,{"$f":"IF(I3674= \"\",\"\",VLOOKUP(I3674,会場マスタ!$A:$B,2,FALSE))","v":""}]
["",null,null,null,null,null,null,null,null,{"$f":"IF(I3675= \"\",\"\",VLOOKUP(I3675,会場マスタ!$A:$B,2,FALSE))","v":""}]
["",null,null,null,null,null,null,null,null,{"$f":"IF(I3676= \"\",\"\",VLOOKUP(I3676,会場マスタ!$A:$B,2,FALSE))","v":""}]
["",null,null,null,null,null,null,null,null,{"$f":"IF(I3677= \"\",\"\",VLOOKUP(I3677,会場マスタ!$A:$B,2,FALSE))","v":""}]
["",null,null,null,null,null,null,null,null,{"$f":"IF(I3678= \"\",\"\",VLOOKUP(I3678,会場マスタ!$A:$B,2,FALSE))","v":""}]
["",null,null,null,null,null,null,null,null,{"$f":"IF(I3679= \"\",\"\",VLOOKUP(I3679,会場マスタ!$A:$B,2,FALSE))","v":""}]
["",null,null,null,null,null,null,null,null,{"$f":"IF(I3680= \"\",\"\",VLOOKUP(I3680,会場マスタ!$A:$B,2,FALSE))","v":""}]
["",null,null,null,null,null,null,null,null,{"$f":"IF(I3681= \"\",\"\",VLOOKUP(I3681,会場マスタ!$A:$B,2,FALSE))","v":""}]
["",null,null,null,null,null,null,null,null,{"$f":"IF(I3682= \"\",\"\",VLOOKUP(I3682,会場マスタ!$A:$B,2,FALSE))","v":""}]
["",null,null,null,null,null,null,null,null,{"$f":"IF(I3683= \"\",\"\",VLOOKUP(I3683,会場マスタ!$A:$B,2,FALSE))","v":""}]
["",null,null,null,null,null,null,null,null,{"$f":"IF(I3684= \"\",\"\",VLOOKUP(I3684,会場マスタ!$A:$B,2,FALSE))","v":""}]
["",null,null,null,null,null,null,null,null,{"$f":"IF(I3685= \"\",\"\",VLOOKUP(I3685,会場マスタ!$A:$B,2,FALSE))","v":""}]
["",null,null,null,null,null,null,null,null,{"$f":"IF(I3686= \"\",\"\",VLOOKUP(I3686,会場マスタ!$A:$B,2,FALSE))","v":""}]
["",null,null,null,null,null,null,null,null,{"$f":"IF(I3687= \"\",\"\",VLOOKUP(I3687,会場マスタ!$A:$B,2,FALSE))","v":""}]
["",null,null,null,null,null,null,null,null,{"$f":"IF(I3688= \"\",\"\",VLOOKUP(I3688,会場マスタ!$A:$B,2,FALSE))","v":""}]
["",null,null,null,null,null,null,null,null,{"$f":"IF(I3689= \"\",\"\",VLOOKUP(I3689,会場マスタ!$A:$B,2,FALSE))","v":""}]
["",null,null,null,null,null,null,null,null,{"$f":"IF(I3690= \"\",\"\",VLOOKUP(I3690,会場マスタ!$A:$B,2,FALSE))","v":""}]
["",null,null,null,null,null,null,null,null,{"$f":"IF(I3691= \"\",\"\",VLOOKUP(I3691,会場マスタ!$A:$B,2,FALSE))","v":""}]
["",null,null,null,null,null,null,null,null,{"$f":"IF(I3692= \"\",\"\",VLOOKUP(I3692,会場マスタ!$A:$B,2,FALSE))","v":""}]
["",null,null,null,null,null,null,null,null,{"$f":"IF(I3693= \"\",\"\",VLOOKUP(I3693,会場マスタ!$A:$B,2,FALSE))","v":""}]
["",null,null,null,null,null,null,null,null,{"$f":"IF(I3694= \"\",\"\",VLOOKUP(I3694,会場マスタ!$A:$B,2,FALSE))","v":""}]
["",null,null,null,null,null,null,null,null,{"$f":"IF(I3695= \"\",\"\",VLOOKUP(I3695,会場マスタ!$A:$B,2,FALSE))","v":""}]
["",null,null,null,null,null,null,null,null,{"$f":"IF(I3696= \"\",\"\",VLOOKUP(I3696,会場マスタ!$A:$B,2,FALSE))","v":""}]
["",null,null,null,null,null,null,null,null,{"$f":"IF(I3697= \"\",\"\",VLOOKUP(I3697,会場マスタ!$A:$B,2,FALSE))","v":""}]
["",null,null,null,null,null,null,null,null,{"$f":"IF(I3698= \"\",\"\",VLOOKUP(I3698,会場マスタ!$A:$B,2,FALSE))","v":""}]
["",null,null,null,null,null,null,null,null,{"$f":"IF(I3699= \"\",\"\",VLOOKUP(I3699,会場マスタ!$A:$B,2,FALSE))","v":""}]
["",null,null,null,null,null,null,null,null,{"$f":"IF(I3700= \"\",\"\",VLOOKUP(I3700,会場マスタ!$A:$B,2,FALSE))","v":""}]
["",null,null,null,null,null,null,null,null,{"$f":"IF(I3701= \"\",\"\",VLOOKUP(I3701,会場マスタ!$A:$B,2,FALSE))","v":""}]
["",null,null,null,null,null,null,null,null,{"$f":"IF(I3702= \"\",\"\",VLOOKUP(I3702,会場マスタ!$A:$B,2,FALSE))","v":""}]
["",null,null,null,null,null,null,null,null,{"$f":"IF(I3703= \"\",\"\",VLOOKUP(I3703,会場マスタ!$A:$B,2,FALSE))","v":""}]
["",null,null,null,null,null,null,null,null,{"$f":"IF(I3704= \"\",\"\",VLOOKUP(I3704,会場マスタ!$A:$B,2,FALSE))","v":""}]
["",null,null,null,null,null,null,null,null,{"$f":"IF(I3705= \"\",\"\",VLOOKUP(I3705,会場マスタ!$A:$B,2,FALSE))","v":""}]
["",null,null,null,null,null,null,null,null,{"$f":"IF(I3706= \"\",\"\",VLOOKUP(I3706,会場マスタ!$A:$B,2,FALSE))","v":""}]
["",null,null,null,null,null,null,null,null,{"$f":"IF(I3707= \"\",\"\",VLOOKUP(I3707,会場マスタ!$A:$B,2,FALSE))","v":""}]
["",null,null,null,null,null,null,null,null,{"$f":"IF(I3708= \"\",\"\",VLOOKUP(I3708,会場マスタ!$A:$B,2,FALSE))","v":""}]
["",null,null,null,null,null,null,null,null,{"$f":"IF(I3709= \"\",\"\",VLOOKUP(I3709,会場マスタ!$A:$B,2,FALSE))","v":""}]
["",null,null,null,null,null,null,null,null,{"$f":"IF(I3710= \"\",\"\",VLOOKUP(I3710,会場マスタ!$A:$B,2,FALSE))","v":""}]
["",null,null,null,null,null,null,null,null,{"$f":"IF(I3711= \"\",\"\",VLOOKUP(I3711,会場マスタ!$A:$B,2,FALSE))","v":""}]
["",null,null,null,null,null,null,null,null,{"$f":"IF(I3712= \"\",\"\",VLOOKUP(I3712,会場マスタ!$A:$B,2,FALSE))","v":""}]
["",null,null,null,null,null,null,null,null,{"$f":"IF(I3713= \"\",\"\",VLOOKUP(I3713,会場マスタ!$A:$B,2,FALSE))","v":""}]
["",null,null,null,null,null,null,null,null,{"$f":"IF(I3714= \"\",\"\",VLOOKUP(I3714,会場マスタ!$A:$B,2,FALSE))","v":""}]
["",null,null,null,null,null,null,null,null,{"$f":"IF(I3715= \"\",\"\",VLOOKUP(I3715,会場マスタ!$A:$B,2,FALSE))","v":""}]
["",null,null,null,null,null,null,null,null,{"$f":"IF(I3716= \"\",\"\",VLOOKUP(I3716,会場マスタ!$A:$B,2,FALSE))","v":""}]
["",null,null,null,null,null,null,null,null,{"$f":"IF(I3717= \"\",\"\",VLOOKUP(I3717,会場マスタ!$A:$B,2,FALSE))","v":""}]
["",null,null,null,null,null,null,null,null,{"$f":"IF(I3718= \"\",\"\",VLOOKUP(I3718,会場マスタ!$A:$B,2,FALSE))","v":""}]
[{"$f":"IF(B3719<>\"\",ROW(A3719)-4,\"\")","v":""},null,null,null,null,null,null,null,null,{"$f":"IF(I3719= \"\",\"\",VLOOKUP(I3719,会場マスタ!$A:$B,2,FALSE))","v":""}]
["",null,null,null,null,null,null,null,null,{"$f":"IF(I3720= \"\",\"\",VLOOKUP(I3720,会場マスタ!$A:$B,2,FALSE))","v":""}]
["",null,null,null,null,null,null,null,null,{"$f":"IF(I3721= \"\",\"\",VLOOKUP(I3721,会場マスタ!$A:$B,2,FALSE))","v":""}]
["",null,null,null,null,null,null,null,null,{"$f":"IF(I3722= \"\",\"\",VLOOKUP(I3722,会場マスタ!$A:$B,2,FALSE))","v":""}]
["",null,null,null,null,null,null,null,null,{"$f":"IF(I3723= \"\",\"\",VLOOKUP(I3723,会場マスタ!$A:$B,2,FALSE))","v":""}]
["",null,null,null,null,null,null,null,null,{"$f":"IF(I3724= \"\",\"\",VLOOKUP(I3724,会場マスタ!$A:$B,2,FALSE))","v":""}]
["",null,null,null,null,null,null,null,null,{"$f":"IF(I3725= \"\",\"\",VLOOKUP(I3725,会場マスタ!$A:$B,2,FALSE))","v":""}]
["",null,null,null,null,null,null,null,null,{"$f":"IF(I3726= \"\",\"\",VLOOKUP(I3726,会場マスタ!$A:$B,2,FALSE))","v":""}]
["",null,null,null,null,null,null,null,null,{"$f":"IF(I3727= \"\",\"\",VLOOKUP(I3727,会場マスタ!$A:$B,2,FALSE))","v":""}]
["",null,null,null,null,null,null,null,null,{"$f":"IF(I3728= \"\",\"\",VLOOKUP(I3728,会場マスタ!$A:$B,2,FALSE))","v":""}]
["",null,null,null,null,null,null,null,null,{"$f":"IF(I3729= \"\",\"\",VLOOKUP(I3729,会場マスタ!$A:$B,2,FALSE))","v":""}]
["",null,null,null,null,null,null,null,null,{"$f":"IF(I3730= \"\",\"\",VLOOKUP(I3730,会場マスタ!$A:$B,2,FALSE))","v":""}]
["",null,null,null,null,null,null,null,null,{"$f":"IF(I3731= \"\",\"\",VLOOKUP(I3731,会場マスタ!$A:$B,2,FALSE))","v":""}]
["",null,null,null,null,null,null,null,null,{"$f":"IF(I3732= \"\",\"\",VLOOKUP(I3732,会場マスタ!$A:$B,2,FALSE))","v":""}]
["",null,null,null,null,null,null,null,null,{"$f":"IF(I3733= \"\",\"\",VLOOKUP(I3733,会場マスタ!$A:$B,2,FALSE))","v":""}]
["",null,null,null,null,null,null,null,null,{"$f":"IF(I3734= \"\",\"\",VLOOKUP(I3734,会場マスタ!$A:$B,2,FALSE))","v":""}]
["",null,null,null,null,null,null,null,null,{"$f":"IF(I3735= \"\",\"\",VLOOKUP(I3735,会場マスタ!$A:$B,2,FALSE))","v":""}]
["",null,null,null,null,null,null,null,null,{"$f":"IF(I3736= \"\",\"\",VLOOKUP(I3736,会場マスタ!$A:$B,2,FALSE))","v":""}]
["",null,null,null,null,null,null,null,null,{"$f":"IF(I3737= \"\",\"\",VLOOKUP(I3737,会場マスタ!$A:$B,2,FALSE))","v":""}]
["",null,null,null,null,null,null,null,null,{"$f":"IF(I3738= \"\",\"\",VLOOKUP(I3738,会場マスタ!$A:$B,2,FALSE))","v":""}]
["",null,null,null,null,null,null,null,null,{"$f":"IF(I3739= \"\",\"\",VLOOKUP(I3739,会場マスタ!$A:$B,2,FALSE))","v":""}]
["",null,null,null,null,null,null,null,null,{"$f":"IF(I3740= \"\",\"\",VLOOKUP(I3740,会場マスタ!$A:$B,2,FALSE))","v":""}]
["",null,null,null,null,null,null,null,null,{"$f":"IF(I3741= \"\",\"\",VLOOKUP(I3741,会場マスタ!$A:$B,2,FALSE))","v":""}]
["",null,null,null,null,null,null,null,null,{"$f":"IF(I3742= \"\",\"\",VLOOKUP(I3742,会場マスタ!$A:$B,2,FALSE))","v":""}]
["",null,null,null,null,null,null,null,null,{"$f":"IF(I3743= \"\",\"\",VLOOKUP(I3743,会場マスタ!$A:$B,2,FALSE))","v":""}]
["",null,null,null,null,null,null,null,null,{"$f":"IF(I3744= \"\",\"\",VLOOKUP(I3744,会場マスタ!$A:$B,2,FALSE))","v":""}]
["",null,null,null,null,null,null,null,null,{"$f":"IF(I3745= \"\",\"\",VLOOKUP(I3745,会場マスタ!$A:$B,2,FALSE))","v":""}]
["",null,null,null,null,null,null,null,null,{"$f":"IF(I3746= \"\",\"\",VLOOKUP(I3746,会場マスタ!$A:$B,2,FALSE))","v":""}]
["",null,null,null,null,null,null,null,null,{"$f":"IF(I3747= \"\",\"\",VLOOKUP(I3747,会場マスタ!$A:$B,2,FALSE))","v":""}]
["",null,null,null,null,null,null,null,null,{"$f":"IF(I3748= \"\",\"\",VLOOKUP(I3748,会場マスタ!$A:$B,2,FALSE))","v":""}]
["",null,null,null,null,null,null,null,null,{"$f":"IF(I3749= \"\",\"\",VLOOKUP(I3749,会場マスタ!$A:$B,2,FALSE))","v":""}]
["",null,null,null,null,null,null,null,null,{"$f":"IF(I3750= \"\",\"\",VLOOKUP(I3750,会場マスタ!$A:$B,2,FALSE))","v":""}]
["",null,null,null,null,null,null,null,null,{"$f":"IF(I3751= \"\",\"\",VLOOKUP(I3751,会場マスタ!$A:$B,2,FALSE))","v":""}]
["",null,null,null,null,null,null,null,null,{"$f":"IF(I3752= \"\",\"\",VLOOKUP(I3752,会場マスタ!$A:$B,2,FALSE))","v":""}]
["",null,null,null,null,null,null,null,null,{"$f":"IF(I3753= \"\",\"\",VLOOKUP(I3753,会場マスタ!$A:$B,2,FALSE))","v":""}]
["",null,null,null,null,null,null,null,null,{"$f":"IF(I3754= \"\",\"\",VLOOKUP(I3754,会場マスタ!$A:$B,2,FALSE))","v":""}]
["",null,null,null,null,null,null,null,null,{"$f":"IF(I3755= \"\",\"\",VLOOKUP(I3755,会場マスタ!$A:$B,2,FALSE))","v":""}]
["",null,null,null,null,null,null,null,null,{"$f":"IF(I3756= \"\",\"\",VLOOKUP(I3756,会場マスタ!$A:$B,2,FALSE))","v":""}]
["",null,null,null,null,null,null,null,null,{"$f":"IF(I3757= \"\",\"\",VLOOKUP(I3757,会場マスタ!$A:$B,2,FALSE))","v":""}]
["",null,null,null,null,null,null,null,null,{"$f":"IF(I3758= \"\",\"\",VLOOKUP(I3758,会場マスタ!$A:$B,2,FALSE))","v":""}]
["",null,null,null,null,null,null,null,null,{"$f":"IF(I3759= \"\",\"\",VLOOKUP(I3759,会場マスタ!$A:$B,2,FALSE))","v":""}]
["",null,null,null,null,null,null,null,null,{"$f":"IF(I3760= \"\",\"\",VLOOKUP(I3760,会場マスタ!$A:$B,2,FALSE))","v":""}]
["",null,null,null,null,null,null,null,null,{"$f":"IF(I3761= \"\",\"\",VLOOKUP(I3761,会場マスタ!$A:$B,2,FALSE))","v":""}]
["",null,null,null,null,null,null,null,null,{"$f":"IF(I3762= \"\",\"\",VLOOKUP(I3762,会場マスタ!$A:$B,2,FALSE))","v":""}]
["",null,null,null,null,null,null,null,null,{"$f":"IF(I3763= \"\",\"\",VLOOKUP(I3763,会場マスタ!$A:$B,2,FALSE))","v":""}]
["",null,null,null,null,null,null,null,null,{"$f":"IF(I3764= \"\",\"\",VLOOKUP(I3764,会場マスタ!$A:$B,2,FALSE))","v":""}]
["",null,null,null,null,null,null,null,null,{"$f":"IF(I3765= \"\",\"\",VLOOKUP(I3765,会場マスタ!$A:$B,2,FALSE))","v":""}]
["",null,null,null,null,null,null,null,null,{"$f":"IF(I3766= \"\",\"\",VLOOKUP(I3766,会場マスタ!$A:$B,2,FALSE))","v":""}]
["",null,null,null,null,null,null,null,null,{"$f":"IF(I3767= \"\",\"\",VLOOKUP(I3767,会場マスタ!$A:$B,2,FALSE))","v":""}]
["",null,null,null,null,null,null,null,null,{"$f":"IF(I3768= \"\",\"\",VLOOKUP(I3768,会場マスタ!$A:$B,2,FALSE))","v":""}]
["",null,null,null,null,null,null,null,null,{"$f":"IF(I3769= \"\",\"\",VLOOKUP(I3769,会場マスタ!$A:$B,2,FALSE))","v":""}]
["",null,null,null,null,null,null,null,null,{"$f":"IF(I3770= \"\",\"\",VLOOKUP(I3770,会場マスタ!$A:$B,2,FALSE))","v":""}]
["",null,null,null,null,null,null,null,null,{"$f":"IF(I3771= \"\",\"\",VLOOKUP(I3771,会場マスタ!$A:$B,2,FALSE))","v":""}]
["",null,null,null,null,null,null,null,null,{"$f":"IF(I3772= \"\",\"\",VLOOKUP(I3772,会場マスタ!$A:$B,2,FALSE))","v":""}]
["",null,null,null,null,null,null,null,null,{"$f":"IF(I3773= \"\",\"\",VLOOKUP(I3773,会場マスタ!$A:$B,2,FALSE))","v":""}]
["",null,null,null,null,null,null,null,null,{"$f":"IF(I3774= \"\",\"\",VLOOKUP(I3774,会場マスタ!$A:$B,2,FALSE))","v":""}]
["",null,null,null,null,null,null,null,null,{"$f":"IF(I3775= \"\",\"\",VLOOKUP(I3775,会場マスタ!$A:$B,2,FALSE))","v":""}]
["",null,null,null,null,null,null,null,null,{"$f":"IF(I3776= \"\",\"\",VLOOKUP(I3776,会場マスタ!$A:$B,2,FALSE))","v":""}]
["",null,null,null,null,null,null,null,null,{"$f":"IF(I3777= \"\",\"\",VLOOKUP(I3777,会場マスタ!$A:$B,2,FALSE))","v":""}]
["",null,null,null,null,null,null,null,null,{"$f":"IF(I3778= \"\",\"\",VLOOKUP(I3778,会場マスタ!$A:$B,2,FALSE))","v":""}]
["",null,null,null,null,null,null,null,null,{"$f":"IF(I3779= \"\",\"\",VLOOKUP(I3779,会場マスタ!$A:$B,2,FALSE))","v":""}]
["",null,null,null,null,null,null,null,null,{"$f":"IF(I3780= \"\",\"\",VLOOKUP(I3780,会場マスタ!$A:$B,2,FALSE))","v":""}]
["",null,null,null,null,null,null,null,null,{"$f":"IF(I3781= \"\",\"\",VLOOKUP(I3781,会場マスタ!$A:$B,2,FALSE))","v":""}]
["",null,null,null,null,null,null,null,null,{"$f":"IF(I3782= \"\",\"\",VLOOKUP(I3782,会場マスタ!$A:$B,2,FALSE))","v":""}]
[{"$f":"IF(B3783<>\"\",ROW(A3783)-4,\"\")","v":""},null,null,null,null,null,null,null,null,{"$f":"IF(I3783= \"\",\"\",VLOOKUP(I3783,会場マスタ!$A:$B,2,FALSE))","v":""}]
["",null,null,null,null,null,null,null,null,{"$f":"IF(I3784= \"\",\"\",VLOOKUP(I3784,会場マスタ!$A:$B,2,FALSE))","v":""}]
["",null,null,null,null,null,null,null,null,{"$f":"IF(I3785= \"\",\"\",VLOOKUP(I3785,会場マスタ!$A:$B,2,FALSE))","v":""}]
["",null,null,null,null,null,null,null,null,{"$f":"IF(I3786= \"\",\"\",VLOOKUP(I3786,会場マスタ!$A:$B,2,FALSE))","v":""}]
["",null,null,null,null,null,null,null,null,{"$f":"IF(I3787= \"\",\"\",VLOOKUP(I3787,会場マスタ!$A:$B,2,FALSE))","v":""}]
["",null,null,null,null,null,null,null,null,{"$f":"IF(I3788= \"\",\"\",VLOOKUP(I3788,会場マスタ!$A:$B,2,FALSE))","v":""}]
["",null,null,null,null,null,null,null,null,{"$f":"IF(I3789= \"\",\"\",VLOOKUP(I3789,会場マスタ!$A:$B,2,FALSE))","v":""}]
["",null,null,null,null,null,null,null,null,{"$f":"IF(I3790= \"\",\"\",VLOOKUP(I3790,会場マスタ!$A:$B,2,FALSE))","v":""}]
["",null,null,null,null,null,null,null,null,{"$f":"IF(I3791= \"\",\"\",VLOOKUP(I3791,会場マスタ!$A:$B,2,FALSE))","v":""}]
["",null,null,null,null,null,null,null,null,{"$f":"IF(I3792= \"\",\"\",VLOOKUP(I3792,会場マスタ!$A:$B,2,FALSE))","v":""}]
["",null,null,null,null,null,null,null,null,{"$f":"IF(I3793= \"\",\"\",VLOOKUP(I3793,会場マスタ!$A:$B,2,FALSE))","v":""}]
["",null,null,null,null,null,null,null,null,{"$f":"IF(I3794= \"\",\"\",VLOOKUP(I3794,会場マスタ!$A:$B,2,FALSE))","v":""}]
["",null,null,null,null,null,null,null,null,{"$f":"IF(I3795= \"\",\"\",VLOOKUP(I3795,会場マスタ!$A:$B,2,FALSE))","v":""}]
["",null,null,null,null,null,null,null,null,{"$f":"IF(I3796= \"\",\"\",VLOOKUP(I3796,会場マスタ!$A:$B,2,FALSE))","v":""}]
["",null,null,null,null,null,null,null,null,{"$f":"IF(I3797= \"\",\"\",VLOOKUP(I3797,会場マスタ!$A:$B,2,FALSE))","v":""}]
["",null,null,null,null,null,null,null,null,{"$f":"IF(I3798= \"\",\"\",VLOOKUP(I3798,会場マスタ!$A:$B,2,FALSE))","v":""}]
["",null,null,null,null,null,null,null,null,{"$f":"IF(I3799= \"\",\"\",VLOOKUP(I3799,会場マスタ!$A:$B,2,FALSE))","v":""}]
["",null,null,null,null,null,null,null,null,{"$f":"IF(I3800= \"\",\"\",VLOOKUP(I3800,会場マスタ!$A:$B,2,FALSE))","v":""}]
["",null,null,null,null,null,null,null,null,{"$f":"IF(I3801= \"\",\"\",VLOOKUP(I3801,会場マスタ!$A:$B,2,FALSE))","v":""}]
["",null,null,null,null,null,null,null,null,{"$f":"IF(I3802= \"\",\"\",VLOOKUP(I3802,会場マスタ!$A:$B,2,FALSE))","v":""}]
["",null,null,null,null,null,null,null,null,{"$f":"IF(I3803= \"\",\"\",VLOOKUP(I3803,会場マスタ!$A:$B,2,FALSE))","v":""}]
["",null,null,null,null,null,null,null,null,{"$f":"IF(I3804= \"\",\"\",VLOOKUP(I3804,会場マスタ!$A:$B,2,FALSE))","v":""}]
["",null,null,null,null,null,null,null,null,{"$f":"IF(I3805= \"\",\"\",VLOOKUP(I3805,会場マスタ!$A:$B,2,FALSE))","v":""}]
["",null,null,null,null,null,null,null,null,{"$f":"IF(I3806= \"\",\"\",VLOOKUP(I3806,会場マスタ!$A:$B,2,FALSE))","v":""}]
["",null,null,null,null,null,null,null,null,{"$f":"IF(I3807= \"\",\"\",VLOOKUP(I3807,会場マスタ!$A:$B,2,FALSE))","v":""}]
["",null,null,null,null,null,null,null,null,{"$f":"IF(I3808= \"\",\"\",VLOOKUP(I3808,会場マスタ!$A:$B,2,FALSE))","v":""}]
["",null,null,null,null,null,null,null,null,{"$f":"IF(I3809= \"\",\"\",VLOOKUP(I3809,会場マスタ!$A:$B,2,FALSE))","v":""}]
["",null,null,null,null,null,null,null,null,{"$f":"IF(I3810= \"\",\"\",VLOOKUP(I3810,会場マスタ!$A:$B,2,FALSE))","v":""}]
["",null,null,null,null,null,null,null,null,{"$f":"IF(I3811= \"\",\"\",VLOOKUP(I3811,会場マスタ!$A:$B,2,FALSE))","v":""}]
["",null,null,null,null,null,null,null,null,{"$f":"IF(I3812= \"\",\"\",VLOOKUP(I3812,会場マスタ!$A:$B,2,FALSE))","v":""}]
["",null,null,null,null,null,null,null,null,{"$f":"IF(I3813= \"\",\"\",VLOOKUP(I3813,会場マスタ!$A:$B,2,FALSE))","v":""}]
["",null,null,null,null,null,null,null,null,{"$f":"IF(I3814= \"\",\"\",VLOOKUP(I3814,会場マスタ!$A:$B,2,FALSE))","v":""}]
["",null,null,null,null,null,null,null,null,{"$f":"IF(I3815= \"\",\"\",VLOOKUP(I3815,会場マスタ!$A:$B,2,FALSE))","v":""}]
["",null,null,null,null,null,null,null,null,{"$f":"IF(I3816= \"\",\"\",VLOOKUP(I3816,会場マスタ!$A:$B,2,FALSE))","v":""}]
["",null,null,null,null,null,null,null,null,{"$f":"IF(I3817= \"\",\"\",VLOOKUP(I3817,会場マスタ!$A:$B,2,FALSE))","v":""}]
["",null,null,null,null,null,null,null,null,{"$f":"IF(I3818= \"\",\"\",VLOOKUP(I3818,会場マスタ!$A:$B,2,FALSE))","v":""}]
["",null,null,null,null,null,null,null,null,{"$f":"IF(I3819= \"\",\"\",VLOOKUP(I3819,会場マスタ!$A:$B,2,FALSE))","v":""}]
["",null,null,null,null,null,null,null,null,{"$f":"IF(I3820= \"\",\"\",VLOOKUP(I3820,会場マスタ!$A:$B,2,FALSE))","v":""}]
["",null,null,null,null,null,null,null,null,{"$f":"IF(I3821= \"\",\"\",VLOOKUP(I3821,会場マスタ!$A:$B,2,FALSE))","v":""}]
["",null,null,null,null,null,null,null,null,{"$f":"IF(I3822= \"\",\"\",VLOOKUP(I3822,会場マスタ!$A:$B,2,FALSE))","v":""}]
["",null,null,null,null,null,null,null,null,{"$f":"IF(I3823= \"\",\"\",VLOOKUP(I3823,会場マスタ!$A:$B,2,FALSE))","v":""}]
["",null,null,null,null,null,null,null,null,{"$f":"IF(I3824= \"\",\"\",VLOOKUP(I3824,会場マスタ!$A:$B,2,FALSE))","v":""}]
["",null,null,null,null,null,null,null,null,{"$f":"IF(I3825= \"\",\"\",VLOOKUP(I3825,会場マスタ!$A:$B,2,FALSE))","v":""}]
["",null,null,null,null,null,null,null,null,{"$f":"IF(I3826= \"\",\"\",VLOOKUP(I3826,会場マスタ!$A:$B,2,FALSE))","v":""}]
["",null,null,null,null,null,null,null,null,{"$f":"IF(I3827= \"\",\"\",VLOOKUP(I3827,会場マスタ!$A:$B,2,FALSE))","v":""}]
["",null,null,null,null,null,null,null,null,{"$f":"IF(I3828= \"\",\"\",VLOOKUP(I3828,会場マスタ!$A:$B,2,FALSE))","v":""}]
["",null,null,null,null,null,null,null,null,{"$f":"IF(I3829= \"\",\"\",VLOOKUP(I3829,会場マスタ!$A:$B,2,FALSE))","v":""}]
["",null,null,null,null,null,null,null,null,{"$f":"IF(I3830= \"\",\"\",VLOOKUP(I3830,会場マスタ!$A:$B,2,FALSE))","v":""}]
["",null,null,null,null,null,null,null,null,{"$f":"IF(I3831= \"\",\"\",VLOOKUP(I3831,会場マスタ!$A:$B,2,FALSE))","v":""}]
["",null,null,null,null,null,null,null,null,{"$f":"IF(I3832= \"\",\"\",VLOOKUP(I3832,会場マスタ!$A:$B,2,FALSE))","v":""}]
["",null,null,null,null,null,null,null,null,{"$f":"IF(I3833= \"\",\"\",VLOOKUP(I3833,会場マスタ!$A:$B,2,FALSE))","v":""}]
["",null,null,null,null,null,null,null,null,{"$f":"IF(I3834= \"\",\"\",VLOOKUP(I3834,会場マスタ!$A:$B,2,FALSE))","v":""}]
["",null,null,null,null,null,null,null,null,{"$f":"IF(I3835= \"\",\"\",VLOOKUP(I3835,会場マスタ!$A:$B,2,FALSE))","v":""}]
["",null,null,null,null,null,null,null,null,{"$f":"IF(I3836= \"\",\"\",VLOOKUP(I3836,会場マスタ!$A:$B,2,FALSE))","v":""}]
["",null,null,null,null,null,null,null,null,{"$f":"IF(I3837= \"\",\"\",VLOOKUP(I3837,会場マスタ!$A:$B,2,FALSE))","v":""}]
["",null,null,null,null,null,null,null,null,{"$f":"IF(I3838= \"\",\"\",VLOOKUP(I3838,会場マスタ!$A:$B,2,FALSE))","v":""}]
["",null,null,null,null,null,null,null,null,{"$f":"IF(I3839= \"\",\"\",VLOOKUP(I3839,会場マスタ!$A:$B,2,FALSE))","v":""}]
["",null,null,null,null,null,null,null,null,{"$f":"IF(I3840= \"\",\"\",VLOOKUP(I3840,会場マスタ!$A:$B,2,FALSE))","v":""}]
["",null,null,null,null,null,null,null,null,{"$f":"IF(I3841= \"\",\"\",VLOOKUP(I3841,会場マスタ!$A:$B,2,FALSE))","v":""}]
["",null,null,null,null,null,null,null,null,{"$f":"IF(I3842= \"\",\"\",VLOOKUP(I3842,会場マスタ!$A:$B,2,FALSE))","v":""}]
["",null,null,null,null,null,null,null,null,{"$f":"IF(I3843= \"\",\"\",VLOOKUP(I3843,会場マスタ!$A:$B,2,FALSE))","v":""}]
["",null,null,null,null,null,null,null,null,{"$f":"IF(I3844= \"\",\"\",VLOOKUP(I3844,会場マスタ!$A:$B,2,FALSE))","v":""}]
["",null,null,null,null,null,null,null,null,{"$f":"IF(I3845= \"\",\"\",VLOOKUP(I3845,会場マスタ!$A:$B,2,FALSE))","v":""}]
["",null,null,null,null,null,null,null,null,{"$f":"IF(I3846= \"\",\"\",VLOOKUP(I3846,会場マスタ!$A:$B,2,FALSE))","v":""}]
[{"$f":"IF(B3847<>\"\",ROW(A3847)-4,\"\")","v":""},null,null,null,null,null,null,null,null,{"$f":"IF(I3847= \"\",\"\",VLOOKUP(I3847,会場マスタ!$A:$B,2,FALSE))","v":""}]
["",null,null,null,null,null,null,null,null,{"$f":"IF(I3848= \"\",\"\",VLOOKUP(I3848,会場マスタ!$A:$B,2,FALSE))","v":""}]
["",null,null,null,null,null,null,null,null,{"$f":"IF(I3849= \"\",\"\",VLOOKUP(I3849,会場マスタ!$A:$B,2,FALSE))","v":""}]
["",null,null,null,null,null,null,null,null,{"$f":"IF(I3850= \"\",\"\",VLOOKUP(I3850,会場マスタ!$A:$B,2,FALSE))","v":""}]
["",null,null,null,null,null,null,null,null,{"$f":"IF(I3851= \"\",\"\",VLOOKUP(I3851,会場マスタ!$A:$B,2,FALSE))","v":""}]
["",null,null,null,null,null,null,null,null,{"$f":"IF(I3852= \"\",\"\",VLOOKUP(I3852,会場マスタ!$A:$B,2,FALSE))","v":""}]
["",null,null,null,null,null,null,null,null,{"$f":"IF(I3853= \"\",\"\",VLOOKUP(I3853,会場マスタ!$A:$B,2,FALSE))","v":""}]
["",null,null,null,null,null,null,null,null,{"$f":"IF(I3854= \"\",\"\",VLOOKUP(I3854,会場マスタ!$A:$B,2,FALSE))","v":""}]
["",null,null,null,null,null,null,null,null,{"$f":"IF(I3855= \"\",\"\",VLOOKUP(I3855,会場マスタ!$A:$B,2,FALSE))","v":""}]
["",null,null,null,null,null,null,null,null,{"$f":"IF(I3856= \"\",\"\",VLOOKUP(I3856,会場マスタ!$A:$B,2,FALSE))","v":""}]
["",null,null,null,null,null,null,null,null,{"$f":"IF(I3857= \"\",\"\",VLOOKUP(I3857,会場マスタ!$A:$B,2,FALSE))","v":""}]
["",null,null,null,null,null,null,null,null,{"$f":"IF(I3858= \"\",\"\",VLOOKUP(I3858,会場マスタ!$A:$B,2,FALSE))","v":""}]
["",null,null,null,null,null,null,null,null,{"$f":"IF(I3859= \"\",\"\",VLOOKUP(I3859,会場マスタ!$A:$B,2,FALSE))","v":""}]
["",null,null,null,null,null,null,null,null,{"$f":"IF(I3860= \"\",\"\",VLOOKUP(I3860,会場マスタ!$A:$B,2,FALSE))","v":""}]
["",null,null,null,null,null,null,null,null,{"$f":"IF(I3861= \"\",\"\",VLOOKUP(I3861,会場マスタ!$A:$B,2,FALSE))","v":""}]
["",null,null,null,null,null,null,null,null,{"$f":"IF(I3862= \"\",\"\",VLOOKUP(I3862,会場マスタ!$A:$B,2,FALSE))","v":""}]
["",null,null,null,null,null,null,null,null,{"$f":"IF(I3863= \"\",\"\",VLOOKUP(I3863,会場マスタ!$A:$B,2,FALSE))","v":""}]
["",null,null,null,null,null,null,null,null,{"$f":"IF(I3864= \"\",\"\",VLOOKUP(I3864,会場マスタ!$A:$B,2,FALSE))","v":""}]
["",null,null,null,null,null,null,null,null,{"$f":"IF(I3865= \"\",\"\",VLOOKUP(I3865,会場マスタ!$A:$B,2,FALSE))","v":""}]
["",null,null,null,null,null,null,null,null,{"$f":"IF(I3866= \"\",\"\",VLOOKUP(I3866,会場マスタ!$A:$B,2,FALSE))","v":""}]
["",null,null,null,null,null,null,null,null,{"$f":"IF(I3867= \"\",\"\",VLOOKUP(I3867,会場マスタ!$A:$B,2,FALSE))","v":""}]
["",null,null,null,null,null,null,null,null,{"$f":"IF(I3868= \"\",\"\",VLOOKUP(I3868,会場マスタ!$A:$B,2,FALSE))","v":""}]
["",null,null,null,null,null,null,null,null,{"$f":"IF(I3869= \"\",\"\",VLOOKUP(I3869,会場マスタ!$A:$B,2,FALSE))","v":""}]
["",null,null,null,null,null,null,null,null,{"$f":"IF(I3870= \"\",\"\",VLOOKUP(I3870,会場マスタ!$A:$B,2,FALSE))","v":""}]
["",null,null,null,null,null,null,null,null,{"$f":"IF(I3871= \"\",\"\",VLOOKUP(I3871,会場マスタ!$A:$B,2,FALSE))","v":""}]
["",null,null,null,null,null,null,null,null,{"$f":"IF(I3872= \"\",\"\",VLOOKUP(I3872,会場マスタ!$A:$B,2,FALSE))","v":""}]
["",null,null,null,null,null,null,null,null,{"$f":"IF(I3873= \"\",\"\",VLOOKUP(I3873,会場マスタ!$A:$B,2,FALSE))","v":""}]
["",null,null,null,null,null,null,null,null,{"$f":"IF(I3874= \"\",\"\",VLOOKUP(I3874,会場マスタ!$A:$B,2,FALSE))","v":""}]
["",null,null,null,null,null,null,null,null,{"$f":"IF(I3875= \"\",\"\",VLOOKUP(I3875,会場マスタ!$A:$B,2,FALSE))","v":""}]
["",null,null,null,null,null,null,null,null,{"$f":"IF(I3876= \"\",\"\",VLOOKUP(I3876,会場マスタ!$A:$B,2,FALSE))","v":""}]
["",null,null,null,null,null,null,null,null,{"$f":"IF(I3877= \"\",\"\",VLOOKUP(I3877,会場マスタ!$A:$B,2,FALSE))","v":""}]
["",null,null,null,null,null,null,null,null,{"$f":"IF(I3878= \"\",\"\",VLOOKUP(I3878,会場マスタ!$A:$B,2,FALSE))","v":""}]
["",null,null,null,null,null,null,null,null,{"$f":"IF(I3879= \"\",\"\",VLOOKUP(I3879,会場マスタ!$A:$B,2,FALSE))","v":""}]
["",null,null,null,null,null,null,null,null,{"$f":"IF(I3880= \"\",\"\",VLOOKUP(I3880,会場マスタ!$A:$B,2,FALSE))","v":""}]
["",null,null,null,null,null,null,null,null,{"$f":"IF(I3881= \"\",\"\",VLOOKUP(I3881,会場マスタ!$A:$B,2,FALSE))","v":""}]
["",null,null,null,null,null,null,null,null,{"$f":"IF(I3882= \"\",\"\",VLOOKUP(I3882,会場マスタ!$A:$B,2,FALSE))","v":""}]
["",null,null,null,null,null,null,null,null,{"$f":"IF(I3883= \"\",\"\",VLOOKUP(I3883,会場マスタ!$A:$B,2,FALSE))","v":""}]
["",null,null,null,null,null,null,null,null,{"$f":"IF(I3884= \"\",\"\",VLOOKUP(I3884,会場マスタ!$A:$B,2,FALSE))","v":""}]
["",null,null,null,null,null,null,null,null,{"$f":"IF(I3885= \"\",\"\",VLOOKUP(I3885,会場マスタ!$A:$B,2,FALSE))","v":""}]
["",null,null,null,null,null,null,null,null,{"$f":"IF(I3886= \"\",\"\",VLOOKUP(I3886,会場マスタ!$A:$B,2,FALSE))","v":""}]
["",null,null,null,null,null,null,null,null,{"$f":"IF(I3887= \"\",\"\",VLOOKUP(I3887,会場マスタ!$A:$B,2,FALSE))","v":""}]
["",null,null,null,null,null,null,null,null,{"$f":"IF(I3888= \"\",\"\",VLOOKUP(I3888,会場マスタ!$A:$B,2,FALSE))","v":""}]
["",null,null,null,null,null,null,null,null,{"$f":"IF(I3889= \"\",\"\",VLOOKUP(I3889,会場マスタ!$A:$B,2,FALSE))","v":""}]
["",null,null,null,null,null,null,null,null,{"$f":"IF(I3890= \"\",\"\",VLOOKUP(I3890,会場マスタ!$A:$B,2,FALSE))","v":""}]
["",null,null,null,null,null,null,null,null,{"$f":"IF(I3891= \"\",\"\",VLOOKUP(I3891,会場マスタ!$A:$B,2,FALSE))","v":""}]
["",null,null,null,null,null,null,null,null,{"$f":"IF(I3892= \"\",\"\",VLOOKUP(I3892,会場マスタ!$A:$B,2,FALSE))","v":""}]
["",null,null,null,null,null,null,null,null,{"$f":"IF(I3893= \"\",\"\",VLOOKUP(I3893,会場マスタ!$A:$B,2,FALSE))","v":""}]
["",null,null,null,null,null,null,null,null,{"$f":"IF(I3894= \"\",\"\",VLOOKUP(I3894,会場マスタ!$A:$B,2,FALSE))","v":""}]
["",null,null,null,null,null,null,null,null,{"$f":"IF(I3895= \"\",\"\",VLOOKUP(I3895,会場マスタ!$A:$B,2,FALSE))","v":""}]
["",null,null,null,null,null,null,null,null,{"$f":"IF(I3896= \"\",\"\",VLOOKUP(I3896,会場マスタ!$A:$B,2,FALSE))","v":""}]
["",null,null,null,null,null,null,null,null,{"$f":"IF(I3897= \"\",\"\",VLOOKUP(I3897,会場マスタ!$A:$B,2,FALSE))","v":""}]
["",null,null,null,null,null,null,null,null,{"$f":"IF(I3898= \"\",\"\",VLOOKUP(I3898,会場マスタ!$A:$B,2,FALSE))","v":""}]
["",null,null,null,null,null,null,null,null,{"$f":"IF(I3899= \"\",\"\",VLOOKUP(I3899,会場マスタ!$A:$B,2,FALSE))","v":""}]
["",null,null,null,null,null,null,null,null,{"$f":"IF(I3900= \"\",\"\",VLOOKUP(I3900,会場マスタ!$A:$B,2,FALSE))","v":""}]
["",null,null,null,null,null,null,null,null,{"$f":"IF(I3901= \"\",\"\",VLOOKUP(I3901,会場マスタ!$A:$B,2,FALSE))","v":""}]
["",null,null,null,null,null,null,null,null,{"$f":"IF(I3902= \"\",\"\",VLOOKUP(I3902,会場マスタ!$A:$B,2,FALSE))","v":""}]
["",null,null,null,null,null,null,null,null,{"$f":"IF(I3903= \"\",\"\",VLOOKUP(I3903,会場マスタ!$A:$B,2,FALSE))","v":""}]
["",null,null,null,null,null,null,null,null,{"$f":"IF(I3904= \"\",\"\",VLOOKUP(I3904,会場マスタ!$A:$B,2,FALSE))","v":""}]
["",null,null,null,null,null,null,null,null,{"$f":"IF(I3905= \"\",\"\",VLOOKUP(I3905,会場マスタ!$A:$B,2,FALSE))","v":""}]
["",null,null,null,null,null,null,null,null,{"$f":"IF(I3906= \"\",\"\",VLOOKUP(I3906,会場マスタ!$A:$B,2,FALSE))","v":""}]
["",null,null,null,null,null,null,null,null,{"$f":"IF(I3907= \"\",\"\",VLOOKUP(I3907,会場マスタ!$A:$B,2,FALSE))","v":""}]
["",null,null,null,null,null,null,null,null,{"$f":"IF(I3908= \"\",\"\",VLOOKUP(I3908,会場マスタ!$A:$B,2,FALSE))","v":""}]
["",null,null,null,null,null,null,null,null,{"$f":"IF(I3909= \"\",\"\",VLOOKUP(I3909,会場マスタ!$A:$B,2,FALSE))","v":""}]
["",null,null,null,null,null,null,null,null,{"$f":"IF(I3910= \"\",\"\",VLOOKUP(I3910,会場マスタ!$A:$B,2,FALSE))","v":""}]
[{"$f":"IF(B3911<>\"\",ROW(A3911)-4,\"\")","v":""},null,null,null,null,null,null,null,null,{"$f":"IF(I3911= \"\",\"\",VLOOKUP(I3911,会場マスタ!$A:$B,2,FALSE))","v":""}]
["",null,null,null,null,null,null,null,null,{"$f":"IF(I3912= \"\",\"\",VLOOKUP(I3912,会場マスタ!$A:$B,2,FALSE))","v":""}]
["",null,null,null,null,null,null,null,null,{"$f":"IF(I3913= \"\",\"\",VLOOKUP(I3913,会場マスタ!$A:$B,2,FALSE))","v":""}]
["",null,null,null,null,null,null,null,null,{"$f":"IF(I3914= \"\",\"\",VLOOKUP(I3914,会場マスタ!$A:$B,2,FALSE))","v":""}]
["",null,null,null,null,null,null,null,null,{"$f":"IF(I3915= \"\",\"\",VLOOKUP(I3915,会場マスタ!$A:$B,2,FALSE))","v":""}]
["",null,null,null,null,null,null,null,null,{"$f":"IF(I3916= \"\",\"\",VLOOKUP(I3916,会場マスタ!$A:$B,2,FALSE))","v":""}]
["",null,null,null,null,null,null,null,null,{"$f":"IF(I3917= \"\",\"\",VLOOKUP(I3917,会場マスタ!$A:$B,2,FALSE))","v":""}]
["",null,null,null,null,null,null,null,null,{"$f":"IF(I3918= \"\",\"\",VLOOKUP(I3918,会場マスタ!$A:$B,2,FALSE))","v":""}]
["",null,null,null,null,null,null,null,null,{"$f":"IF(I3919= \"\",\"\",VLOOKUP(I3919,会場マスタ!$A:$B,2,FALSE))","v":""}]
["",null,null,null,null,null,null,null,null,{"$f":"IF(I3920= \"\",\"\",VLOOKUP(I3920,会場マスタ!$A:$B,2,FALSE))","v":""}]
["",null,null,null,null,null,null,null,null,{"$f":"IF(I3921= \"\",\"\",VLOOKUP(I3921,会場マスタ!$A:$B,2,FALSE))","v":""}]
["",null,null,null,null,null,null,null,null,{"$f":"IF(I3922= \"\",\"\",VLOOKUP(I3922,会場マスタ!$A:$B,2,FALSE))","v":""}]
["",null,null,null,null,null,null,null,null,{"$f":"IF(I3923= \"\",\"\",VLOOKUP(I3923,会場マスタ!$A:$B,2,FALSE))","v":""}]
["",null,null,null,null,null,null,null,null,{"$f":"IF(I3924= \"\",\"\",VLOOKUP(I3924,会場マスタ!$A:$B,2,FALSE))","v":""}]
["",null,null,null,null,null,null,null,null,{"$f":"IF(I3925= \"\",\"\",VLOOKUP(I3925,会場マスタ!$A:$B,2,FALSE))","v":""}]
["",null,null,null,null,null,null,null,null,{"$f":"IF(I3926= \"\",\"\",VLOOKUP(I3926,会場マスタ!$A:$B,2,FALSE))","v":""}]
["",null,null,null,null,null,null,null,null,{"$f":"IF(I3927= \"\",\"\",VLOOKUP(I3927,会場マスタ!$A:$B,2,FALSE))","v":""}]
["",null,null,null,null,null,null,null,null,{"$f":"IF(I3928= \"\",\"\",VLOOKUP(I3928,会場マスタ!$A:$B,2,FALSE))","v":""}]
["",null,null,null,null,null,null,null,null,{"$f":"IF(I3929= \"\",\"\",VLOOKUP(I3929,会場マスタ!$A:$B,2,FALSE))","v":""}]
["",null,null,null,null,null,null,null,null,{"$f":"IF(I3930= \"\",\"\",VLOOKUP(I3930,会場マスタ!$A:$B,2,FALSE))","v":""}]
["",null,null,null,null,null,null,null,null,{"$f":"IF(I3931= \"\",\"\",VLOOKUP(I3931,会場マスタ!$A:$B,2,FALSE))","v":""}]
["",null,null,null,null,null,null,null,null,{"$f":"IF(I3932= \"\",\"\",VLOOKUP(I3932,会場マスタ!$A:$B,2,FALSE))","v":""}]
["",null,null,null,null,null,null,null,null,{"$f":"IF(I3933= \"\",\"\",VLOOKUP(I3933,会場マスタ!$A:$B,2,FALSE))","v":""}]
["",null,null,null,null,null,null,null,null,{"$f":"IF(I3934= \"\",\"\",VLOOKUP(I3934,会場マスタ!$A:$B,2,FALSE))","v":""}]
["",null,null,null,null,null,null,null,null,{"$f":"IF(I3935= \"\",\"\",VLOOKUP(I3935,会場マスタ!$A:$B,2,FALSE))","v":""}]
["",null,null,null,null,null,null,null,null,{"$f":"IF(I3936= \"\",\"\",VLOOKUP(I3936,会場マスタ!$A:$B,2,FALSE))","v":""}]
["",null,null,null,null,null,null,null,null,{"$f":"IF(I3937= \"\",\"\",VLOOKUP(I3937,会場マスタ!$A:$B,2,FALSE))","v":""}]
["",null,null,null,null,null,null,null,null,{"$f":"IF(I3938= \"\",\"\",VLOOKUP(I3938,会場マスタ!$A:$B,2,FALSE))","v":""}]
["",null,null,null,null,null,null,null,null,{"$f":"IF(I3939= \"\",\"\",VLOOKUP(I3939,会場マスタ!$A:$B,2,FALSE))","v":""}]
["",null,null,null,null,null,null,null,null,{"$f":"IF(I3940= \"\",\"\",VLOOKUP(I3940,会場マスタ!$A:$B,2,FALSE))","v":""}]
["",null,null,null,null,null,null,null,null,{"$f":"IF(I3941= \"\",\"\",VLOOKUP(I3941,会場マスタ!$A:$B,2,FALSE))","v":""}]
["",null,null,null,null,null,null,null,null,{"$f":"IF(I3942= \"\",\"\",VLOOKUP(I3942,会場マスタ!$A:$B,2,FALSE))","v":""}]
["",null,null,null,null,null,null,null,null,{"$f":"IF(I3943= \"\",\"\",VLOOKUP(I3943,会場マスタ!$A:$B,2,FALSE))","v":""}]
["",null,null,null,null,null,null,null,null,{"$f":"IF(I3944= \"\",\"\",VLOOKUP(I3944,会場マスタ!$A:$B,2,FALSE))","v":""}]
["",null,null,null,null,null,null,null,null,{"$f":"IF(I3945= \"\",\"\",VLOOKUP(I3945,会場マスタ!$A:$B,2,FALSE))","v":""}]
["",null,null,null,null,null,null,null,null,{"$f":"IF(I3946= \"\",\"\",VLOOKUP(I3946,会場マスタ!$A:$B,2,FALSE))","v":""}]
["",null,null,null,null,null,null,null,null,{"$f":"IF(I3947= \"\",\"\",VLOOKUP(I3947,会場マスタ!$A:$B,2,FALSE))","v":""}]
["",null,null,null,null,null,null,null,null,{"$f":"IF(I3948= \"\",\"\",VLOOKUP(I3948,会場マスタ!$A:$B,2,FALSE))","v":""}]
["",null,null,null,null,null,null,null,null,{"$f":"IF(I3949= \"\",\"\",VLOOKUP(I3949,会場マスタ!$A:$B,2,FALSE))","v":""}]
["",null,null,null,null,null,null,null,null,{"$f":"IF(I3950= \"\",\"\",VLOOKUP(I3950,会場マスタ!$A:$B,2,FALSE))","v":""}]
["",null,null,null,null,null,null,null,null,{"$f":"IF(I3951= \"\",\"\",VLOOKUP(I3951,会場マスタ!$A:$B,2,FALSE))","v":""}]
["",null,null,null,null,null,null,null,null,{"$f":"IF(I3952= \"\",\"\",VLOOKUP(I3952,会場マスタ!$A:$B,2,FALSE))","v":""}]
["",null,null,null,null,null,null,null,null,{"$f":"IF(I3953= \"\",\"\",VLOOKUP(I3953,会場マスタ!$A:$B,2,FALSE))","v":""}]
["",null,null,null,null,null,null,null,null,{"$f":"IF(I3954= \"\",\"\",VLOOKUP(I3954,会場マスタ!$A:$B,2,FALSE))","v":""}]
["",null,null,null,null,null,null,null,null,{"$f":"IF(I3955= \"\",\"\",VLOOKUP(I3955,会場マスタ!$A:$B,2,FALSE))","v":""}]
["",null,null,null,null,null,null,null,null,{"$f":"IF(I3956= \"\",\"\",VLOOKUP(I3956,会場マスタ!$A:$B,2,FALSE))","v":""}]
["",null,null,null,null,null,null,null,null,{"$f":"IF(I3957= \"\",\"\",VLOOKUP(I3957,会場マスタ!$A:$B,2,FALSE))","v":""}]
["",null,null,null,null,null,null,null,null,{"$f":"IF(I3958= \"\",\"\",VLOOKUP(I3958,会場マスタ!$A:$B,2,FALSE))","v":""}]
["",null,null,null,null,null,null,null,null,{"$f":"IF(I3959= \"\",\"\",VLOOKUP(I3959,会場マスタ!$A:$B,2,FALSE))","v":""}]
["",null,null,null,null,null,null,null,null,{"$f":"IF(I3960= \"\",\"\",VLOOKUP(I3960,会場マスタ!$A:$B,2,FALSE))","v":""}]
["",null,null,null,null,null,null,null,null,{"$f":"IF(I3961= \"\",\"\",VLOOKUP(I3961,会場マスタ!$A:$B,2,FALSE))","v":""}]
["",null,null,null,null,null,null,null,null,{"$f":"IF(I3962= \"\",\"\",VLOOKUP(I3962,会場マスタ!$A:$B,2,FALSE))","v":""}]
["",null,null,null,null,null,null,null,null,{"$f":"IF(I3963= \"\",\"\",VLOOKUP(I3963,会場マスタ!$A:$B,2,FALSE))","v":""}]
["",null,null,null,null,null,null,null,null,{"$f":"IF(I3964= \"\",\"\",VLOOKUP(I3964,会場マスタ!$A:$B,2,FALSE))","v":""}]
["",null,null,null,null,null,null,null,null,{"$f":"IF(I3965= \"\",\"\",VLOOKUP(I3965,会場マスタ!$A:$B,2,FALSE))","v":""}]
["",null,null,null,null,null,null,null,null,{"$f":"IF(I3966= \"\",\"\",VLOOKUP(I3966,会場マスタ!$A:$B,2,FALSE))","v":""}]
["",null,null,null,null,null,null,null,null,{"$f":"IF(I3967= \"\",\"\",VLOOKUP(I3967,会場マスタ!$A:$B,2,FALSE))","v":""}]
["",null,null,null,null,null,null,null,null,{"$f":"IF(I3968= \"\",\"\",VLOOKUP(I3968,会場マスタ!$A:$B,2,FALSE))","v":""}]
["",null,null,null,null,null,null,null,null,{"$f":"IF(I3969= \"\",\"\",VLOOKUP(I3969,会場マスタ!$A:$B,2,FALSE))","v":""}]
["",null,null,null,null,null,null,null,null,{"$f":"IF(I3970= \"\",\"\",VLOOKUP(I3970,会場マスタ!$A:$B,2,FALSE))","v":""}]
["",null,null,null,null,null,null,null,null,{"$f":"IF(I3971= \"\",\"\",VLOOKUP(I3971,会場マスタ!$A:$B,2,FALSE))","v":""}]
["",null,null,null,null,null,null,null,null,{"$f":"IF(I3972= \"\",\"\",VLOOKUP(I3972,会場マスタ!$A:$B,2,FALSE))","v":""}]
["",null,null,null,null,null,null,null,null,{"$f":"IF(I3973= \"\",\"\",VLOOKUP(I3973,会場マスタ!$A:$B,2,FALSE))","v":""}]
["",null,null,null,null,null,null,null,null,{"$f":"IF(I3974= \"\",\"\",VLOOKUP(I3974,会場マスタ!$A:$B,2,FALSE))","v":""}]
[{"$f":"IF(B3975<>\"\",ROW(A3975)-4,\"\")","v":""},null,null,null,null,null,null,null,null,{"$f":"IF(I3975= \"\",\"\",VLOOKUP(I3975,会場マスタ!$A:$B,2,FALSE))","v":""}]
["",null,null,null,null,null,null,null,null,{"$f":"IF(I3976= \"\",\"\",VLOOKUP(I3976,会場マスタ!$A:$B,2,FALSE))","v":""}]
["",null,null,null,null,null,null,null,null,{"$f":"IF(I3977= \"\",\"\",VLOOKUP(I3977,会場マスタ!$A:$B,2,FALSE))","v":""}]
["",null,null,null,null,null,null,null,null,{"$f":"IF(I3978= \"\",\"\",VLOOKUP(I3978,会場マスタ!$A:$B,2,FALSE))","v":""}]
["",null,null,null,null,null,null,null,null,{"$f":"IF(I3979= \"\",\"\",VLOOKUP(I3979,会場マスタ!$A:$B,2,FALSE))","v":""}]
["",null,null,null,null,null,null,null,null,{"$f":"IF(I3980= \"\",\"\",VLOOKUP(I3980,会場マスタ!$A:$B,2,FALSE))","v":""}]
["",null,null,null,null,null,null,null,null,{"$f":"IF(I3981= \"\",\"\",VLOOKUP(I3981,会場マスタ!$A:$B,2,FALSE))","v":""}]
["",null,null,null,null,null,null,null,null,{"$f":"IF(I3982= \"\",\"\",VLOOKUP(I3982,会場マスタ!$A:$B,2,FALSE))","v":""}]
["",null,null,null,null,null,null,null,null,{"$f":"IF(I3983= \"\",\"\",VLOOKUP(I3983,会場マスタ!$A:$B,2,FALSE))","v":""}]
["",null,null,null,null,null,null,null,null,{"$f":"IF(I3984= \"\",\"\",VLOOKUP(I3984,会場マスタ!$A:$B,2,FALSE))","v":""}]
["",null,null,null,null,null,null,null,null,{"$f":"IF(I3985= \"\",\"\",VLOOKUP(I3985,会場マスタ!$A:$B,2,FALSE))","v":""}]
["",null,null,null,null,null,null,null,null,{"$f":"IF(I3986= \"\",\"\",VLOOKUP(I3986,会場マスタ!$A:$B,2,FALSE))","v":""}]
["",null,null,null,null,null,null,null,null,{"$f":"IF(I3987= \"\",\"\",VLOOKUP(I3987,会場マスタ!$A:$B,2,FALSE))","v":""}]
["",null,null,null,null,null,null,null,null,{"$f":"IF(I3988= \"\",\"\",VLOOKUP(I3988,会場マスタ!$A:$B,2,FALSE))","v":""}]
["",null,null,null,null,null,null,null,null,{"$f":"IF(I3989= \"\",\"\",VLOOKUP(I3989,会場マスタ!$A:$B,2,FALSE))","v":""}]
["",null,null,null,null,null,null,null,null,{"$f":"IF(I3990= \"\",\"\",VLOOKUP(I3990,会場マスタ!$A:$B,2,FALSE))","v":""}]
["",null,null,null,null,null,null,null,null,{"$f":"IF(I3991= \"\",\"\",VLOOKUP(I3991,会場マスタ!$A:$B,2,FALSE))","v":""}]
["",null,null,null,null,null,null,null,null,{"$f":"IF(I3992= \"\",\"\",VLOOKUP(I3992,会場マスタ!$A:$B,2,FALSE))","v":""}]
["",null,null,null,null,null,null,null,null,{"$f":"IF(I3993= \"\",\"\",VLOOKUP(I3993,会場マスタ!$A:$B,2,FALSE))","v":""}]
["",null,null,null,null,null,null,null,null,{"$f":"IF(I3994= \"\",\"\",VLOOKUP(I3994,会場マスタ!$A:$B,2,FALSE))","v":""}]
["",null,null,null,null,null,null,null,null,{"$f":"IF(I3995= \"\",\"\",VLOOKUP(I3995,会場マスタ!$A:$B,2,FALSE))","v":""}]
["",null,null,null,null,null,null,null,null,{"$f":"IF(I3996= \"\",\"\",VLOOKUP(I3996,会場マスタ!$A:$B,2,FALSE))","v":""}]
["",null,null,null,null,null,null,null,null,{"$f":"IF(I3997= \"\",\"\",VLOOKUP(I3997,会場マスタ!$A:$B,2,FALSE))","v":""}]
["",null,null,null,null,null,null,null,null,{"$f":"IF(I3998= \"\",\"\",VLOOKUP(I3998,会場マスタ!$A:$B,2,FALSE))","v":""}]
["",null,null,null,null,null,null,null,null,{"$f":"IF(I3999= \"\",\"\",VLOOKUP(I3999,会場マスタ!$A:$B,2,FALSE))","v":""}]
["",null,null,null,null,null,null,null,null,{"$f":"IF(I4000= \"\",\"\",VLOOKUP(I4000,会場マスタ!$A:$B,2,FALSE))","v":""}]
["",null,null,null,null,null,null,null,null,{"$f":"IF(I4001= \"\",\"\",VLOOKUP(I4001,会場マスタ!$A:$B,2,FALSE))","v":""}]
["",null,null,null,null,null,null,null,null,{"$f":"IF(I4002= \"\",\"\",VLOOKUP(I4002,会場マスタ!$A:$B,2,FALSE))","v":""}]
["",null,null,null,null,null,null,null,null,{"$f":"IF(I4003= \"\",\"\",VLOOKUP(I4003,会場マスタ!$A:$B,2,FALSE))","v":""}]
["",null,null,null,null,null,null,null,null,{"$f":"IF(I4004= \"\",\"\",VLOOKUP(I4004,会場マスタ!$A:$B,2,FALSE))","v":""}]
["",null,null,null,null,null,null,null,null,{"$f":"IF(I4005= \"\",\"\",VLOOKUP(I4005,会場マスタ!$A:$B,2,FALSE))","v":""}]
["",null,null,null,null,null,null,null,null,{"$f":"IF(I4006= \"\",\"\",VLOOKUP(I4006,会場マスタ!$A:$B,2,FALSE))","v":""}]
["",null,null,null,null,null,null,null,null,{"$f":"IF(I4007= \"\",\"\",VLOOKUP(I4007,会場マスタ!$A:$B,2,FALSE))","v":""}]
["",null,null,null,null,null,null,null,null,{"$f":"IF(I4008= \"\",\"\",VLOOKUP(I4008,会場マスタ!$A:$B,2,FALSE))","v":""}]
["",null,null,null,null,null,null,null,null,{"$f":"IF(I4009= \"\",\"\",VLOOKUP(I4009,会場マスタ!$A:$B,2,FALSE))","v":""}]
["",null,null,null,null,null,null,null,null,{"$f":"IF(I4010= \"\",\"\",VLOOKUP(I4010,会場マスタ!$A:$B,2,FALSE))","v":""}]
["",null,null,null,null,null,null,null,null,{"$f":"IF(I4011= \"\",\"\",VLOOKUP(I4011,会場マスタ!$A:$B,2,FALSE))","v":""}]
["",null,null,null,null,null,null,null,null,{"$f":"IF(I4012= \"\",\"\",VLOOKUP(I4012,会場マスタ!$A:$B,2,FALSE))","v":""}]
["",null,null,null,null,null,null,null,null,{"$f":"IF(I4013= \"\",\"\",VLOOKUP(I4013,会場マスタ!$A:$B,2,FALSE))","v":""}]
["",null,null,null,null,null,null,null,null,{"$f":"IF(I4014= \"\",\"\",VLOOKUP(I4014,会場マスタ!$A:$B,2,FALSE))","v":""}]
["",null,null,null,null,null,null,null,null,{"$f":"IF(I4015= \"\",\"\",VLOOKUP(I4015,会場マスタ!$A:$B,2,FALSE))","v":""}]
["",null,null,null,null,null,null,null,null,{"$f":"IF(I4016= \"\",\"\",VLOOKUP(I4016,会場マスタ!$A:$B,2,FALSE))","v":""}]
["",null,null,null,null,null,null,null,null,{"$f":"IF(I4017= \"\",\"\",VLOOKUP(I4017,会場マスタ!$A:$B,2,FALSE))","v":""}]
["",null,null,null,null,null,null,null,null,{"$f":"IF(I4018= \"\",\"\",VLOOKUP(I4018,会場マスタ!$A:$B,2,FALSE))","v":""}]
["",null,null,null,null,null,null,null,null,{"$f":"IF(I4019= \"\",\"\",VLOOKUP(I4019,会場マスタ!$A:$B,2,FALSE))","v":""}]
["",null,null,null,null,null,null,null,null,{"$f":"IF(I4020= \"\",\"\",VLOOKUP(I4020,会場マスタ!$A:$B,2,FALSE))","v":""}]
["",null,null,null,null,null,null,null,null,{"$f":"IF(I4021= \"\",\"\",VLOOKUP(I4021,会場マスタ!$A:$B,2,FALSE))","v":""}]
["",null,null,null,null,null,null,null,null,{"$f":"IF(I4022= \"\",\"\",VLOOKUP(I4022,会場マスタ!$A:$B,2,FALSE))","v":""}]
["",null,null,null,null,null,null,null,null,{"$f":"IF(I4023= \"\",\"\",VLOOKUP(I4023,会場マスタ!$A:$B,2,FALSE))","v":""}]
["",null,null,null,null,null,null,null,null,{"$f":"IF(I4024= \"\",\"\",VLOOKUP(I4024,会場マスタ!$A:$B,2,FALSE))","v":""}]
["",null,null,null,null,null,null,null,null,{"$f":"IF(I4025= \"\",\"\",VLOOKUP(I4025,会場マスタ!$A:$B,2,FALSE))","v":""}]
["",null,null,null,null,null,null,null,null,{"$f":"IF(I4026= \"\",\"\",VLOOKUP(I4026,会場マスタ!$A:$B,2,FALSE))","v":""}]
["",null,null,null,null,null,null,null,null,{"$f":"IF(I4027= \"\",\"\",VLOOKUP(I4027,会場マスタ!$A:$B,2,FALSE))","v":""}]
["",null,null,null,null,null,null,null,null,{"$f":"IF(I4028= \"\",\"\",VLOOKUP(I4028,会場マスタ!$A:$B,2,FALSE))","v":""}]
["",null,null,null,null,null,null,null,null,{"$f":"IF(I4029= \"\",\"\",VLOOKUP(I4029,会場マスタ!$A:$B,2,FALSE))","v":""}]
["",null,null,null,null,null,null,null,null,{"$f":"IF(I4030= \"\",\"\",VLOOKUP(I4030,会場マスタ!$A:$B,2,FALSE))","v":""}]
["",null,null,null,null,null,null,null,null,{"$f":"IF(I4031= \"\",\"\",VLOOKUP(I4031,会場マスタ!$A:$B,2,FALSE))","v":""}]
["",null,null,null,null,null,null,null,null,{"$f":"IF(I4032= \"\",\"\",VLOOKUP(I4032,会場マスタ!$A:$B,2,FALSE))","v":""}]
["",null,null,null,null,null,null,null,null,{"$f":"IF(I4033= \"\",\"\",VLOOKUP(I4033,会場マスタ!$A:$B,2,FALSE))","v":""}]
["",null,null,null,null,null,null,null,null,{"$f":"IF(I4034= \"\",\"\",VLOOKUP(I4034,会場マスタ!$A:$B,2,FALSE))","v":""}]
["",null,null,null,null,null,null,null,null,{"$f":"IF(I4035= \"\",\"\",VLOOKUP(I4035,会場マスタ!$A:$B,2,FALSE))","v":""}]
["",null,null,null,null,null,null,null,null,{"$f":"IF(I4036= \"\",\"\",VLOOKUP(I4036,会場マスタ!$A:$B,2,FALSE))","v":""}]
["",null,null,null,null,null,null,null,null,{"$f":"IF(I4037= \"\",\"\",VLOOKUP(I4037,会場マスタ!$A:$B,2,FALSE))","v":""}]
["",null,null,null,null,null,null,null,null,{"$f":"IF(I4038= \"\",\"\",VLOOKUP(I4038,会場マスタ!$A:$B,2,FALSE))","v":""}]
[{"$f":"IF(B4039<>\"\",ROW(A4039)-4,\"\")","v":""},null,null,null,null,null,null,null,null,{"$f":"IF(I4039= \"\",\"\",VLOOKUP(I4039,会場マスタ!$A:$B,2,FALSE))","v":""}]
["",null,null,null,null,null,null,null,null,{"$f":"IF(I4040= \"\",\"\",VLOOKUP(I4040,会場マスタ!$A:$B,2,FALSE))","v":""}]
["",null,null,null,null,null,null,null,null,{"$f":"IF(I4041= \"\",\"\",VLOOKUP(I4041,会場マスタ!$A:$B,2,FALSE))","v":""}]
["",null,null,null,null,null,null,null,null,{"$f":"IF(I4042= \"\",\"\",VLOOKUP(I4042,会場マスタ!$A:$B,2,FALSE))","v":""}]
["",null,null,null,null,null,null,null,null,{"$f":"IF(I4043= \"\",\"\",VLOOKUP(I4043,会場マスタ!$A:$B,2,FALSE))","v":""}]
["",null,null,null,null,null,null,null,null,{"$f":"IF(I4044= \"\",\"\",VLOOKUP(I4044,会場マスタ!$A:$B,2,FALSE))","v":""}]
["",null,null,null,null,null,null,null,null,{"$f":"IF(I4045= \"\",\"\",VLOOKUP(I4045,会場マスタ!$A:$B,2,FALSE))","v":""}]
["",null,null,null,null,null,null,null,null,{"$f":"IF(I4046= \"\",\"\",VLOOKUP(I4046,会場マスタ!$A:$B,2,FALSE))","v":""}]
["",null,null,null,null,null,null,null,null,{"$f":"IF(I4047= \"\",\"\",VLOOKUP(I4047,会場マスタ!$A:$B,2,FALSE))","v":""}]
["",null,null,null,null,null,null,null,null,{"$f":"IF(I4048= \"\",\"\",VLOOKUP(I4048,会場マスタ!$A:$B,2,FALSE))","v":""}]
["",null,null,null,null,null,null,null,null,{"$f":"IF(I4049= \"\",\"\",VLOOKUP(I4049,会場マスタ!$A:$B,2,FALSE))","v":""}]
["",null,null,null,null,null,null,null,null,{"$f":"IF(I4050= \"\",\"\",VLOOKUP(I4050,会場マスタ!$A:$B,2,FALSE))","v":""}]
["",null,null,null,null,null,null,null,null,{"$f":"IF(I4051= \"\",\"\",VLOOKUP(I4051,会場マスタ!$A:$B,2,FALSE))","v":""}]
["",null,null,null,null,null,null,null,null,{"$f":"IF(I4052= \"\",\"\",VLOOKUP(I4052,会場マスタ!$A:$B,2,FALSE))","v":""}]
["",null,null,null,null,null,null,null,null,{"$f":"IF(I4053= \"\",\"\",VLOOKUP(I4053,会場マスタ!$A:$B,2,FALSE))","v":""}]
["",null,null,null,null,null,null,null,null,{"$f":"IF(I4054= \"\",\"\",VLOOKUP(I4054,会場マスタ!$A:$B,2,FALSE))","v":""}]
["",null,null,null,null,null,null,null,null,{"$f":"IF(I4055= \"\",\"\",VLOOKUP(I4055,会場マスタ!$A:$B,2,FALSE))","v":""}]
["",null,null,null,null,null,null,null,null,{"$f":"IF(I4056= \"\",\"\",VLOOKUP(I4056,会場マスタ!$A:$B,2,FALSE))","v":""}]
["",null,null,null,null,null,null,null,null,{"$f":"IF(I4057= \"\",\"\",VLOOKUP(I4057,会場マスタ!$A:$B,2,FALSE))","v":""}]
["",null,null,null,null,null,null,null,null,{"$f":"IF(I4058= \"\",\"\",VLOOKUP(I4058,会場マスタ!$A:$B,2,FALSE))","v":""}]
["",null,null,null,null,null,null,null,null,{"$f":"IF(I4059= \"\",\"\",VLOOKUP(I4059,会場マスタ!$A:$B,2,FALSE))","v":""}]
["",null,null,null,null,null,null,null,null,{"$f":"IF(I4060= \"\",\"\",VLOOKUP(I4060,会場マスタ!$A:$B,2,FALSE))","v":""}]
["",null,null,null,null,null,null,null,null,{"$f":"IF(I4061= \"\",\"\",VLOOKUP(I4061,会場マスタ!$A:$B,2,FALSE))","v":""}]
["",null,null,null,null,null,null,null,null,{"$f":"IF(I4062= \"\",\"\",VLOOKUP(I4062,会場マスタ!$A:$B,2,FALSE))","v":""}]
["",null,null,null,null,null,null,null,null,{"$f":"IF(I4063= \"\",\"\",VLOOKUP(I4063,会場マスタ!$A:$B,2,FALSE))","v":""}]
["",null,null,null,null,null,null,null,null,{"$f":"IF(I4064= \"\",\"\",VLOOKUP(I4064,会場マスタ!$A:$B,2,FALSE))","v":""}]
["",null,null,null,null,null,null,null,null,{"$f":"IF(I4065= \"\",\"\",VLOOKUP(I4065,会場マスタ!$A:$B,2,FALSE))","v":""}]
["",null,null,null,null,null,null,null,null,{"$f":"IF(I4066= \"\",\"\",VLOOKUP(I4066,会場マスタ!$A:$B,2,FALSE))","v":""}]
["",null,null,null,null,null,null,null,null,{"$f":"IF(I4067= \"\",\"\",VLOOKUP(I4067,会場マスタ!$A:$B,2,FALSE))","v":""}]
["",null,null,null,null,null,null,null,null,{"$f":"IF(I4068= \"\",\"\",VLOOKUP(I4068,会場マスタ!$A:$B,2,FALSE))","v":""}]
["",null,null,null,null,null,null,null,null,{"$f":"IF(I4069= \"\",\"\",VLOOKUP(I4069,会場マスタ!$A:$B,2,FALSE))","v":""}]
["",null,null,null,null,null,null,null,null,{"$f":"IF(I4070= \"\",\"\",VLOOKUP(I4070,会場マスタ!$A:$B,2,FALSE))","v":""}]
["",null,null,null,null,null,null,null,null,{"$f":"IF(I4071= \"\",\"\",VLOOKUP(I4071,会場マスタ!$A:$B,2,FALSE))","v":""}]
["",null,null,null,null,null,null,null,null,{"$f":"IF(I4072= \"\",\"\",VLOOKUP(I4072,会場マスタ!$A:$B,2,FALSE))","v":""}]
["",null,null,null,null,null,null,null,null,{"$f":"IF(I4073= \"\",\"\",VLOOKUP(I4073,会場マスタ!$A:$B,2,FALSE))","v":""}]
["",null,null,null,null,null,null,null,null,{"$f":"IF(I4074= \"\",\"\",VLOOKUP(I4074,会場マスタ!$A:$B,2,FALSE))","v":""}]
["",null,null,null,null,null,null,null,null,{"$f":"IF(I4075= \"\",\"\",VLOOKUP(I4075,会場マスタ!$A:$B,2,FALSE))","v":""}]
["",null,null,null,null,null,null,null,null,{"$f":"IF(I4076= \"\",\"\",VLOOKUP(I4076,会場マスタ!$A:$B,2,FALSE))","v":""}]
["",null,null,null,null,null,null,null,null,{"$f":"IF(I4077= \"\",\"\",VLOOKUP(I4077,会場マスタ!$A:$B,2,FALSE))","v":""}]
["",null,null,null,null,null,null,null,null,{"$f":"IF(I4078= \"\",\"\",VLOOKUP(I4078,会場マスタ!$A:$B,2,FALSE))","v":""}]
["",null,null,null,null,null,null,null,null,{"$f":"IF(I4079= \"\",\"\",VLOOKUP(I4079,会場マスタ!$A:$B,2,FALSE))","v":""}]
["",null,null,null,null,null,null,null,null,{"$f":"IF(I4080= \"\",\"\",VLOOKUP(I4080,会場マスタ!$A:$B,2,FALSE))","v":""}]
["",null,null,null,null,null,null,null,null,{"$f":"IF(I4081= \"\",\"\",VLOOKUP(I4081,会場マスタ!$A:$B,2,FALSE))","v":""}]
["",null,null,null,null,null,null,null,null,{"$f":"IF(I4082= \"\",\"\",VLOOKUP(I4082,会場マスタ!$A:$B,2,FALSE))","v":""}]
["",null,null,null,null,null,null,null,null,{"$f":"IF(I4083= \"\",\"\",VLOOKUP(I4083,会場マスタ!$A:$B,2,FALSE))","v":""}]
["",null,null,null,null,null,null,null,null,{"$f":"IF(I4084= \"\",\"\",VLOOKUP(I4084,会場マスタ!$A:$B,2,FALSE))","v":""}]
["",null,null,null,null,null,null,null,null,{"$f":"IF(I4085= \"\",\"\",VLOOKUP(I4085,会場マスタ!$A:$B,2,FALSE))","v":""}]
["",null,null,null,null,null,null,null,null,{"$f":"IF(I4086= \"\",\"\",VLOOKUP(I4086,会場マスタ!$A:$B,2,FALSE))","v":""}]
["",null,null,null,null,null,null,null,null,{"$f":"IF(I4087= \"\",\"\",VLOOKUP(I4087,会場マスタ!$A:$B,2,FALSE))","v":""}]
["",null,null,null,null,null,null,null,null,{"$f":"IF(I4088= \"\",\"\",VLOOKUP(I4088,会場マスタ!$A:$B,2,FALSE))","v":""}]
["",null,null,null,null,null,null,null,null,{"$f":"IF(I4089= \"\",\"\",VLOOKUP(I4089,会場マスタ!$A:$B,2,FALSE))","v":""}]
["",null,null,null,null,null,null,null,null,{"$f":"IF(I4090= \"\",\"\",VLOOKUP(I4090,会場マスタ!$A:$B,2,FALSE))","v":""}]
["",null,null,null,null,null,null,null,null,{"$f":"IF(I4091= \"\",\"\",VLOOKUP(I4091,会場マスタ!$A:$B,2,FALSE))","v":""}]
["",null,null,null,null,null,null,null,null,{"$f":"IF(I4092= \"\",\"\",VLOOKUP(I4092,会場マスタ!$A:$B,2,FALSE))","v":""}]
["",null,null,null,null,null,null,null,null,{"$f":"IF(I4093= \"\",\"\",VLOOKUP(I4093,会場マスタ!$A:$B,2,FALSE))","v":""}]
["",null,null,null,null,null,null,null,null,{"$f":"IF(I4094= \"\",\"\",VLOOKUP(I4094,会場マスタ!$A:$B,2,FALSE))","v":""}]
["",null,null,null,null,null,null,null,null,{"$f":"IF(I4095= \"\",\"\",VLOOKUP(I4095,会場マスタ!$A:$B,2,FALSE))","v":""}]
["",null,null,null,null,null,null,null,null,{"$f":"IF(I4096= \"\",\"\",VLOOKUP(I4096,会場マスタ!$A:$B,2,FALSE))","v":""}]
["",null,null,null,null,null,null,null,null,{"$f":"IF(I4097= \"\",\"\",VLOOKUP(I4097,会場マスタ!$A:$B,2,FALSE))","v":""}]
["",null,null,null,null,null,null,null,null,{"$f":"IF(I4098= \"\",\"\",VLOOKUP(I4098,会場マスタ!$A:$B,2,FALSE))","v":""}]
["",null,null,null,null,null,null,null,null,{"$f":"IF(I4099= \"\",\"\",VLOOKUP(I4099,会場マスタ!$A:$B,2,FALSE))","v":""}]
["",null,null,null,null,null,null,null,null,{"$f":"IF(I4100= \"\",\"\",VLOOKUP(I4100,会場マスタ!$A:$B,2,FALSE))","v":""}]
["",null,null,null,null,null,null,null,null,{"$f":"IF(I4101= \"\",\"\",VLOOKUP(I4101,会場マスタ!$A:$B,2,FALSE))","v":""}]
["",null,null,null,null,null,null,null,null,{"$f":"IF(I4102= \"\",\"\",VLOOKUP(I4102,会場マスタ!$A:$B,2,FALSE))","v":""}]
[{"$f":"IF(B4103<>\"\",ROW(A4103)-4,\"\")","v":""},null,null,null,null,null,null,null,null,{"$f":"IF(I4103= \"\",\"\",VLOOKUP(I4103,会場マスタ!$A:$B,2,FALSE))","v":""}]
["",null,null,null,null,null,null,null,null,{"$f":"IF(I4104= \"\",\"\",VLOOKUP(I4104,会場マスタ!$A:$B,2,FALSE))","v":""}]
["",null,null,null,null,null,null,null,null,{"$f":"IF(I4105= \"\",\"\",VLOOKUP(I4105,会場マスタ!$A:$B,2,FALSE))","v":""}]
["",null,null,null,null,null,null,null,null,{"$f":"IF(I4106= \"\",\"\",VLOOKUP(I4106,会場マスタ!$A:$B,2,FALSE))","v":""}]
["",null,null,null,null,null,null,null,null,{"$f":"IF(I4107= \"\",\"\",VLOOKUP(I4107,会場マスタ!$A:$B,2,FALSE))","v":""}]
["",null,null,null,null,null,null,null,null,{"$f":"IF(I4108= \"\",\"\",VLOOKUP(I4108,会場マスタ!$A:$B,2,FALSE))","v":""}]
["",null,null,null,null,null,null,null,null,{"$f":"IF(I4109= \"\",\"\",VLOOKUP(I4109,会場マスタ!$A:$B,2,FALSE))","v":""}]
["",null,null,null,null,null,null,null,null,{"$f":"IF(I4110= \"\",\"\",VLOOKUP(I4110,会場マスタ!$A:$B,2,FALSE))","v":""}]
["",null,null,null,null,null,null,null,null,{"$f":"IF(I4111= \"\",\"\",VLOOKUP(I4111,会場マスタ!$A:$B,2,FALSE))","v":""}]
["",null,null,null,null,null,null,null,null,{"$f":"IF(I4112= \"\",\"\",VLOOKUP(I4112,会場マスタ!$A:$B,2,FALSE))","v":""}]
["",null,null,null,null,null,null,null,null,{"$f":"IF(I4113= \"\",\"\",VLOOKUP(I4113,会場マスタ!$A:$B,2,FALSE))","v":""}]
["",null,null,null,null,null,null,null,null,{"$f":"IF(I4114= \"\",\"\",VLOOKUP(I4114,会場マスタ!$A:$B,2,FALSE))","v":""}]
["",null,null,null,null,null,null,null,null,{"$f":"IF(I4115= \"\",\"\",VLOOKUP(I4115,会場マスタ!$A:$B,2,FALSE))","v":""}]
["",null,null,null,null,null,null,null,null,{"$f":"IF(I4116= \"\",\"\",VLOOKUP(I4116,会場マスタ!$A:$B,2,FALSE))","v":""}]
["",null,null,null,null,null,null,null,null,{"$f":"IF(I4117= \"\",\"\",VLOOKUP(I4117,会場マスタ!$A:$B,2,FALSE))","v":""}]
["",null,null,null,null,null,null,null,null,{"$f":"IF(I4118= \"\",\"\",VLOOKUP(I4118,会場マスタ!$A:$B,2,FALSE))","v":""}]
["",null,null,null,null,null,null,null,null,{"$f":"IF(I4119= \"\",\"\",VLOOKUP(I4119,会場マスタ!$A:$B,2,FALSE))","v":""}]
["",null,null,null,null,null,null,null,null,{"$f":"IF(I4120= \"\",\"\",VLOOKUP(I4120,会場マスタ!$A:$B,2,FALSE))","v":""}]
["",null,null,null,null,null,null,null,null,{"$f":"IF(I4121= \"\",\"\",VLOOKUP(I4121,会場マスタ!$A:$B,2,FALSE))","v":""}]
["",null,null,null,null,null,null,null,null,{"$f":"IF(I4122= \"\",\"\",VLOOKUP(I4122,会場マスタ!$A:$B,2,FALSE))","v":""}]
["",null,null,null,null,null,null,null,null,{"$f":"IF(I4123= \"\",\"\",VLOOKUP(I4123,会場マスタ!$A:$B,2,FALSE))","v":""}]
["",null,null,null,null,null,null,null,null,{"$f":"IF(I4124= \"\",\"\",VLOOKUP(I4124,会場マスタ!$A:$B,2,FALSE))","v":""}]
["",null,null,null,null,null,null,null,null,{"$f":"IF(I4125= \"\",\"\",VLOOKUP(I4125,会場マスタ!$A:$B,2,FALSE))","v":""}]
["",null,null,null,null,null,null,null,null,{"$f":"IF(I4126= \"\",\"\",VLOOKUP(I4126,会場マスタ!$A:$B,2,FALSE))","v":""}]
["",null,null,null,null,null,null,null,null,{"$f":"IF(I4127= \"\",\"\",VLOOKUP(I4127,会場マスタ!$A:$B,2,FALSE))","v":""}]
["",null,null,null,null,null,null,null,null,{"$f":"IF(I4128= \"\",\"\",VLOOKUP(I4128,会場マスタ!$A:$B,2,FALSE))","v":""}]
["",null,null,null,null,null,null,null,null,{"$f":"IF(I4129= \"\",\"\",VLOOKUP(I4129,会場マスタ!$A:$B,2,FALSE))","v":""}]
["",null,null,null,null,null,null,null,null,{"$f":"IF(I4130= \"\",\"\",VLOOKUP(I4130,会場マスタ!$A:$B,2,FALSE))","v":""}]
["",null,null,null,null,null,null,null,null,{"$f":"IF(I4131= \"\",\"\",VLOOKUP(I4131,会場マスタ!$A:$B,2,FALSE))","v":""}]
["",null,null,null,null,null,null,null,null,{"$f":"IF(I4132= \"\",\"\",VLOOKUP(I4132,会場マスタ!$A:$B,2,FALSE))","v":""}]
["",null,null,null,null,null,null,null,null,{"$f":"IF(I4133= \"\",\"\",VLOOKUP(I4133,会場マスタ!$A:$B,2,FALSE))","v":""}]
["",null,null,null,null,null,null,null,null,{"$f":"IF(I4134= \"\",\"\",VLOOKUP(I4134,会場マスタ!$A:$B,2,FALSE))","v":""}]
["",null,null,null,null,null,null,null,null,{"$f":"IF(I4135= \"\",\"\",VLOOKUP(I4135,会場マスタ!$A:$B,2,FALSE))","v":""}]
["",null,null,null,null,null,null,null,null,{"$f":"IF(I4136= \"\",\"\",VLOOKUP(I4136,会場マスタ!$A:$B,2,FALSE))","v":""}]
["",null,null,null,null,null,null,null,null,{"$f":"IF(I4137= \"\",\"\",VLOOKUP(I4137,会場マスタ!$A:$B,2,FALSE))","v":""}]
["",null,null,null,null,null,null,null,null,{"$f":"IF(I4138= \"\",\"\",VLOOKUP(I4138,会場マスタ!$A:$B,2,FALSE))","v":""}]
["",null,null,null,null,null,null,null,null,{"$f":"IF(I4139= \"\",\"\",VLOOKUP(I4139,会場マスタ!$A:$B,2,FALSE))","v":""}]
["",null,null,null,null,null,null,null,null,{"$f":"IF(I4140= \"\",\"\",VLOOKUP(I4140,会場マスタ!$A:$B,2,FALSE))","v":""}]
["",null,null,null,null,null,null,null,null,{"$f":"IF(I4141= \"\",\"\",VLOOKUP(I4141,会場マスタ!$A:$B,2,FALSE))","v":""}]
["",null,null,null,null,null,null,null,null,{"$f":"IF(I4142= \"\",\"\",VLOOKUP(I4142,会場マスタ!$A:$B,2,FALSE))","v":""}]
["",null,null,null,null,null,null,null,null,{"$f":"IF(I4143= \"\",\"\",VLOOKUP(I4143,会場マスタ!$A:$B,2,FALSE))","v":""}]
["",null,null,null,null,null,null,null,null,{"$f":"IF(I4144= \"\",\"\",VLOOKUP(I4144,会場マスタ!$A:$B,2,FALSE))","v":""}]
["",null,null,null,null,null,null,null,null,{"$f":"IF(I4145= \"\",\"\",VLOOKUP(I4145,会場マスタ!$A:$B,2,FALSE))","v":""}]
["",null,null,null,null,null,null,null,null,{"$f":"IF(I4146= \"\",\"\",VLOOKUP(I4146,会場マスタ!$A:$B,2,FALSE))","v":""}]
["",null,null,null,null,null,null,null,null,{"$f":"IF(I4147= \"\",\"\",VLOOKUP(I4147,会場マスタ!$A:$B,2,FALSE))","v":""}]
["",null,null,null,null,null,null,null,null,{"$f":"IF(I4148= \"\",\"\",VLOOKUP(I4148,会場マスタ!$A:$B,2,FALSE))","v":""}]
["",null,null,null,null,null,null,null,null,{"$f":"IF(I4149= \"\",\"\",VLOOKUP(I4149,会場マスタ!$A:$B,2,FALSE))","v":""}]
["",null,null,null,null,null,null,null,null,{"$f":"IF(I4150= \"\",\"\",VLOOKUP(I4150,会場マスタ!$A:$B,2,FALSE))","v":""}]
["",null,null,null,null,null,null,null,null,{"$f":"IF(I4151= \"\",\"\",VLOOKUP(I4151,会場マスタ!$A:$B,2,FALSE))","v":""}]
["",null,null,null,null,null,null,null,null,{"$f":"IF(I4152= \"\",\"\",VLOOKUP(I4152,会場マスタ!$A:$B,2,FALSE))","v":""}]
["",null,null,null,null,null,null,null,null,{"$f":"IF(I4153= \"\",\"\",VLOOKUP(I4153,会場マスタ!$A:$B,2,FALSE))","v":""}]
["",null,null,null,null,null,null,null,null,{"$f":"IF(I4154= \"\",\"\",VLOOKUP(I4154,会場マスタ!$A:$B,2,FALSE))","v":""}]
["",null,null,null,null,null,null,null,null,{"$f":"IF(I4155= \"\",\"\",VLOOKUP(I4155,会場マスタ!$A:$B,2,FALSE))","v":""}]
["",null,null,null,null,null,null,null,null,{"$f":"IF(I4156= \"\",\"\",VLOOKUP(I4156,会場マスタ!$A:$B,2,FALSE))","v":""}]
["",null,null,null,null,null,null,null,null,{"$f":"IF(I4157= \"\",\"\",VLOOKUP(I4157,会場マスタ!$A:$B,2,FALSE))","v":""}]
["",null,null,null,null,null,null,null,null,{"$f":"IF(I4158= \"\",\"\",VLOOKUP(I4158,会場マスタ!$A:$B,2,FALSE))","v":""}]
["",null,null,null,null,null,null,null,null,{"$f":"IF(I4159= \"\",\"\",VLOOKUP(I4159,会場マスタ!$A:$B,2,FALSE))","v":""}]
["",null,null,null,null,null,null,null,null,{"$f":"IF(I4160= \"\",\"\",VLOOKUP(I4160,会場マスタ!$A:$B,2,FALSE))","v":""}]
["",null,null,null,null,null,null,null,null,{"$f":"IF(I4161= \"\",\"\",VLOOKUP(I4161,会場マスタ!$A:$B,2,FALSE))","v":""}]
["",null,null,null,null,null,null,null,null,{"$f":"IF(I4162= \"\",\"\",VLOOKUP(I4162,会場マスタ!$A:$B,2,FALSE))","v":""}]
["",null,null,null,null,null,null,null,null,{"$f":"IF(I4163= \"\",\"\",VLOOKUP(I4163,会場マスタ!$A:$B,2,FALSE))","v":""}]
["",null,null,null,null,null,null,null,null,{"$f":"IF(I4164= \"\",\"\",VLOOKUP(I4164,会場マスタ!$A:$B,2,FALSE))","v":""}]
["",null,null,null,null,null,null,null,null,{"$f":"IF(I4165= \"\",\"\",VLOOKUP(I4165,会場マスタ!$A:$B,2,FALSE))","v":""}]
["",null,null,null,null,null,null,null,null,{"$f":"IF(I4166= \"\",\"\",VLOOKUP(I4166,会場マスタ!$A:$B,2,FALSE))","v":""}]
[{"$f":"IF(B4167<>\"\",ROW(A4167)-4,\"\")","v":""},null,null,null,null,null,null,null,null,{"$f":"IF(I4167= \"\",\"\",VLOOKUP(I4167,会場マスタ!$A:$B,2,FALSE))","v":""}]
["",null,null,null,null,null,null,null,null,{"$f":"IF(I4168= \"\",\"\",VLOOKUP(I4168,会場マスタ!$A:$B,2,FALSE))","v":""}]
["",null,null,null,null,null,null,null,null,{"$f":"IF(I4169= \"\",\"\",VLOOKUP(I4169,会場マスタ!$A:$B,2,FALSE))","v":""}]
["",null,null,null,null,null,null,null,null,{"$f":"IF(I4170= \"\",\"\",VLOOKUP(I4170,会場マスタ!$A:$B,2,FALSE))","v":""}]
["",null,null,null,null,null,null,null,null,{"$f":"IF(I4171= \"\",\"\",VLOOKUP(I4171,会場マスタ!$A:$B,2,FALSE))","v":""}]
["",null,null,null,null,null,null,null,null,{"$f":"IF(I4172= \"\",\"\",VLOOKUP(I4172,会場マスタ!$A:$B,2,FALSE))","v":""}]
["",null,null,null,null,null,null,null,null,{"$f":"IF(I4173= \"\",\"\",VLOOKUP(I4173,会場マスタ!$A:$B,2,FALSE))","v":""}]
["",null,null,null,null,null,null,null,null,{"$f":"IF(I4174= \"\",\"\",VLOOKUP(I4174,会場マスタ!$A:$B,2,FALSE))","v":""}]
["",null,null,null,null,null,null,null,null,{"$f":"IF(I4175= \"\",\"\",VLOOKUP(I4175,会場マスタ!$A:$B,2,FALSE))","v":""}]
["",null,null,null,null,null,null,null,null,{"$f":"IF(I4176= \"\",\"\",VLOOKUP(I4176,会場マスタ!$A:$B,2,FALSE))","v":""}]
["",null,null,null,null,null,null,null,null,{"$f":"IF(I4177= \"\",\"\",VLOOKUP(I4177,会場マスタ!$A:$B,2,FALSE))","v":""}]
["",null,null,null,null,null,null,null,null,{"$f":"IF(I4178= \"\",\"\",VLOOKUP(I4178,会場マスタ!$A:$B,2,FALSE))","v":""}]
["",null,null,null,null,null,null,null,null,{"$f":"IF(I4179= \"\",\"\",VLOOKUP(I4179,会場マスタ!$A:$B,2,FALSE))","v":""}]
["",null,null,null,null,null,null,null,null,{"$f":"IF(I4180= \"\",\"\",VLOOKUP(I4180,会場マスタ!$A:$B,2,FALSE))","v":""}]
["",null,null,null,null,null,null,null,null,{"$f":"IF(I4181= \"\",\"\",VLOOKUP(I4181,会場マスタ!$A:$B,2,FALSE))","v":""}]
["",null,null,null,null,null,null,null,null,{"$f":"IF(I4182= \"\",\"\",VLOOKUP(I4182,会場マスタ!$A:$B,2,FALSE))","v":""}]
["",null,null,null,null,null,null,null,null,{"$f":"IF(I4183= \"\",\"\",VLOOKUP(I4183,会場マスタ!$A:$B,2,FALSE))","v":""}]
["",null,null,null,null,null,null,null,null,{"$f":"IF(I4184= \"\",\"\",VLOOKUP(I4184,会場マスタ!$A:$B,2,FALSE))","v":""}]
["",null,null,null,null,null,null,null,null,{"$f":"IF(I4185= \"\",\"\",VLOOKUP(I4185,会場マスタ!$A:$B,2,FALSE))","v":""}]
["",null,null,null,null,null,null,null,null,{"$f":"IF(I4186= \"\",\"\",VLOOKUP(I4186,会場マスタ!$A:$B,2,FALSE))","v":""}]
["",null,null,null,null,null,null,null,null,{"$f":"IF(I4187= \"\",\"\",VLOOKUP(I4187,会場マスタ!$A:$B,2,FALSE))","v":""}]
["",null,null,null,null,null,null,null,null,{"$f":"IF(I4188= \"\",\"\",VLOOKUP(I4188,会場マスタ!$A:$B,2,FALSE))","v":""}]
["",null,null,null,null,null,null,null,null,{"$f":"IF(I4189= \"\",\"\",VLOOKUP(I4189,会場マスタ!$A:$B,2,FALSE))","v":""}]
["",null,null,null,null,null,null,null,null,{"$f":"IF(I4190= \"\",\"\",VLOOKUP(I4190,会場マスタ!$A:$B,2,FALSE))","v":""}]
["",null,null,null,null,null,null,null,null,{"$f":"IF(I4191= \"\",\"\",VLOOKUP(I4191,会場マスタ!$A:$B,2,FALSE))","v":""}]
["",null,null,null,null,null,null,null,null,{"$f":"IF(I4192= \"\",\"\",VLOOKUP(I4192,会場マスタ!$A:$B,2,FALSE))","v":""}]
["",null,null,null,null,null,null,null,null,{"$f":"IF(I4193= \"\",\"\",VLOOKUP(I4193,会場マスタ!$A:$B,2,FALSE))","v":""}]
["",null,null,null,null,null,null,null,null,{"$f":"IF(I4194= \"\",\"\",VLOOKUP(I4194,会場マスタ!$A:$B,2,FALSE))","v":""}]
["",null,null,null,null,null,null,null,null,{"$f":"IF(I4195= \"\",\"\",VLOOKUP(I4195,会場マスタ!$A:$B,2,FALSE))","v":""}]
["",null,null,null,null,null,null,null,null,{"$f":"IF(I4196= \"\",\"\",VLOOKUP(I4196,会場マスタ!$A:$B,2,FALSE))","v":""}]
["",null,null,null,null,null,null,null,null,{"$f":"IF(I4197= \"\",\"\",VLOOKUP(I4197,会場マスタ!$A:$B,2,FALSE))","v":""}]
["",null,null,null,null,null,null,null,null,{"$f":"IF(I4198= \"\",\"\",VLOOKUP(I4198,会場マスタ!$A:$B,2,FALSE))","v":""}]
["",null,null,null,null,null,null,null,null,{"$f":"IF(I4199= \"\",\"\",VLOOKUP(I4199,会場マスタ!$A:$B,2,FALSE))","v":""}]
["",null,null,null,null,null,null,null,null,{"$f":"IF(I4200= \"\",\"\",VLOOKUP(I4200,会場マスタ!$A:$B,2,FALSE))","v":""}]
["",null,null,null,null,null,null,null,null,{"$f":"IF(I4201= \"\",\"\",VLOOKUP(I4201,会場マスタ!$A:$B,2,FALSE))","v":""}]
["",null,null,null,null,null,null,null,null,{"$f":"IF(I4202= \"\",\"\",VLOOKUP(I4202,会場マスタ!$A:$B,2,FALSE))","v":""}]
["",null,null,null,null,null,null,null,null,{"$f":"IF(I4203= \"\",\"\",VLOOKUP(I4203,会場マスタ!$A:$B,2,FALSE))","v":""}]
["",null,null,null,null,null,null,null,null,{"$f":"IF(I4204= \"\",\"\",VLOOKUP(I4204,会場マスタ!$A:$B,2,FALSE))","v":""}]
["",null,null,null,null,null,null,null,null,{"$f":"IF(I4205= \"\",\"\",VLOOKUP(I4205,会場マスタ!$A:$B,2,FALSE))","v":""}]
["",null,null,null,null,null,null,null,null,{"$f":"IF(I4206= \"\",\"\",VLOOKUP(I4206,会場マスタ!$A:$B,2,FALSE))","v":""}]
["",null,null,null,null,null,null,null,null,{"$f":"IF(I4207= \"\",\"\",VLOOKUP(I4207,会場マスタ!$A:$B,2,FALSE))","v":""}]
["",null,null,null,null,null,null,null,null,{"$f":"IF(I4208= \"\",\"\",VLOOKUP(I4208,会場マスタ!$A:$B,2,FALSE))","v":""}]
["",null,null,null,null,null,null,null,null,{"$f":"IF(I4209= \"\",\"\",VLOOKUP(I4209,会場マスタ!$A:$B,2,FALSE))","v":""}]
["",null,null,null,null,null,null,null,null,{"$f":"IF(I4210= \"\",\"\",VLOOKUP(I4210,会場マスタ!$A:$B,2,FALSE))","v":""}]
["",null,null,null,null,null,null,null,null,{"$f":"IF(I4211= \"\",\"\",VLOOKUP(I4211,会場マスタ!$A:$B,2,FALSE))","v":""}]
["",null,null,null,null,null,null,null,null,{"$f":"IF(I4212= \"\",\"\",VLOOKUP(I4212,会場マスタ!$A:$B,2,FALSE))","v":""}]
["",null,null,null,null,null,null,null,null,{"$f":"IF(I4213= \"\",\"\",VLOOKUP(I4213,会場マスタ!$A:$B,2,FALSE))","v":""}]
["",null,null,null,null,null,null,null,null,{"$f":"IF(I4214= \"\",\"\",VLOOKUP(I4214,会場マスタ!$A:$B,2,FALSE))","v":""}]
["",null,null,null,null,null,null,null,null,{"$f":"IF(I4215= \"\",\"\",VLOOKUP(I4215,会場マスタ!$A:$B,2,FALSE))","v":""}]
["",null,null,null,null,null,null,null,null,{"$f":"IF(I4216= \"\",\"\",VLOOKUP(I4216,会場マスタ!$A:$B,2,FALSE))","v":""}]
["",null,null,null,null,null,null,null,null,{"$f":"IF(I4217= \"\",\"\",VLOOKUP(I4217,会場マスタ!$A:$B,2,FALSE))","v":""}]
["",null,null,null,null,null,null,null,null,{"$f":"IF(I4218= \"\",\"\",VLOOKUP(I4218,会場マスタ!$A:$B,2,FALSE))","v":""}]
["",null,null,null,null,null,null,null,null,{"$f":"IF(I4219= \"\",\"\",VLOOKUP(I4219,会場マスタ!$A:$B,2,FALSE))","v":""}]
["",null,null,null,null,null,null,null,null,{"$f":"IF(I4220= \"\",\"\",VLOOKUP(I4220,会場マスタ!$A:$B,2,FALSE))","v":""}]
["",null,null,null,null,null,null,null,null,{"$f":"IF(I4221= \"\",\"\",VLOOKUP(I4221,会場マスタ!$A:$B,2,FALSE))","v":""}]
["",null,null,null,null,null,null,null,null,{"$f":"IF(I4222= \"\",\"\",VLOOKUP(I4222,会場マスタ!$A:$B,2,FALSE))","v":""}]
["",null,null,null,null,null,null,null,null,{"$f":"IF(I4223= \"\",\"\",VLOOKUP(I4223,会場マスタ!$A:$B,2,FALSE))","v":""}]
["",null,null,null,null,null,null,null,null,{"$f":"IF(I4224= \"\",\"\",VLOOKUP(I4224,会場マスタ!$A:$B,2,FALSE))","v":""}]
["",null,null,null,null,null,null,null,null,{"$f":"IF(I4225= \"\",\"\",VLOOKUP(I4225,会場マスタ!$A:$B,2,FALSE))","v":""}]
["",null,null,null,null,null,null,null,null,{"$f":"IF(I4226= \"\",\"\",VLOOKUP(I4226,会場マスタ!$A:$B,2,FALSE))","v":""}]
["",null,null,null,null,null,null,null,null,{"$f":"IF(I4227= \"\",\"\",VLOOKUP(I4227,会場マスタ!$A:$B,2,FALSE))","v":""}]
["",null,null,null,null,null,null,null,null,{"$f":"IF(I4228= \"\",\"\",VLOOKUP(I4228,会場マスタ!$A:$B,2,FALSE))","v":""}]
["",null,null,null,null,null,null,null,null,{"$f":"IF(I4229= \"\",\"\",VLOOKUP(I4229,会場マスタ!$A:$B,2,FALSE))","v":""}]
["",null,null,null,null,null,null,null,null,{"$f":"IF(I4230= \"\",\"\",VLOOKUP(I4230,会場マスタ!$A:$B,2,FALSE))","v":""}]
[{"$f":"IF(B4231<>\"\",ROW(A4231)-4,\"\")","v":""},null,null,null,null,null,null,null,null,{"$f":"IF(I4231= \"\",\"\",VLOOKUP(I4231,会場マスタ!$A:$B,2,FALSE))","v":""}]
["",null,null,null,null,null,null,null,null,{"$f":"IF(I4232= \"\",\"\",VLOOKUP(I4232,会場マスタ!$A:$B,2,FALSE))","v":""}]
["",null,null,null,null,null,null,null,null,{"$f":"IF(I4233= \"\",\"\",VLOOKUP(I4233,会場マスタ!$A:$B,2,FALSE))","v":""}]
["",null,null,null,null,null,null,null,null,{"$f":"IF(I4234= \"\",\"\",VLOOKUP(I4234,会場マスタ!$A:$B,2,FALSE))","v":""}]
["",null,null,null,null,null,null,null,null,{"$f":"IF(I4235= \"\",\"\",VLOOKUP(I4235,会場マスタ!$A:$B,2,FALSE))","v":""}]
["",null,null,null,null,null,null,null,null,{"$f":"IF(I4236= \"\",\"\",VLOOKUP(I4236,会場マスタ!$A:$B,2,FALSE))","v":""}]
["",null,null,null,null,null,null,null,null,{"$f":"IF(I4237= \"\",\"\",VLOOKUP(I4237,会場マスタ!$A:$B,2,FALSE))","v":""}]
["",null,null,null,null,null,null,null,null,{"$f":"IF(I4238= \"\",\"\",VLOOKUP(I4238,会場マスタ!$A:$B,2,FALSE))","v":""}]
["",null,null,null,null,null,null,null,null,{"$f":"IF(I4239= \"\",\"\",VLOOKUP(I4239,会場マスタ!$A:$B,2,FALSE))","v":""}]
["",null,null,null,null,null,null,null,null,{"$f":"IF(I4240= \"\",\"\",VLOOKUP(I4240,会場マスタ!$A:$B,2,FALSE))","v":""}]
["",null,null,null,null,null,null,null,null,{"$f":"IF(I4241= \"\",\"\",VLOOKUP(I4241,会場マスタ!$A:$B,2,FALSE))","v":""}]
["",null,null,null,null,null,null,null,null,{"$f":"IF(I4242= \"\",\"\",VLOOKUP(I4242,会場マスタ!$A:$B,2,FALSE))","v":""}]
["",null,null,null,null,null,null,null,null,{"$f":"IF(I4243= \"\",\"\",VLOOKUP(I4243,会場マスタ!$A:$B,2,FALSE))","v":""}]
["",null,null,null,null,null,null,null,null,{"$f":"IF(I4244= \"\",\"\",VLOOKUP(I4244,会場マスタ!$A:$B,2,FALSE))","v":""}]
["",null,null,null,null,null,null,null,null,{"$f":"IF(I4245= \"\",\"\",VLOOKUP(I4245,会場マスタ!$A:$B,2,FALSE))","v":""}]
["",null,null,null,null,null,null,null,null,{"$f":"IF(I4246= \"\",\"\",VLOOKUP(I4246,会場マスタ!$A:$B,2,FALSE))","v":""}]
["",null,null,null,null,null,null,null,null,{"$f":"IF(I4247= \"\",\"\",VLOOKUP(I4247,会場マスタ!$A:$B,2,FALSE))","v":""}]
["",null,null,null,null,null,null,null,null,{"$f":"IF(I4248= \"\",\"\",VLOOKUP(I4248,会場マスタ!$A:$B,2,FALSE))","v":""}]
["",null,null,null,null,null,null,null,null,{"$f":"IF(I4249= \"\",\"\",VLOOKUP(I4249,会場マスタ!$A:$B,2,FALSE))","v":""}]
["",null,null,null,null,null,null,null,null,{"$f":"IF(I4250= \"\",\"\",VLOOKUP(I4250,会場マスタ!$A:$B,2,FALSE))","v":""}]
["",null,null,null,null,null,null,null,null,{"$f":"IF(I4251= \"\",\"\",VLOOKUP(I4251,会場マスタ!$A:$B,2,FALSE))","v":""}]
["",null,null,null,null,null,null,null,null,{"$f":"IF(I4252= \"\",\"\",VLOOKUP(I4252,会場マスタ!$A:$B,2,FALSE))","v":""}]
["",null,null,null,null,null,null,null,null,{"$f":"IF(I4253= \"\",\"\",VLOOKUP(I4253,会場マスタ!$A:$B,2,FALSE))","v":""}]
["",null,null,null,null,null,null,null,null,{"$f":"IF(I4254= \"\",\"\",VLOOKUP(I4254,会場マスタ!$A:$B,2,FALSE))","v":""}]
["",null,null,null,null,null,null,null,null,{"$f":"IF(I4255= \"\",\"\",VLOOKUP(I4255,会場マスタ!$A:$B,2,FALSE))","v":""}]
["",null,null,null,null,null,null,null,null,{"$f":"IF(I4256= \"\",\"\",VLOOKUP(I4256,会場マスタ!$A:$B,2,FALSE))","v":""}]
["",null,null,null,null,null,null,null,null,{"$f":"IF(I4257= \"\",\"\",VLOOKUP(I4257,会場マスタ!$A:$B,2,FALSE))","v":""}]
["",null,null,null,null,null,null,null,null,{"$f":"IF(I4258= \"\",\"\",VLOOKUP(I4258,会場マスタ!$A:$B,2,FALSE))","v":""}]
["",null,null,null,null,null,null,null,null,{"$f":"IF(I4259= \"\",\"\",VLOOKUP(I4259,会場マスタ!$A:$B,2,FALSE))","v":""}]
["",null,null,null,null,null,null,null,null,{"$f":"IF(I4260= \"\",\"\",VLOOKUP(I4260,会場マスタ!$A:$B,2,FALSE))","v":""}]
["",null,null,null,null,null,null,null,null,{"$f":"IF(I4261= \"\",\"\",VLOOKUP(I4261,会場マスタ!$A:$B,2,FALSE))","v":""}]
["",null,null,null,null,null,null,null,null,{"$f":"IF(I4262= \"\",\"\",VLOOKUP(I4262,会場マスタ!$A:$B,2,FALSE))","v":""}]
["",null,null,null,null,null,null,null,null,{"$f":"IF(I4263= \"\",\"\",VLOOKUP(I4263,会場マスタ!$A:$B,2,FALSE))","v":""}]
["",null,null,null,null,null,null,null,null,{"$f":"IF(I4264= \"\",\"\",VLOOKUP(I4264,会場マスタ!$A:$B,2,FALSE))","v":""}]
["",null,null,null,null,null,null,null,null,{"$f":"IF(I4265= \"\",\"\",VLOOKUP(I4265,会場マスタ!$A:$B,2,FALSE))","v":""}]
["",null,null,null,null,null,null,null,null,{"$f":"IF(I4266= \"\",\"\",VLOOKUP(I4266,会場マスタ!$A:$B,2,FALSE))","v":""}]
["",null,null,null,null,null,null,null,null,{"$f":"IF(I4267= \"\",\"\",VLOOKUP(I4267,会場マスタ!$A:$B,2,FALSE))","v":""}]
["",null,null,null,null,null,null,null,null,{"$f":"IF(I4268= \"\",\"\",VLOOKUP(I4268,会場マスタ!$A:$B,2,FALSE))","v":""}]
["",null,null,null,null,null,null,null,null,{"$f":"IF(I4269= \"\",\"\",VLOOKUP(I4269,会場マスタ!$A:$B,2,FALSE))","v":""}]
["",null,null,null,null,null,null,null,null,{"$f":"IF(I4270= \"\",\"\",VLOOKUP(I4270,会場マスタ!$A:$B,2,FALSE))","v":""}]
["",null,null,null,null,null,null,null,null,{"$f":"IF(I4271= \"\",\"\",VLOOKUP(I4271,会場マスタ!$A:$B,2,FALSE))","v":""}]
["",null,null,null,null,null,null,null,null,{"$f":"IF(I4272= \"\",\"\",VLOOKUP(I4272,会場マスタ!$A:$B,2,FALSE))","v":""}]
["",null,null,null,null,null,null,null,null,{"$f":"IF(I4273= \"\",\"\",VLOOKUP(I4273,会場マスタ!$A:$B,2,FALSE))","v":""}]
["",null,null,null,null,null,null,null,null,{"$f":"IF(I4274= \"\",\"\",VLOOKUP(I4274,会場マスタ!$A:$B,2,FALSE))","v":""}]
["",null,null,null,null,null,null,null,null,{"$f":"IF(I4275= \"\",\"\",VLOOKUP(I4275,会場マスタ!$A:$B,2,FALSE))","v":""}]
["",null,null,null,null,null,null,null,null,{"$f":"IF(I4276= \"\",\"\",VLOOKUP(I4276,会場マスタ!$A:$B,2,FALSE))","v":""}]
["",null,null,null,null,null,null,null,null,{"$f":"IF(I4277= \"\",\"\",VLOOKUP(I4277,会場マスタ!$A:$B,2,FALSE))","v":""}]
["",null,null,null,null,null,null,null,null,{"$f":"IF(I4278= \"\",\"\",VLOOKUP(I4278,会場マスタ!$A:$B,2,FALSE))","v":""}]
["",null,null,null,null,null,null,null,null,{"$f":"IF(I4279= \"\",\"\",VLOOKUP(I4279,会場マスタ!$A:$B,2,FALSE))","v":""}]
["",null,null,null,null,null,null,null,null,{"$f":"IF(I4280= \"\",\"\",VLOOKUP(I4280,会場マスタ!$A:$B,2,FALSE))","v":""}]
["",null,null,null,null,null,null,null,null,{"$f":"IF(I4281= \"\",\"\",VLOOKUP(I4281,会場マスタ!$A:$B,2,FALSE))","v":""}]
["",null,null,null,null,null,null,null,null,{"$f":"IF(I4282= \"\",\"\",VLOOKUP(I4282,会場マスタ!$A:$B,2,FALSE))","v":""}]
["",null,null,null,null,null,null,null,null,{"$f":"IF(I4283= \"\",\"\",VLOOKUP(I4283,会場マスタ!$A:$B,2,FALSE))","v":""}]
["",null,null,null,null,null,null,null,null,{"$f":"IF(I4284= \"\",\"\",VLOOKUP(I4284,会場マスタ!$A:$B,2,FALSE))","v":""}]
["",null,null,null,null,null,null,null,null,{"$f":"IF(I4285= \"\",\"\",VLOOKUP(I4285,会場マスタ!$A:$B,2,FALSE))","v":""}]
["",null,null,null,null,null,null,null,null,{"$f":"IF(I4286= \"\",\"\",VLOOKUP(I4286,会場マスタ!$A:$B,2,FALSE))","v":""}]
["",null,null,null,null,null,null,null,null,{"$f":"IF(I4287= \"\",\"\",VLOOKUP(I4287,会場マスタ!$A:$B,2,FALSE))","v":""}]
["",null,null,null,null,null,null,null,null,{"$f":"IF(I4288= \"\",\"\",VLOOKUP(I4288,会場マスタ!$A:$B,2,FALSE))","v":""}]
["",null,null,null,null,null,null,null,null,{"$f":"IF(I4289= \"\",\"\",VLOOKUP(I4289,会場マスタ!$A:$B,2,FALSE))","v":""}]
["",null,null,null,null,null,null,null,null,{"$f":"IF(I4290= \"\",\"\",VLOOKUP(I4290,会場マスタ!$A:$B,2,FALSE))","v":""}]
["",null,null,null,null,null,null,null,null,{"$f":"IF(I4291= \"\",\"\",VLOOKUP(I4291,会場マスタ!$A:$B,2,FALSE))","v":""}]
["",null,null,null,null,null,null,null,null,{"$f":"IF(I4292= \"\",\"\",VLOOKUP(I4292,会場マスタ!$A:$B,2,FALSE))","v":""}]
["",null,null,null,null,null,null,null,null,{"$f":"IF(I4293= \"\",\"\",VLOOKUP(I4293,会場マスタ!$A:$B,2,FALSE))","v":""}]
["",null,null,null,null,null,null,null,null,{"$f":"IF(I4294= \"\",\"\",VLOOKUP(I4294,会場マスタ!$A:$B,2,FALSE))","v":""}]
[{"$f":"IF(B4295<>\"\",ROW(A4295)-4,\"\")","v":""},null,null,null,null,null,null,null,null,{"$f":"IF(I4295= \"\",\"\",VLOOKUP(I4295,会場マスタ!$A:$B,2,FALSE))","v":""}]
["",null,null,null,null,null,null,null,null,{"$f":"IF(I4296= \"\",\"\",VLOOKUP(I4296,会場マスタ!$A:$B,2,FALSE))","v":""}]
["",null,null,null,null,null,null,null,null,{"$f":"IF(I4297= \"\",\"\",VLOOKUP(I4297,会場マスタ!$A:$B,2,FALSE))","v":""}]
["",null,null,null,null,null,null,null,null,{"$f":"IF(I4298= \"\",\"\",VLOOKUP(I4298,会場マスタ!$A:$B,2,FALSE))","v":""}]
["",null,null,null,null,null,null,null,null,{"$f":"IF(I4299= \"\",\"\",VLOOKUP(I4299,会場マスタ!$A:$B,2,FALSE))","v":""}]
["",null,null,null,null,null,null,null,null,{"$f":"IF(I4300= \"\",\"\",VLOOKUP(I4300,会場マスタ!$A:$B,2,FALSE))","v":""}]
["",null,null,null,null,null,null,null,null,{"$f":"IF(I4301= \"\",\"\",VLOOKUP(I4301,会場マスタ!$A:$B,2,FALSE))","v":""}]
["",null,null,null,null,null,null,null,null,{"$f":"IF(I4302= \"\",\"\",VLOOKUP(I4302,会場マスタ!$A:$B,2,FALSE))","v":""}]
["",null,null,null,null,null,null,null,null,{"$f":"IF(I4303= \"\",\"\",VLOOKUP(I4303,会場マスタ!$A:$B,2,FALSE))","v":""}]
["",null,null,null,null,null,null,null,null,{"$f":"IF(I4304= \"\",\"\",VLOOKUP(I4304,会場マスタ!$A:$B,2,FALSE))","v":""}]
["",null,null,null,null,null,null,null,null,{"$f":"IF(I4305= \"\",\"\",VLOOKUP(I4305,会場マスタ!$A:$B,2,FALSE))","v":""}]
["",null,null,null,null,null,null,null,null,{"$f":"IF(I4306= \"\",\"\",VLOOKUP(I4306,会場マスタ!$A:$B,2,FALSE))","v":""}]
["",null,null,null,null,null,null,null,null,{"$f":"IF(I4307= \"\",\"\",VLOOKUP(I4307,会場マスタ!$A:$B,2,FALSE))","v":""}]
["",null,null,null,null,null,null,null,null,{"$f":"IF(I4308= \"\",\"\",VLOOKUP(I4308,会場マスタ!$A:$B,2,FALSE))","v":""}]
["",null,null,null,null,null,null,null,null,{"$f":"IF(I4309= \"\",\"\",VLOOKUP(I4309,会場マスタ!$A:$B,2,FALSE))","v":""}]
["",null,null,null,null,null,null,null,null,{"$f":"IF(I4310= \"\",\"\",VLOOKUP(I4310,会場マスタ!$A:$B,2,FALSE))","v":""}]
["",null,null,null,null,null,null,null,null,{"$f":"IF(I4311= \"\",\"\",VLOOKUP(I4311,会場マスタ!$A:$B,2,FALSE))","v":""}]
["",null,null,null,null,null,null,null,null,{"$f":"IF(I4312= \"\",\"\",VLOOKUP(I4312,会場マスタ!$A:$B,2,FALSE))","v":""}]
["",null,null,null,null,null,null,null,null,{"$f":"IF(I4313= \"\",\"\",VLOOKUP(I4313,会場マスタ!$A:$B,2,FALSE))","v":""}]
["",null,null,null,null,null,null,null,null,{"$f":"IF(I4314= \"\",\"\",VLOOKUP(I4314,会場マスタ!$A:$B,2,FALSE))","v":""}]
["",null,null,null,null,null,null,null,null,{"$f":"IF(I4315= \"\",\"\",VLOOKUP(I4315,会場マスタ!$A:$B,2,FALSE))","v":""}]
["",null,null,null,null,null,null,null,null,{"$f":"IF(I4316= \"\",\"\",VLOOKUP(I4316,会場マスタ!$A:$B,2,FALSE))","v":""}]
["",null,null,null,null,null,null,null,null,{"$f":"IF(I4317= \"\",\"\",VLOOKUP(I4317,会場マスタ!$A:$B,2,FALSE))","v":""}]
["",null,null,null,null,null,null,null,null,{"$f":"IF(I4318= \"\",\"\",VLOOKUP(I4318,会場マスタ!$A:$B,2,FALSE))","v":""}]
["",null,null,null,null,null,null,null,null,{"$f":"IF(I4319= \"\",\"\",VLOOKUP(I4319,会場マスタ!$A:$B,2,FALSE))","v":""}]
["",null,null,null,null,null,null,null,null,{"$f":"IF(I4320= \"\",\"\",VLOOKUP(I4320,会場マスタ!$A:$B,2,FALSE))","v":""}]
["",null,null,null,null,null,null,null,null,{"$f":"IF(I4321= \"\",\"\",VLOOKUP(I4321,会場マスタ!$A:$B,2,FALSE))","v":""}]
["",null,null,null,null,null,null,null,null,{"$f":"IF(I4322= \"\",\"\",VLOOKUP(I4322,会場マスタ!$A:$B,2,FALSE))","v":""}]
["",null,null,null,null,null,null,null,null,{"$f":"IF(I4323= \"\",\"\",VLOOKUP(I4323,会場マスタ!$A:$B,2,FALSE))","v":""}]
["",null,null,null,null,null,null,null,null,{"$f":"IF(I4324= \"\",\"\",VLOOKUP(I4324,会場マスタ!$A:$B,2,FALSE))","v":""}]
["",null,null,null,null,null,null,null,null,{"$f":"IF(I4325= \"\",\"\",VLOOKUP(I4325,会場マスタ!$A:$B,2,FALSE))","v":""}]
["",null,null,null,null,null,null,null,null,{"$f":"IF(I4326= \"\",\"\",VLOOKUP(I4326,会場マスタ!$A:$B,2,FALSE))","v":""}]
["",null,null,null,null,null,null,null,null,{"$f":"IF(I4327= \"\",\"\",VLOOKUP(I4327,会場マスタ!$A:$B,2,FALSE))","v":""}]
["",null,null,null,null,null,null,null,null,{"$f":"IF(I4328= \"\",\"\",VLOOKUP(I4328,会場マスタ!$A:$B,2,FALSE))","v":""}]
["",null,null,null,null,null,null,null,null,{"$f":"IF(I4329= \"\",\"\",VLOOKUP(I4329,会場マスタ!$A:$B,2,FALSE))","v":""}]
["",null,null,null,null,null,null,null,null,{"$f":"IF(I4330= \"\",\"\",VLOOKUP(I4330,会場マスタ!$A:$B,2,FALSE))","v":""}]
["",null,null,null,null,null,null,null,null,{"$f":"IF(I4331= \"\",\"\",VLOOKUP(I4331,会場マスタ!$A:$B,2,FALSE))","v":""}]
["",null,null,null,null,null,null,null,null,{"$f":"IF(I4332= \"\",\"\",VLOOKUP(I4332,会場マスタ!$A:$B,2,FALSE))","v":""}]
["",null,null,null,null,null,null,null,null,{"$f":"IF(I4333= \"\",\"\",VLOOKUP(I4333,会場マスタ!$A:$B,2,FALSE))","v":""}]
["",null,null,null,null,null,null,null,null,{"$f":"IF(I4334= \"\",\"\",VLOOKUP(I4334,会場マスタ!$A:$B,2,FALSE))","v":""}]
["",null,null,null,null,null,null,null,null,{"$f":"IF(I4335= \"\",\"\",VLOOKUP(I4335,会場マスタ!$A:$B,2,FALSE))","v":""}]
["",null,null,null,null,null,null,null,null,{"$f":"IF(I4336= \"\",\"\",VLOOKUP(I4336,会場マスタ!$A:$B,2,FALSE))","v":""}]
["",null,null,null,null,null,null,null,null,{"$f":"IF(I4337= \"\",\"\",VLOOKUP(I4337,会場マスタ!$A:$B,2,FALSE))","v":""}]
["",null,null,null,null,null,null,null,null,{"$f":"IF(I4338= \"\",\"\",VLOOKUP(I4338,会場マスタ!$A:$B,2,FALSE))","v":""}]
["",null,null,null,null,null,null,null,null,{"$f":"IF(I4339= \"\",\"\",VLOOKUP(I4339,会場マスタ!$A:$B,2,FALSE))","v":""}]
["",null,null,null,null,null,null,null,null,{"$f":"IF(I4340= \"\",\"\",VLOOKUP(I4340,会場マスタ!$A:$B,2,FALSE))","v":""}]
["",null,null,null,null,null,null,null,null,{"$f":"IF(I4341= \"\",\"\",VLOOKUP(I4341,会場マスタ!$A:$B,2,FALSE))","v":""}]
["",null,null,null,null,null,null,null,null,{"$f":"IF(I4342= \"\",\"\",VLOOKUP(I4342,会場マスタ!$A:$B,2,FALSE))","v":""}]
["",null,null,null,null,null,null,null,null,{"$f":"IF(I4343= \"\",\"\",VLOOKUP(I4343,会場マスタ!$A:$B,2,FALSE))","v":""}]
["",null,null,null,null,null,null,null,null,{"$f":"IF(I4344= \"\",\"\",VLOOKUP(I4344,会場マスタ!$A:$B,2,FALSE))","v":""}]
["",null,null,null,null,null,null,null,null,{"$f":"IF(I4345= \"\",\"\",VLOOKUP(I4345,会場マスタ!$A:$B,2,FALSE))","v":""}]
["",null,null,null,null,null,null,null,null,{"$f":"IF(I4346= \"\",\"\",VLOOKUP(I4346,会場マスタ!$A:$B,2,FALSE))","v":""}]
["",null,null,null,null,null,null,null,null,{"$f":"IF(I4347= \"\",\"\",VLOOKUP(I4347,会場マスタ!$A:$B,2,FALSE))","v":""}]
["",null,null,null,null,null,null,null,null,{"$f":"IF(I4348= \"\",\"\",VLOOKUP(I4348,会場マスタ!$A:$B,2,FALSE))","v":""}]
["",null,null,null,null,null,null,null,null,{"$f":"IF(I4349= \"\",\"\",VLOOKUP(I4349,会場マスタ!$A:$B,2,FALSE))","v":""}]
["",null,null,null,null,null,null,null,null,{"$f":"IF(I4350= \"\",\"\",VLOOKUP(I4350,会場マスタ!$A:$B,2,FALSE))","v":""}]
["",null,null,null,null,null,null,null,null,{"$f":"IF(I4351= \"\",\"\",VLOOKUP(I4351,会場マスタ!$A:$B,2,FALSE))","v":""}]
["",null,null,null,null,null,null,null,null,{"$f":"IF(I4352= \"\",\"\",VLOOKUP(I4352,会場マスタ!$A:$B,2,FALSE))","v":""}]
["",null,null,null,null,null,null,null,null,{"$f":"IF(I4353= \"\",\"\",VLOOKUP(I4353,会場マスタ!$A:$B,2,FALSE))","v":""}]
["",null,null,null,null,null,null,null,null,{"$f":"IF(I4354= \"\",\"\",VLOOKUP(I4354,会場マスタ!$A:$B,2,FALSE))","v":""}]
["",null,null,null,null,null,null,null,null,{"$f":"IF(I4355= \"\",\"\",VLOOKUP(I4355,会場マスタ!$A:$B,2,FALSE))","v":""}]
["",null,null,null,null,null,null,null,null,{"$f":"IF(I4356= \"\",\"\",VLOOKUP(I4356,会場マスタ!$A:$B,2,FALSE))","v":""}]
["",null,null,null,null,null,null,null,null,{"$f":"IF(I4357= \"\",\"\",VLOOKUP(I4357,会場マスタ!$A:$B,2,FALSE))","v":""}]
["",null,null,null,null,null,null,null,null,{"$f":"IF(I4358= \"\",\"\",VLOOKUP(I4358,会場マスタ!$A:$B,2,FALSE))","v":""}]
[{"$f":"IF(B4359<>\"\",ROW(A4359)-4,\"\")","v":""},null,null,null,null,null,null,null,null,{"$f":"IF(I4359= \"\",\"\",VLOOKUP(I4359,会場マスタ!$A:$B,2,FALSE))","v":""}]
["",null,null,null,null,null,null,null,null,{"$f":"IF(I4360= \"\",\"\",VLOOKUP(I4360,会場マスタ!$A:$B,2,FALSE))","v":""}]
["",null,null,null,null,null,null,null,null,{"$f":"IF(I4361= \"\",\"\",VLOOKUP(I4361,会場マスタ!$A:$B,2,FALSE))","v":""}]
["",null,null,null,null,null,null,null,null,{"$f":"IF(I4362= \"\",\"\",VLOOKUP(I4362,会場マスタ!$A:$B,2,FALSE))","v":""}]
["",null,null,null,null,null,null,null,null,{"$f":"IF(I4363= \"\",\"\",VLOOKUP(I4363,会場マスタ!$A:$B,2,FALSE))","v":""}]
["",null,null,null,null,null,null,null,null,{"$f":"IF(I4364= \"\",\"\",VLOOKUP(I4364,会場マスタ!$A:$B,2,FALSE))","v":""}]
["",null,null,null,null,null,null,null,null,{"$f":"IF(I4365= \"\",\"\",VLOOKUP(I4365,会場マスタ!$A:$B,2,FALSE))","v":""}]
["",null,null,null,null,null,null,null,null,{"$f":"IF(I4366= \"\",\"\",VLOOKUP(I4366,会場マスタ!$A:$B,2,FALSE))","v":""}]
["",null,null,null,null,null,null,null,null,{"$f":"IF(I4367= \"\",\"\",VLOOKUP(I4367,会場マスタ!$A:$B,2,FALSE))","v":""}]
["",null,null,null,null,null,null,null,null,{"$f":"IF(I4368= \"\",\"\",VLOOKUP(I4368,会場マスタ!$A:$B,2,FALSE))","v":""}]
["",null,null,null,null,null,null,null,null,{"$f":"IF(I4369= \"\",\"\",VLOOKUP(I4369,会場マスタ!$A:$B,2,FALSE))","v":""}]
["",null,null,null,null,null,null,null,null,{"$f":"IF(I4370= \"\",\"\",VLOOKUP(I4370,会場マスタ!$A:$B,2,FALSE))","v":""}]
["",null,null,null,null,null,null,null,null,{"$f":"IF(I4371= \"\",\"\",VLOOKUP(I4371,会場マスタ!$A:$B,2,FALSE))","v":""}]
["",null,null,null,null,null,null,null,null,{"$f":"IF(I4372= \"\",\"\",VLOOKUP(I4372,会場マスタ!$A:$B,2,FALSE))","v":""}]
["",null,null,null,null,null,null,null,null,{"$f":"IF(I4373= \"\",\"\",VLOOKUP(I4373,会場マスタ!$A:$B,2,FALSE))","v":""}]
["",null,null,null,null,null,null,null,null,{"$f":"IF(I4374= \"\",\"\",VLOOKUP(I4374,会場マスタ!$A:$B,2,FALSE))","v":""}]
["",null,null,null,null,null,null,null,null,{"$f":"IF(I4375= \"\",\"\",VLOOKUP(I4375,会場マスタ!$A:$B,2,FALSE))","v":""}]
["",null,null,null,null,null,null,null,null,{"$f":"IF(I4376= \"\",\"\",VLOOKUP(I4376,会場マスタ!$A:$B,2,FALSE))","v":""}]
["",null,null,null,null,null,null,null,null,{"$f":"IF(I4377= \"\",\"\",VLOOKUP(I4377,会場マスタ!$A:$B,2,FALSE))","v":""}]
["",null,null,null,null,null,null,null,null,{"$f":"IF(I4378= \"\",\"\",VLOOKUP(I4378,会場マスタ!$A:$B,2,FALSE))","v":""}]
["",null,null,null,null,null,null,null,null,{"$f":"IF(I4379= \"\",\"\",VLOOKUP(I4379,会場マスタ!$A:$B,2,FALSE))","v":""}]
["",null,null,null,null,null,null,null,null,{"$f":"IF(I4380= \"\",\"\",VLOOKUP(I4380,会場マスタ!$A:$B,2,FALSE))","v":""}]
["",null,null,null,null,null,null,null,null,{"$f":"IF(I4381= \"\",\"\",VLOOKUP(I4381,会場マスタ!$A:$B,2,FALSE))","v":""}]
["",null,null,null,null,null,null,null,null,{"$f":"IF(I4382= \"\",\"\",VLOOKUP(I4382,会場マスタ!$A:$B,2,FALSE))","v":""}]
["",null,null,null,null,null,null,null,null,{"$f":"IF(I4383= \"\",\"\",VLOOKUP(I4383,会場マスタ!$A:$B,2,FALSE))","v":""}]
["",null,null,null,null,null,null,null,null,{"$f":"IF(I4384= \"\",\"\",VLOOKUP(I4384,会場マスタ!$A:$B,2,FALSE))","v":""}]
["",null,null,null,null,null,null,null,null,{"$f":"IF(I4385= \"\",\"\",VLOOKUP(I4385,会場マスタ!$A:$B,2,FALSE))","v":""}]
["",null,null,null,null,null,null,null,null,{"$f":"IF(I4386= \"\",\"\",VLOOKUP(I4386,会場マスタ!$A:$B,2,FALSE))","v":""}]
["",null,null,null,null,null,null,null,null,{"$f":"IF(I4387= \"\",\"\",VLOOKUP(I4387,会場マスタ!$A:$B,2,FALSE))","v":""}]
["",null,null,null,null,null,null,null,null,{"$f":"IF(I4388= \"\",\"\",VLOOKUP(I4388,会場マスタ!$A:$B,2,FALSE))","v":""}]
["",null,null,null,null,null,null,null,null,{"$f":"IF(I4389= \"\",\"\",VLOOKUP(I4389,会場マスタ!$A:$B,2,FALSE))","v":""}]
["",null,null,null,null,null,null,null,null,{"$f":"IF(I4390= \"\",\"\",VLOOKUP(I4390,会場マスタ!$A:$B,2,FALSE))","v":""}]
["",null,null,null,null,null,null,null,null,{"$f":"IF(I4391= \"\",\"\",VLOOKUP(I4391,会場マスタ!$A:$B,2,FALSE))","v":""}]
["",null,null,null,null,null,null,null,null,{"$f":"IF(I4392= \"\",\"\",VLOOKUP(I4392,会場マスタ!$A:$B,2,FALSE))","v":""}]
["",null,null,null,null,null,null,null,null,{"$f":"IF(I4393= \"\",\"\",VLOOKUP(I4393,会場マスタ!$A:$B,2,FALSE))","v":""}]
["",null,null,null,null,null,null,null,null,{"$f":"IF(I4394= \"\",\"\",VLOOKUP(I4394,会場マスタ!$A:$B,2,FALSE))","v":""}]
["",null,null,null,null,null,null,null,null,{"$f":"IF(I4395= \"\",\"\",VLOOKUP(I4395,会場マスタ!$A:$B,2,FALSE))","v":""}]
["",null,null,null,null,null,null,null,null,{"$f":"IF(I4396= \"\",\"\",VLOOKUP(I4396,会場マスタ!$A:$B,2,FALSE))","v":""}]
["",null,null,null,null,null,null,null,null,{"$f":"IF(I4397= \"\",\"\",VLOOKUP(I4397,会場マスタ!$A:$B,2,FALSE))","v":""}]
["",null,null,null,null,null,null,null,null,{"$f":"IF(I4398= \"\",\"\",VLOOKUP(I4398,会場マスタ!$A:$B,2,FALSE))","v":""}]
["",null,null,null,null,null,null,null,null,{"$f":"IF(I4399= \"\",\"\",VLOOKUP(I4399,会場マスタ!$A:$B,2,FALSE))","v":""}]
["",null,null,null,null,null,null,null,null,{"$f":"IF(I4400= \"\",\"\",VLOOKUP(I4400,会場マスタ!$A:$B,2,FALSE))","v":""}]
["",null,null,null,null,null,null,null,null,{"$f":"IF(I4401= \"\",\"\",VLOOKUP(I4401,会場マスタ!$A:$B,2,FALSE))","v":""}]
["",null,null,null,null,null,null,null,null,{"$f":"IF(I4402= \"\",\"\",VLOOKUP(I4402,会場マスタ!$A:$B,2,FALSE))","v":""}]
["",null,null,null,null,null,null,null,null,{"$f":"IF(I4403= \"\",\"\",VLOOKUP(I4403,会場マスタ!$A:$B,2,FALSE))","v":""}]
["",null,null,null,null,null,null,null,null,{"$f":"IF(I4404= \"\",\"\",VLOOKUP(I4404,会場マスタ!$A:$B,2,FALSE))","v":""}]
["",null,null,null,null,null,null,null,null,{"$f":"IF(I4405= \"\",\"\",VLOOKUP(I4405,会場マスタ!$A:$B,2,FALSE))","v":""}]
["",null,null,null,null,null,null,null,null,{"$f":"IF(I4406= \"\",\"\",VLOOKUP(I4406,会場マスタ!$A:$B,2,FALSE))","v":""}]
["",null,null,null,null,null,null,null,null,{"$f":"IF(I4407= \"\",\"\",VLOOKUP(I4407,会場マスタ!$A:$B,2,FALSE))","v":""}]
["",null,null,null,null,null,null,null,null,{"$f":"IF(I4408= \"\",\"\",VLOOKUP(I4408,会場マスタ!$A:$B,2,FALSE))","v":""}]
["",null,null,null,null,null,null,null,null,{"$f":"IF(I4409= \"\",\"\",VLOOKUP(I4409,会場マスタ!$A:$B,2,FALSE))","v":""}]
["",null,null,null,null,null,null,null,null,{"$f":"IF(I4410= \"\",\"\",VLOOKUP(I4410,会場マスタ!$A:$B,2,FALSE))","v":""}]
["",null,null,null,null,null,null,null,null,{"$f":"IF(I4411= \"\",\"\",VLOOKUP(I4411,会場マスタ!$A:$B,2,FALSE))","v":""}]
["",null,null,null,null,null,null,null,null,{"$f":"IF(I4412= \"\",\"\",VLOOKUP(I4412,会場マスタ!$A:$B,2,FALSE))","v":""}]
["",null,null,null,null,null,null,null,null,{"$f":"IF(I4413= \"\",\"\",VLOOKUP(I4413,会場マスタ!$A:$B,2,FALSE))","v":""}]
["",null,null,null,null,null,null,null,null,{"$f":"IF(I4414= \"\",\"\",VLOOKUP(I4414,会場マスタ!$A:$B,2,FALSE))","v":""}]
["",null,null,null,null,null,null,null,null,{"$f":"IF(I4415= \"\",\"\",VLOOKUP(I4415,会場マスタ!$A:$B,2,FALSE))","v":""}]
["",null,null,null,null,null,null,null,null,{"$f":"IF(I4416= \"\",\"\",VLOOKUP(I4416,会場マスタ!$A:$B,2,FALSE))","v":""}]
["",null,null,null,null,null,null,null,null,{"$f":"IF(I4417= \"\",\"\",VLOOKUP(I4417,会場マスタ!$A:$B,2,FALSE))","v":""}]
["",null,null,null,null,null,null,null,null,{"$f":"IF(I4418= \"\",\"\",VLOOKUP(I4418,会場マスタ!$A:$B,2,FALSE))","v":""}]
["",null,null,null,null,null,null,null,null,{"$f":"IF(I4419= \"\",\"\",VLOOKUP(I4419,会場マスタ!$A:$B,2,FALSE))","v":""}]
["",null,null,null,null,null,null,null,null,{"$f":"IF(I4420= \"\",\"\",VLOOKUP(I4420,会場マスタ!$A:$B,2,FALSE))","v":""}]
["",null,null,null,null,null,null,null,null,{"$f":"IF(I4421= \"\",\"\",VLOOKUP(I4421,会場マスタ!$A:$B,2,FALSE))","v":""}]
["",null,null,null,null,null,null,null,null,{"$f":"IF(I4422= \"\",\"\",VLOOKUP(I4422,会場マスタ!$A:$B,2,FALSE))","v":""}]
[{"$f":"IF(B4423<>\"\",ROW(A4423)-4,\"\")","v":""},null,null,null,null,null,null,null,null,{"$f":"IF(I4423= \"\",\"\",VLOOKUP(I4423,会場マスタ!$A:$B,2,FALSE))","v":""}]
["",null,null,null,null,null,null,null,null,{"$f":"IF(I4424= \"\",\"\",VLOOKUP(I4424,会場マスタ!$A:$B,2,FALSE))","v":""}]
["",null,null,null,null,null,null,null,null,{"$f":"IF(I4425= \"\",\"\",VLOOKUP(I4425,会場マスタ!$A:$B,2,FALSE))","v":""}]
["",null,null,null,null,null,null,null,null,{"$f":"IF(I4426= \"\",\"\",VLOOKUP(I4426,会場マスタ!$A:$B,2,FALSE))","v":""}]
["",null,null,null,null,null,null,null,null,{"$f":"IF(I4427= \"\",\"\",VLOOKUP(I4427,会場マスタ!$A:$B,2,FALSE))","v":""}]
["",null,null,null,null,null,null,null,null,{"$f":"IF(I4428= \"\",\"\",VLOOKUP(I4428,会場マスタ!$A:$B,2,FALSE))","v":""}]
["",null,null,null,null,null,null,null,null,{"$f":"IF(I4429= \"\",\"\",VLOOKUP(I4429,会場マスタ!$A:$B,2,FALSE))","v":""}]
["",null,null,null,null,null,null,null,null,{"$f":"IF(I4430= \"\",\"\",VLOOKUP(I4430,会場マスタ!$A:$B,2,FALSE))","v":""}]
["",null,null,null,null,null,null,null,null,{"$f":"IF(I4431= \"\",\"\",VLOOKUP(I4431,会場マスタ!$A:$B,2,FALSE))","v":""}]
["",null,null,null,null,null,null,null,null,{"$f":"IF(I4432= \"\",\"\",VLOOKUP(I4432,会場マスタ!$A:$B,2,FALSE))","v":""}]
["",null,null,null,null,null,null,null,null,{"$f":"IF(I4433= \"\",\"\",VLOOKUP(I4433,会場マスタ!$A:$B,2,FALSE))","v":""}]
["",null,null,null,null,null,null,null,null,{"$f":"IF(I4434= \"\",\"\",VLOOKUP(I4434,会場マスタ!$A:$B,2,FALSE))","v":""}]
["",null,null,null,null,null,null,null,null,{"$f":"IF(I4435= \"\",\"\",VLOOKUP(I4435,会場マスタ!$A:$B,2,FALSE))","v":""}]
["",null,null,null,null,null,null,null,null,{"$f":"IF(I4436= \"\",\"\",VLOOKUP(I4436,会場マスタ!$A:$B,2,FALSE))","v":""}]
["",null,null,null,null,null,null,null,null,{"$f":"IF(I4437= \"\",\"\",VLOOKUP(I4437,会場マスタ!$A:$B,2,FALSE))","v":""}]
["",null,null,null,null,null,null,null,null,{"$f":"IF(I4438= \"\",\"\",VLOOKUP(I4438,会場マスタ!$A:$B,2,FALSE))","v":""}]
["",null,null,null,null,null,null,null,null,{"$f":"IF(I4439= \"\",\"\",VLOOKUP(I4439,会場マスタ!$A:$B,2,FALSE))","v":""}]
["",null,null,null,null,null,null,null,null,{"$f":"IF(I4440= \"\",\"\",VLOOKUP(I4440,会場マスタ!$A:$B,2,FALSE))","v":""}]
["",null,null,null,null,null,null,null,null,{"$f":"IF(I4441= \"\",\"\",VLOOKUP(I4441,会場マスタ!$A:$B,2,FALSE))","v":""}]
["",null,null,null,null,null,null,null,null,{"$f":"IF(I4442= \"\",\"\",VLOOKUP(I4442,会場マスタ!$A:$B,2,FALSE))","v":""}]
["",null,null,null,null,null,null,null,null,{"$f":"IF(I4443= \"\",\"\",VLOOKUP(I4443,会場マスタ!$A:$B,2,FALSE))","v":""}]
["",null,null,null,null,null,null,null,null,{"$f":"IF(I4444= \"\",\"\",VLOOKUP(I4444,会場マスタ!$A:$B,2,FALSE))","v":""}]
["",null,null,null,null,null,null,null,null,{"$f":"IF(I4445= \"\",\"\",VLOOKUP(I4445,会場マスタ!$A:$B,2,FALSE))","v":""}]
["",null,null,null,null,null,null,null,null,{"$f":"IF(I4446= \"\",\"\",VLOOKUP(I4446,会場マスタ!$A:$B,2,FALSE))","v":""}]
["",null,null,null,null,null,null,null,null,{"$f":"IF(I4447= \"\",\"\",VLOOKUP(I4447,会場マスタ!$A:$B,2,FALSE))","v":""}]
["",null,null,null,null,null,null,null,null,{"$f":"IF(I4448= \"\",\"\",VLOOKUP(I4448,会場マスタ!$A:$B,2,FALSE))","v":""}]
["",null,null,null,null,null,null,null,null,{"$f":"IF(I4449= \"\",\"\",VLOOKUP(I4449,会場マスタ!$A:$B,2,FALSE))","v":""}]
["",null,null,null,null,null,null,null,null,{"$f":"IF(I4450= \"\",\"\",VLOOKUP(I4450,会場マスタ!$A:$B,2,FALSE))","v":""}]
["",null,null,null,null,null,null,null,null,{"$f":"IF(I4451= \"\",\"\",VLOOKUP(I4451,会場マスタ!$A:$B,2,FALSE))","v":""}]
["",null,null,null,null,null,null,null,null,{"$f":"IF(I4452= \"\",\"\",VLOOKUP(I4452,会場マスタ!$A:$B,2,FALSE))","v":""}]
["",null,null,null,null,null,null,null,null,{"$f":"IF(I4453= \"\",\"\",VLOOKUP(I4453,会場マスタ!$A:$B,2,FALSE))","v":""}]
["",null,null,null,null,null,null,null,null,{"$f":"IF(I4454= \"\",\"\",VLOOKUP(I4454,会場マスタ!$A:$B,2,FALSE))","v":""}]
["",null,null,null,null,null,null,null,null,{"$f":"IF(I4455= \"\",\"\",VLOOKUP(I4455,会場マスタ!$A:$B,2,FALSE))","v":""}]
["",null,null,null,null,null,null,null,null,{"$f":"IF(I4456= \"\",\"\",VLOOKUP(I4456,会場マスタ!$A:$B,2,FALSE))","v":""}]
["",null,null,null,null,null,null,null,null,{"$f":"IF(I4457= \"\",\"\",VLOOKUP(I4457,会場マスタ!$A:$B,2,FALSE))","v":""}]
["",null,null,null,null,null,null,null,null,{"$f":"IF(I4458= \"\",\"\",VLOOKUP(I4458,会場マスタ!$A:$B,2,FALSE))","v":""}]
["",null,null,null,null,null,null,null,null,{"$f":"IF(I4459= \"\",\"\",VLOOKUP(I4459,会場マスタ!$A:$B,2,FALSE))","v":""}]
["",null,null,null,null,null,null,null,null,{"$f":"IF(I4460= \"\",\"\",VLOOKUP(I4460,会場マスタ!$A:$B,2,FALSE))","v":""}]
["",null,null,null,null,null,null,null,null,{"$f":"IF(I4461= \"\",\"\",VLOOKUP(I4461,会場マスタ!$A:$B,2,FALSE))","v":""}]
["",null,null,null,null,null,null,null,null,{"$f":"IF(I4462= \"\",\"\",VLOOKUP(I4462,会場マスタ!$A:$B,2,FALSE))","v":""}]
["",null,null,null,null,null,null,null,null,{"$f":"IF(I4463= \"\",\"\",VLOOKUP(I4463,会場マスタ!$A:$B,2,FALSE))","v":""}]
["",null,null,null,null,null,null,null,null,{"$f":"IF(I4464= \"\",\"\",VLOOKUP(I4464,会場マスタ!$A:$B,2,FALSE))","v":""}]
["",null,null,null,null,null,null,null,null,{"$f":"IF(I4465= \"\",\"\",VLOOKUP(I4465,会場マスタ!$A:$B,2,FALSE))","v":""}]
["",null,null,null,null,null,null,null,null,{"$f":"IF(I4466= \"\",\"\",VLOOKUP(I4466,会場マスタ!$A:$B,2,FALSE))","v":""}]
["",null,null,null,null,null,null,null,null,{"$f":"IF(I4467= \"\",\"\",VLOOKUP(I4467,会場マスタ!$A:$B,2,FALSE))","v":""}]
["",null,null,null,null,null,null,null,null,{"$f":"IF(I4468= \"\",\"\",VLOOKUP(I4468,会場マスタ!$A:$B,2,FALSE))","v":""}]
["",null,null,null,null,null,null,null,null,{"$f":"IF(I4469= \"\",\"\",VLOOKUP(I4469,会場マスタ!$A:$B,2,FALSE))","v":""}]
["",null,null,null,null,null,null,null,null,{"$f":"IF(I4470= \"\",\"\",VLOOKUP(I4470,会場マスタ!$A:$B,2,FALSE))","v":""}]
["",null,null,null,null,null,null,null,null,{"$f":"IF(I4471= \"\",\"\",VLOOKUP(I4471,会場マスタ!$A:$B,2,FALSE))","v":""}]
["",null,null,null,null,null,null,null,null,{"$f":"IF(I4472= \"\",\"\",VLOOKUP(I4472,会場マスタ!$A:$B,2,FALSE))","v":""}]
["",null,null,null,null,null,null,null,null,{"$f":"IF(I4473= \"\",\"\",VLOOKUP(I4473,会場マスタ!$A:$B,2,FALSE))","v":""}]
["",null,null,null,null,null,null,null,null,{"$f":"IF(I4474= \"\",\"\",VLOOKUP(I4474,会場マスタ!$A:$B,2,FALSE))","v":""}]
["",null,null,null,null,null,null,null,null,{"$f":"IF(I4475= \"\",\"\",VLOOKUP(I4475,会場マスタ!$A:$B,2,FALSE))","v":""}]
["",null,null,null,null,null,null,null,null,{"$f":"IF(I4476= \"\",\"\",VLOOKUP(I4476,会場マスタ!$A:$B,2,FALSE))","v":""}]
["",null,null,null,null,null,null,null,null,{"$f":"IF(I4477= \"\",\"\",VLOOKUP(I4477,会場マスタ!$A:$B,2,FALSE))","v":""}]
["",null,null,null,null,null,null,null,null,{"$f":"IF(I4478= \"\",\"\",VLOOKUP(I4478,会場マスタ!$A:$B,2,FALSE))","v":""}]
["",null,null,null,null,null,null,null,null,{"$f":"IF(I4479= \"\",\"\",VLOOKUP(I4479,会場マスタ!$A:$B,2,FALSE))","v":""}]
["",null,null,null,null,null,null,null,null,{"$f":"IF(I4480= \"\",\"\",VLOOKUP(I4480,会場マスタ!$A:$B,2,FALSE))","v":""}]
["",null,null,null,null,null,null,null,null,{"$f":"IF(I4481= \"\",\"\",VLOOKUP(I4481,会場マスタ!$A:$B,2,FALSE))","v":""}]
["",null,null,null,null,null,null,null,null,{"$f":"IF(I4482= \"\",\"\",VLOOKUP(I4482,会場マスタ!$A:$B,2,FALSE))","v":""}]
["",null,null,null,null,null,null,null,null,{"$f":"IF(I4483= \"\",\"\",VLOOKUP(I4483,会場マスタ!$A:$B,2,FALSE))","v":""}]
["",null,null,null,null,null,null,null,null,{"$f":"IF(I4484= \"\",\"\",VLOOKUP(I4484,会場マスタ!$A:$B,2,FALSE))","v":""}]
["",null,null,null,null,null,null,null,null,{"$f":"IF(I4485= \"\",\"\",VLOOKUP(I4485,会場マスタ!$A:$B,2,FALSE))","v":""}]
["",null,null,null,null,null,null,null,null,{"$f":"IF(I4486= \"\",\"\",VLOOKUP(I4486,会場マスタ!$A:$B,2,FALSE))","v":""}]
[{"$f":"IF(B4487<>\"\",ROW(A4487)-4,\"\")","v":""},null,null,null,null,null,null,null,null,{"$f":"IF(I4487= \"\",\"\",VLOOKUP(I4487,会場マスタ!$A:$B,2,FALSE))","v":""}]
["",null,null,null,null,null,null,null,null,{"$f":"IF(I4488= \"\",\"\",VLOOKUP(I4488,会場マスタ!$A:$B,2,FALSE))","v":""}]
["",null,null,null,null,null,null,null,null,{"$f":"IF(I4489= \"\",\"\",VLOOKUP(I4489,会場マスタ!$A:$B,2,FALSE))","v":""}]
["",null,null,null,null,null,null,null,null,{"$f":"IF(I4490= \"\",\"\",VLOOKUP(I4490,会場マスタ!$A:$B,2,FALSE))","v":""}]
["",null,null,null,null,null,null,null,null,{"$f":"IF(I4491= \"\",\"\",VLOOKUP(I4491,会場マスタ!$A:$B,2,FALSE))","v":""}]
["",null,null,null,null,null,null,null,null,{"$f":"IF(I4492= \"\",\"\",VLOOKUP(I4492,会場マスタ!$A:$B,2,FALSE))","v":""}]
["",null,null,null,null,null,null,null,null,{"$f":"IF(I4493= \"\",\"\",VLOOKUP(I4493,会場マスタ!$A:$B,2,FALSE))","v":""}]
["",null,null,null,null,null,null,null,null,{"$f":"IF(I4494= \"\",\"\",VLOOKUP(I4494,会場マスタ!$A:$B,2,FALSE))","v":""}]
["",null,null,null,null,null,null,null,null,{"$f":"IF(I4495= \"\",\"\",VLOOKUP(I4495,会場マスタ!$A:$B,2,FALSE))","v":""}]
["",null,null,null,null,null,null,null,null,{"$f":"IF(I4496= \"\",\"\",VLOOKUP(I4496,会場マスタ!$A:$B,2,FALSE))","v":""}]
["",null,null,null,null,null,null,null,null,{"$f":"IF(I4497= \"\",\"\",VLOOKUP(I4497,会場マスタ!$A:$B,2,FALSE))","v":""}]
["",null,null,null,null,null,null,null,null,{"$f":"IF(I4498= \"\",\"\",VLOOKUP(I4498,会場マスタ!$A:$B,2,FALSE))","v":""}]
["",null,null,null,null,null,null,null,null,{"$f":"IF(I4499= \"\",\"\",VLOOKUP(I4499,会場マスタ!$A:$B,2,FALSE))","v":""}]
["",null,null,null,null,null,null,null,null,{"$f":"IF(I4500= \"\",\"\",VLOOKUP(I4500,会場マスタ!$A:$B,2,FALSE))","v":""}]
["",null,null,null,null,null,null,null,null,{"$f":"IF(I4501= \"\",\"\",VLOOKUP(I4501,会場マスタ!$A:$B,2,FALSE))","v":""}]
["",null,null,null,null,null,null,null,null,{"$f":"IF(I4502= \"\",\"\",VLOOKUP(I4502,会場マスタ!$A:$B,2,FALSE))","v":""}]
["",null,null,null,null,null,null,null,null,{"$f":"IF(I4503= \"\",\"\",VLOOKUP(I4503,会場マスタ!$A:$B,2,FALSE))","v":""}]
["",null,null,null,null,null,null,null,null,{"$f":"IF(I4504= \"\",\"\",VLOOKUP(I4504,会場マスタ!$A:$B,2,FALSE))","v":""}]
["",null,null,null,null,null,null,null,null,{"$f":"IF(I4505= \"\",\"\",VLOOKUP(I4505,会場マスタ!$A:$B,2,FALSE))","v":""}]
["",null,null,null,null,null,null,null,null,{"$f":"IF(I4506= \"\",\"\",VLOOKUP(I4506,会場マスタ!$A:$B,2,FALSE))","v":""}]
["",null,null,null,null,null,null,null,null,{"$f":"IF(I4507= \"\",\"\",VLOOKUP(I4507,会場マスタ!$A:$B,2,FALSE))","v":""}]
["",null,null,null,null,null,null,null,null,{"$f":"IF(I4508= \"\",\"\",VLOOKUP(I4508,会場マスタ!$A:$B,2,FALSE))","v":""}]
["",null,null,null,null,null,null,null,null,{"$f":"IF(I4509= \"\",\"\",VLOOKUP(I4509,会場マスタ!$A:$B,2,FALSE))","v":""}]
["",null,null,null,null,null,null,null,null,{"$f":"IF(I4510= \"\",\"\",VLOOKUP(I4510,会場マスタ!$A:$B,2,FALSE))","v":""}]
["",null,null,null,null,null,null,null,null,{"$f":"IF(I4511= \"\",\"\",VLOOKUP(I4511,会場マスタ!$A:$B,2,FALSE))","v":""}]
["",null,null,null,null,null,null,null,null,{"$f":"IF(I4512= \"\",\"\",VLOOKUP(I4512,会場マスタ!$A:$B,2,FALSE))","v":""}]
["",null,null,null,null,null,null,null,null,{"$f":"IF(I4513= \"\",\"\",VLOOKUP(I4513,会場マスタ!$A:$B,2,FALSE))","v":""}]
["",null,null,null,null,null,null,null,null,{"$f":"IF(I4514= \"\",\"\",VLOOKUP(I4514,会場マスタ!$A:$B,2,FALSE))","v":""}]
["",null,null,null,null,null,null,null,null,{"$f":"IF(I4515= \"\",\"\",VLOOKUP(I4515,会場マスタ!$A:$B,2,FALSE))","v":""}]
["",null,null,null,null,null,null,null,null,{"$f":"IF(I4516= \"\",\"\",VLOOKUP(I4516,会場マスタ!$A:$B,2,FALSE))","v":""}]
["",null,null,null,null,null,null,null,null,{"$f":"IF(I4517= \"\",\"\",VLOOKUP(I4517,会場マスタ!$A:$B,2,FALSE))","v":""}]
["",null,null,null,null,null,null,null,null,{"$f":"IF(I4518= \"\",\"\",VLOOKUP(I4518,会場マスタ!$A:$B,2,FALSE))","v":""}]
["",null,null,null,null,null,null,null,null,{"$f":"IF(I4519= \"\",\"\",VLOOKUP(I4519,会場マスタ!$A:$B,2,FALSE))","v":""}]
["",null,null,null,null,null,null,null,null,{"$f":"IF(I4520= \"\",\"\",VLOOKUP(I4520,会場マスタ!$A:$B,2,FALSE))","v":""}]
["",null,null,null,null,null,null,null,null,{"$f":"IF(I4521= \"\",\"\",VLOOKUP(I4521,会場マスタ!$A:$B,2,FALSE))","v":""}]
["",null,null,null,null,null,null,null,null,{"$f":"IF(I4522= \"\",\"\",VLOOKUP(I4522,会場マスタ!$A:$B,2,FALSE))","v":""}]
["",null,null,null,null,null,null,null,null,{"$f":"IF(I4523= \"\",\"\",VLOOKUP(I4523,会場マスタ!$A:$B,2,FALSE))","v":""}]
["",null,null,null,null,null,null,null,null,{"$f":"IF(I4524= \"\",\"\",VLOOKUP(I4524,会場マスタ!$A:$B,2,FALSE))","v":""}]
["",null,null,null,null,null,null,null,null,{"$f":"IF(I4525= \"\",\"\",VLOOKUP(I4525,会場マスタ!$A:$B,2,FALSE))","v":""}]
["",null,null,null,null,null,null,null,null,{"$f":"IF(I4526= \"\",\"\",VLOOKUP(I4526,会場マスタ!$A:$B,2,FALSE))","v":""}]
["",null,null,null,null,null,null,null,null,{"$f":"IF(I4527= \"\",\"\",VLOOKUP(I4527,会場マスタ!$A:$B,2,FALSE))","v":""}]
["",null,null,null,null,null,null,null,null,{"$f":"IF(I4528= \"\",\"\",VLOOKUP(I4528,会場マスタ!$A:$B,2,FALSE))","v":""}]
["",null,null,null,null,null,null,null,null,{"$f":"IF(I4529= \"\",\"\",VLOOKUP(I4529,会場マスタ!$A:$B,2,FALSE))","v":""}]
["",null,null,null,null,null,null,null,null,{"$f":"IF(I4530= \"\",\"\",VLOOKUP(I4530,会場マスタ!$A:$B,2,FALSE))","v":""}]
["",null,null,null,null,null,null,null,null,{"$f":"IF(I4531= \"\",\"\",VLOOKUP(I4531,会場マスタ!$A:$B,2,FALSE))","v":""}]
["",null,null,null,null,null,null,null,null,{"$f":"IF(I4532= \"\",\"\",VLOOKUP(I4532,会場マスタ!$A:$B,2,FALSE))","v":""}]
["",null,null,null,null,null,null,null,null,{"$f":"IF(I4533= \"\",\"\",VLOOKUP(I4533,会場マスタ!$A:$B,2,FALSE))","v":""}]
["",null,null,null,null,null,null,null,null,{"$f":"IF(I4534= \"\",\"\",VLOOKUP(I4534,会場マスタ!$A:$B,2,FALSE))","v":""}]
["",null,null,null,null,null,null,null,null,{"$f":"IF(I4535= \"\",\"\",VLOOKUP(I4535,会場マスタ!$A:$B,2,FALSE))","v":""}]
["",null,null,null,null,null,null,null,null,{"$f":"IF(I4536= \"\",\"\",VLOOKUP(I4536,会場マスタ!$A:$B,2,FALSE))","v":""}]
["",null,null,null,null,null,null,null,null,{"$f":"IF(I4537= \"\",\"\",VLOOKUP(I4537,会場マスタ!$A:$B,2,FALSE))","v":""}]
["",null,null,null,null,null,null,null,null,{"$f":"IF(I4538= \"\",\"\",VLOOKUP(I4538,会場マスタ!$A:$B,2,FALSE))","v":""}]
["",null,null,null,null,null,null,null,null,{"$f":"IF(I4539= \"\",\"\",VLOOKUP(I4539,会場マスタ!$A:$B,2,FALSE))","v":""}]
["",null,null,null,null,null,null,null,null,{"$f":"IF(I4540= \"\",\"\",VLOOKUP(I4540,会場マスタ!$A:$B,2,FALSE))","v":""}]
["",null,null,null,null,null,null,null,null,{"$f":"IF(I4541= \"\",\"\",VLOOKUP(I4541,会場マスタ!$A:$B,2,FALSE))","v":""}]
["",null,null,null,null,null,null,null,null,{"$f":"IF(I4542= \"\",\"\",VLOOKUP(I4542,会場マスタ!$A:$B,2,FALSE))","v":""}]
["",null,null,null,null,null,null,null,null,{"$f":"IF(I4543= \"\",\"\",VLOOKUP(I4543,会場マスタ!$A:$B,2,FALSE))","v":""}]
["",null,null,null,null,null,null,null,null,{"$f":"IF(I4544= \"\",\"\",VLOOKUP(I4544,会場マスタ!$A:$B,2,FALSE))","v":""}]
["",null,null,null,null,null,null,null,null,{"$f":"IF(I4545= \"\",\"\",VLOOKUP(I4545,会場マスタ!$A:$B,2,FALSE))","v":""}]
["",null,null,null,null,null,null,null,null,{"$f":"IF(I4546= \"\",\"\",VLOOKUP(I4546,会場マスタ!$A:$B,2,FALSE))","v":""}]
["",null,null,null,null,null,null,null,null,{"$f":"IF(I4547= \"\",\"\",VLOOKUP(I4547,会場マスタ!$A:$B,2,FALSE))","v":""}]
["",null,null,null,null,null,null,null,null,{"$f":"IF(I4548= \"\",\"\",VLOOKUP(I4548,会場マスタ!$A:$B,2,FALSE))","v":""}]
["",null,null,null,null,null,null,null,null,{"$f":"IF(I4549= \"\",\"\",VLOOKUP(I4549,会場マスタ!$A:$B,2,FALSE))","v":""}]
["",null,null,null,null,null,null,null,null,{"$f":"IF(I4550= \"\",\"\",VLOOKUP(I4550,会場マスタ!$A:$B,2,FALSE))","v":""}]
[{"$f":"IF(B4551<>\"\",ROW(A4551)-4,\"\")","v":""},null,null,null,null,null,null,null,null,{"$f":"IF(I4551= \"\",\"\",VLOOKUP(I4551,会場マスタ!$A:$B,2,FALSE))","v":""}]
["",null,null,null,null,null,null,null,null,{"$f":"IF(I4552= \"\",\"\",VLOOKUP(I4552,会場マスタ!$A:$B,2,FALSE))","v":""}]
["",null,null,null,null,null,null,null,null,{"$f":"IF(I4553= \"\",\"\",VLOOKUP(I4553,会場マスタ!$A:$B,2,FALSE))","v":""}]
["",null,null,null,null,null,null,null,null,{"$f":"IF(I4554= \"\",\"\",VLOOKUP(I4554,会場マスタ!$A:$B,2,FALSE))","v":""}]
["",null,null,null,null,null,null,null,null,{"$f":"IF(I4555= \"\",\"\",VLOOKUP(I4555,会場マスタ!$A:$B,2,FALSE))","v":""}]
["",null,null,null,null,null,null,null,null,{"$f":"IF(I4556= \"\",\"\",VLOOKUP(I4556,会場マスタ!$A:$B,2,FALSE))","v":""}]
["",null,null,null,null,null,null,null,null,{"$f":"IF(I4557= \"\",\"\",VLOOKUP(I4557,会場マスタ!$A:$B,2,FALSE))","v":""}]
["",null,null,null,null,null,null,null,null,{"$f":"IF(I4558= \"\",\"\",VLOOKUP(I4558,会場マスタ!$A:$B,2,FALSE))","v":""}]
["",null,null,null,null,null,null,null,null,{"$f":"IF(I4559= \"\",\"\",VLOOKUP(I4559,会場マスタ!$A:$B,2,FALSE))","v":""}]
["",null,null,null,null,null,null,null,null,{"$f":"IF(I4560= \"\",\"\",VLOOKUP(I4560,会場マスタ!$A:$B,2,FALSE))","v":""}]
["",null,null,null,null,null,null,null,null,{"$f":"IF(I4561= \"\",\"\",VLOOKUP(I4561,会場マスタ!$A:$B,2,FALSE))","v":""}]
["",null,null,null,null,null,null,null,null,{"$f":"IF(I4562= \"\",\"\",VLOOKUP(I4562,会場マスタ!$A:$B,2,FALSE))","v":""}]
["",null,null,null,null,null,null,null,null,{"$f":"IF(I4563= \"\",\"\",VLOOKUP(I4563,会場マスタ!$A:$B,2,FALSE))","v":""}]
["",null,null,null,null,null,null,null,null,{"$f":"IF(I4564= \"\",\"\",VLOOKUP(I4564,会場マスタ!$A:$B,2,FALSE))","v":""}]
["",null,null,null,null,null,null,null,null,{"$f":"IF(I4565= \"\",\"\",VLOOKUP(I4565,会場マスタ!$A:$B,2,FALSE))","v":""}]
["",null,null,null,null,null,null,null,null,{"$f":"IF(I4566= \"\",\"\",VLOOKUP(I4566,会場マスタ!$A:$B,2,FALSE))","v":""}]
["",null,null,null,null,null,null,null,null,{"$f":"IF(I4567= \"\",\"\",VLOOKUP(I4567,会場マスタ!$A:$B,2,FALSE))","v":""}]
["",null,null,null,null,null,null,null,null,{"$f":"IF(I4568= \"\",\"\",VLOOKUP(I4568,会場マスタ!$A:$B,2,FALSE))","v":""}]
["",null,null,null,null,null,null,null,null,{"$f":"IF(I4569= \"\",\"\",VLOOKUP(I4569,会場マスタ!$A:$B,2,FALSE))","v":""}]
["",null,null,null,null,null,null,null,null,{"$f":"IF(I4570= \"\",\"\",VLOOKUP(I4570,会場マスタ!$A:$B,2,FALSE))","v":""}]
["",null,null,null,null,null,null,null,null,{"$f":"IF(I4571= \"\",\"\",VLOOKUP(I4571,会場マスタ!$A:$B,2,FALSE))","v":""}]
["",null,null,null,null,null,null,null,null,{"$f":"IF(I4572= \"\",\"\",VLOOKUP(I4572,会場マスタ!$A:$B,2,FALSE))","v":""}]
["",null,null,null,null,null,null,null,null,{"$f":"IF(I4573= \"\",\"\",VLOOKUP(I4573,会場マスタ!$A:$B,2,FALSE))","v":""}]
["",null,null,null,null,null,null,null,null,{"$f":"IF(I4574= \"\",\"\",VLOOKUP(I4574,会場マスタ!$A:$B,2,FALSE))","v":""}]
["",null,null,null,null,null,null,null,null,{"$f":"IF(I4575= \"\",\"\",VLOOKUP(I4575,会場マスタ!$A:$B,2,FALSE))","v":""}]
["",null,null,null,null,null,null,null,null,{"$f":"IF(I4576= \"\",\"\",VLOOKUP(I4576,会場マスタ!$A:$B,2,FALSE))","v":""}]
["",null,null,null,null,null,null,null,null,{"$f":"IF(I4577= \"\",\"\",VLOOKUP(I4577,会場マスタ!$A:$B,2,FALSE))","v":""}]
["",null,null,null,null,null,null,null,null,{"$f":"IF(I4578= \"\",\"\",VLOOKUP(I4578,会場マスタ!$A:$B,2,FALSE))","v":""}]
["",null,null,null,null,null,null,null,null,{"$f":"IF(I4579= \"\",\"\",VLOOKUP(I4579,会場マスタ!$A:$B,2,FALSE))","v":""}]
["",null,null,null,null,null,null,null,null,{"$f":"IF(I4580= \"\",\"\",VLOOKUP(I4580,会場マスタ!$A:$B,2,FALSE))","v":""}]
["",null,null,null,null,null,null,null,null,{"$f":"IF(I4581= \"\",\"\",VLOOKUP(I4581,会場マスタ!$A:$B,2,FALSE))","v":""}]
["",null,null,null,null,null,null,null,null,{"$f":"IF(I4582= \"\",\"\",VLOOKUP(I4582,会場マスタ!$A:$B,2,FALSE))","v":""}]
["",null,null,null,null,null,null,null,null,{"$f":"IF(I4583= \"\",\"\",VLOOKUP(I4583,会場マスタ!$A:$B,2,FALSE))","v":""}]
["",null,null,null,null,null,null,null,null,{"$f":"IF(I4584= \"\",\"\",VLOOKUP(I4584,会場マスタ!$A:$B,2,FALSE))","v":""}]
["",null,null,null,null,null,null,null,null,{"$f":"IF(I4585= \"\",\"\",VLOOKUP(I4585,会場マスタ!$A:$B,2,FALSE))","v":""}]
["",null,null,null,null,null,null,null,null,{"$f":"IF(I4586= \"\",\"\",VLOOKUP(I4586,会場マスタ!$A:$B,2,FALSE))","v":""}]
["",null,null,null,null,null,null,null,null,{"$f":"IF(I4587= \"\",\"\",VLOOKUP(I4587,会場マスタ!$A:$B,2,FALSE))","v":""}]
["",null,null,null,null,null,null,null,null,{"$f":"IF(I4588= \"\",\"\",VLOOKUP(I4588,会場マスタ!$A:$B,2,FALSE))","v":""}]
["",null,null,null,null,null,null,null,null,{"$f":"IF(I4589= \"\",\"\",VLOOKUP(I4589,会場マスタ!$A:$B,2,FALSE))","v":""}]
["",null,null,null,null,null,null,null,null,{"$f":"IF(I4590= \"\",\"\",VLOOKUP(I4590,会場マスタ!$A:$B,2,FALSE))","v":""}]
["",null,null,null,null,null,null,null,null,{"$f":"IF(I4591= \"\",\"\",VLOOKUP(I4591,会場マスタ!$A:$B,2,FALSE))","v":""}]
["",null,null,null,null,null,null,null,null,{"$f":"IF(I4592= \"\",\"\",VLOOKUP(I4592,会場マスタ!$A:$B,2,FALSE))","v":""}]
["",null,null,null,null,null,null,null,null,{"$f":"IF(I4593= \"\",\"\",VLOOKUP(I4593,会場マスタ!$A:$B,2,FALSE))","v":""}]
["",null,null,null,null,null,null,null,null,{"$f":"IF(I4594= \"\",\"\",VLOOKUP(I4594,会場マスタ!$A:$B,2,FALSE))","v":""}]
["",null,null,null,null,null,null,null,null,{"$f":"IF(I4595= \"\",\"\",VLOOKUP(I4595,会場マスタ!$A:$B,2,FALSE))","v":""}]
["",null,null,null,null,null,null,null,null,{"$f":"IF(I4596= \"\",\"\",VLOOKUP(I4596,会場マスタ!$A:$B,2,FALSE))","v":""}]
["",null,null,null,null,null,null,null,null,{"$f":"IF(I4597= \"\",\"\",VLOOKUP(I4597,会場マスタ!$A:$B,2,FALSE))","v":""}]
["",null,null,null,null,null,null,null,null,{"$f":"IF(I4598= \"\",\"\",VLOOKUP(I4598,会場マスタ!$A:$B,2,FALSE))","v":""}]
["",null,null,null,null,null,null,null,null,{"$f":"IF(I4599= \"\",\"\",VLOOKUP(I4599,会場マスタ!$A:$B,2,FALSE))","v":""}]
["",null,null,null,null,null,null,null,null,{"$f":"IF(I4600= \"\",\"\",VLOOKUP(I4600,会場マスタ!$A:$B,2,FALSE))","v":""}]
["",null,null,null,null,null,null,null,null,{"$f":"IF(I4601= \"\",\"\",VLOOKUP(I4601,会場マスタ!$A:$B,2,FALSE))","v":""}]
["",null,null,null,null,null,null,null,null,{"$f":"IF(I4602= \"\",\"\",VLOOKUP(I4602,会場マスタ!$A:$B,2,FALSE))","v":""}]
["",null,null,null,null,null,null,null,null,{"$f":"IF(I4603= \"\",\"\",VLOOKUP(I4603,会場マスタ!$A:$B,2,FALSE))","v":""}]
["",null,null,null,null,null,null,null,null,{"$f":"IF(I4604= \"\",\"\",VLOOKUP(I4604,会場マスタ!$A:$B,2,FALSE))","v":""}]
["",null,null,null,null,null,null,null,null,{"$f":"IF(I4605= \"\",\"\",VLOOKUP(I4605,会場マスタ!$A:$B,2,FALSE))","v":""}]
["",null,null,null,null,null,null,null,null,{"$f":"IF(I4606= \"\",\"\",VLOOKUP(I4606,会場マスタ!$A:$B,2,FALSE))","v":""}]
["",null,null,null,null,null,null,null,null,{"$f":"IF(I4607= \"\",\"\",VLOOKUP(I4607,会場マスタ!$A:$B,2,FALSE))","v":""}]
["",null,null,null,null,null,null,null,null,{"$f":"IF(I4608= \"\",\"\",VLOOKUP(I4608,会場マスタ!$A:$B,2,FALSE))","v":""}]
["",null,null,null,null,null,null,null,null,{"$f":"IF(I4609= \"\",\"\",VLOOKUP(I4609,会場マスタ!$A:$B,2,FALSE))","v":""}]
["",null,null,null,null,null,null,null,null,{"$f":"IF(I4610= \"\",\"\",VLOOKUP(I4610,会場マスタ!$A:$B,2,FALSE))","v":""}]
["",null,null,null,null,null,null,null,null,{"$f":"IF(I4611= \"\",\"\",VLOOKUP(I4611,会場マスタ!$A:$B,2,FALSE))","v":""}]
["",null,null,null,null,null,null,null,null,{"$f":"IF(I4612= \"\",\"\",VLOOKUP(I4612,会場マスタ!$A:$B,2,FALSE))","v":""}]
["",null,null,null,null,null,null,null,null,{"$f":"IF(I4613= \"\",\"\",VLOOKUP(I4613,会場マスタ!$A:$B,2,FALSE))","v":""}]
["",null,null,null,null,null,null,null,null,{"$f":"IF(I4614= \"\",\"\",VLOOKUP(I4614,会場マスタ!$A:$B,2,FALSE))","v":""}]
[{"$f":"IF(B4615<>\"\",ROW(A4615)-4,\"\")","v":""},null,null,null,null,null,null,null,null,{"$f":"IF(I4615= \"\",\"\",VLOOKUP(I4615,会場マスタ!$A:$B,2,FALSE))","v":""}]
["",null,null,null,null,null,null,null,null,{"$f":"IF(I4616= \"\",\"\",VLOOKUP(I4616,会場マスタ!$A:$B,2,FALSE))","v":""}]
["",null,null,null,null,null,null,null,null,{"$f":"IF(I4617= \"\",\"\",VLOOKUP(I4617,会場マスタ!$A:$B,2,FALSE))","v":""}]
["",null,null,null,null,null,null,null,null,{"$f":"IF(I4618= \"\",\"\",VLOOKUP(I4618,会場マスタ!$A:$B,2,FALSE))","v":""}]
["",null,null,null,null,null,null,null,null,{"$f":"IF(I4619= \"\",\"\",VLOOKUP(I4619,会場マスタ!$A:$B,2,FALSE))","v":""}]
["",null,null,null,null,null,null,null,null,{"$f":"IF(I4620= \"\",\"\",VLOOKUP(I4620,会場マスタ!$A:$B,2,FALSE))","v":""}]
["",null,null,null,null,null,null,null,null,{"$f":"IF(I4621= \"\",\"\",VLOOKUP(I4621,会場マスタ!$A:$B,2,FALSE))","v":""}]
["",null,null,null,null,null,null,null,null,{"$f":"IF(I4622= \"\",\"\",VLOOKUP(I4622,会場マスタ!$A:$B,2,FALSE))","v":""}]
["",null,null,null,null,null,null,null,null,{"$f":"IF(I4623= \"\",\"\",VLOOKUP(I4623,会場マスタ!$A:$B,2,FALSE))","v":""}]
["",null,null,null,null,null,null,null,null,{"$f":"IF(I4624= \"\",\"\",VLOOKUP(I4624,会場マスタ!$A:$B,2,FALSE))","v":""}]
["",null,null,null,null,null,null,null,null,{"$f":"IF(I4625= \"\",\"\",VLOOKUP(I4625,会場マスタ!$A:$B,2,FALSE))","v":""}]
["",null,null,null,null,null,null,null,null,{"$f":"IF(I4626= \"\",\"\",VLOOKUP(I4626,会場マスタ!$A:$B,2,FALSE))","v":""}]
["",null,null,null,null,null,null,null,null,{"$f":"IF(I4627= \"\",\"\",VLOOKUP(I4627,会場マスタ!$A:$B,2,FALSE))","v":""}]
["",null,null,null,null,null,null,null,null,{"$f":"IF(I4628= \"\",\"\",VLOOKUP(I4628,会場マスタ!$A:$B,2,FALSE))","v":""}]
["",null,null,null,null,null,null,null,null,{"$f":"IF(I4629= \"\",\"\",VLOOKUP(I4629,会場マスタ!$A:$B,2,FALSE))","v":""}]
["",null,null,null,null,null,null,null,null,{"$f":"IF(I4630= \"\",\"\",VLOOKUP(I4630,会場マスタ!$A:$B,2,FALSE))","v":""}]
["",null,null,null,null,null,null,null,null,{"$f":"IF(I4631= \"\",\"\",VLOOKUP(I4631,会場マスタ!$A:$B,2,FALSE))","v":""}]
["",null,null,null,null,null,null,null,null,{"$f":"IF(I4632= \"\",\"\",VLOOKUP(I4632,会場マスタ!$A:$B,2,FALSE))","v":""}]
["",null,null,null,null,null,null,null,null,{"$f":"IF(I4633= \"\",\"\",VLOOKUP(I4633,会場マスタ!$A:$B,2,FALSE))","v":""}]
["",null,null,null,null,null,null,null,null,{"$f":"IF(I4634= \"\",\"\",VLOOKUP(I4634,会場マスタ!$A:$B,2,FALSE))","v":""}]
["",null,null,null,null,null,null,null,null,{"$f":"IF(I4635= \"\",\"\",VLOOKUP(I4635,会場マスタ!$A:$B,2,FALSE))","v":""}]
["",null,null,null,null,null,null,null,null,{"$f":"IF(I4636= \"\",\"\",VLOOKUP(I4636,会場マスタ!$A:$B,2,FALSE))","v":""}]
["",null,null,null,null,null,null,null,null,{"$f":"IF(I4637= \"\",\"\",VLOOKUP(I4637,会場マスタ!$A:$B,2,FALSE))","v":""}]
["",null,null,null,null,null,null,null,null,{"$f":"IF(I4638= \"\",\"\",VLOOKUP(I4638,会場マスタ!$A:$B,2,FALSE))","v":""}]
["",null,null,null,null,null,null,null,null,{"$f":"IF(I4639= \"\",\"\",VLOOKUP(I4639,会場マスタ!$A:$B,2,FALSE))","v":""}]
["",null,null,null,null,null,null,null,null,{"$f":"IF(I4640= \"\",\"\",VLOOKUP(I4640,会場マスタ!$A:$B,2,FALSE))","v":""}]
["",null,null,null,null,null,null,null,null,{"$f":"IF(I4641= \"\",\"\",VLOOKUP(I4641,会場マスタ!$A:$B,2,FALSE))","v":""}]
["",null,null,null,null,null,null,null,null,{"$f":"IF(I4642= \"\",\"\",VLOOKUP(I4642,会場マスタ!$A:$B,2,FALSE))","v":""}]
["",null,null,null,null,null,null,null,null,{"$f":"IF(I4643= \"\",\"\",VLOOKUP(I4643,会場マスタ!$A:$B,2,FALSE))","v":""}]
["",null,null,null,null,null,null,null,null,{"$f":"IF(I4644= \"\",\"\",VLOOKUP(I4644,会場マスタ!$A:$B,2,FALSE))","v":""}]
["",null,null,null,null,null,null,null,null,{"$f":"IF(I4645= \"\",\"\",VLOOKUP(I4645,会場マスタ!$A:$B,2,FALSE))","v":""}]
["",null,null,null,null,null,null,null,null,{"$f":"IF(I4646= \"\",\"\",VLOOKUP(I4646,会場マスタ!$A:$B,2,FALSE))","v":""}]
["",null,null,null,null,null,null,null,null,{"$f":"IF(I4647= \"\",\"\",VLOOKUP(I4647,会場マスタ!$A:$B,2,FALSE))","v":""}]
["",null,null,null,null,null,null,null,null,{"$f":"IF(I4648= \"\",\"\",VLOOKUP(I4648,会場マスタ!$A:$B,2,FALSE))","v":""}]
["",null,null,null,null,null,null,null,null,{"$f":"IF(I4649= \"\",\"\",VLOOKUP(I4649,会場マスタ!$A:$B,2,FALSE))","v":""}]
["",null,null,null,null,null,null,null,null,{"$f":"IF(I4650= \"\",\"\",VLOOKUP(I4650,会場マスタ!$A:$B,2,FALSE))","v":""}]
["",null,null,null,null,null,null,null,null,{"$f":"IF(I4651= \"\",\"\",VLOOKUP(I4651,会場マスタ!$A:$B,2,FALSE))","v":""}]
["",null,null,null,null,null,null,null,null,{"$f":"IF(I4652= \"\",\"\",VLOOKUP(I4652,会場マスタ!$A:$B,2,FALSE))","v":""}]
["",null,null,null,null,null,null,null,null,{"$f":"IF(I4653= \"\",\"\",VLOOKUP(I4653,会場マスタ!$A:$B,2,FALSE))","v":""}]
["",null,null,null,null,null,null,null,null,{"$f":"IF(I4654= \"\",\"\",VLOOKUP(I4654,会場マスタ!$A:$B,2,FALSE))","v":""}]
["",null,null,null,null,null,null,null,null,{"$f":"IF(I4655= \"\",\"\",VLOOKUP(I4655,会場マスタ!$A:$B,2,FALSE))","v":""}]
["",null,null,null,null,null,null,null,null,{"$f":"IF(I4656= \"\",\"\",VLOOKUP(I4656,会場マスタ!$A:$B,2,FALSE))","v":""}]
["",null,null,null,null,null,null,null,null,{"$f":"IF(I4657= \"\",\"\",VLOOKUP(I4657,会場マスタ!$A:$B,2,FALSE))","v":""}]
["",null,null,null,null,null,null,null,null,{"$f":"IF(I4658= \"\",\"\",VLOOKUP(I4658,会場マスタ!$A:$B,2,FALSE))","v":""}]
["",null,null,null,null,null,null,null,null,{"$f":"IF(I4659= \"\",\"\",VLOOKUP(I4659,会場マスタ!$A:$B,2,FALSE))","v":""}]
["",null,null,null,null,null,null,null,null,{"$f":"IF(I4660= \"\",\"\",VLOOKUP(I4660,会場マスタ!$A:$B,2,FALSE))","v":""}]
["",null,null,null,null,null,null,null,null,{"$f":"IF(I4661= \"\",\"\",VLOOKUP(I4661,会場マスタ!$A:$B,2,FALSE))","v":""}]
["",null,null,null,null,null,null,null,null,{"$f":"IF(I4662= \"\",\"\",VLOOKUP(I4662,会場マスタ!$A:$B,2,FALSE))","v":""}]
["",null,null,null,null,null,null,null,null,{"$f":"IF(I4663= \"\",\"\",VLOOKUP(I4663,会場マスタ!$A:$B,2,FALSE))","v":""}]
["",null,null,null,null,null,null,null,null,{"$f":"IF(I4664= \"\",\"\",VLOOKUP(I4664,会場マスタ!$A:$B,2,FALSE))","v":""}]
["",null,null,null,null,null,null,null,null,{"$f":"IF(I4665= \"\",\"\",VLOOKUP(I4665,会場マスタ!$A:$B,2,FALSE))","v":""}]
["",null,null,null,null,null,null,null,null,{"$f":"IF(I4666= \"\",\"\",VLOOKUP(I4666,会場マスタ!$A:$B,2,FALSE))","v":""}]
["",null,null,null,null,null,null,null,null,{"$f":"IF(I4667= \"\",\"\",VLOOKUP(I4667,会場マスタ!$A:$B,2,FALSE))","v":""}]
["",null,null,null,null,null,null,null,null,{"$f":"IF(I4668= \"\",\"\",VLOOKUP(I4668,会場マスタ!$A:$B,2,FALSE))","v":""}]
["",null,null,null,null,null,null,null,null,{"$f":"IF(I4669= \"\",\"\",VLOOKUP(I4669,会場マスタ!$A:$B,2,FALSE))","v":""}]
["",null,null,null,null,null,null,null,null,{"$f":"IF(I4670= \"\",\"\",VLOOKUP(I4670,会場マスタ!$A:$B,2,FALSE))","v":""}]
["",null,null,null,null,null,null,null,null,{"$f":"IF(I4671= \"\",\"\",VLOOKUP(I4671,会場マスタ!$A:$B,2,FALSE))","v":""}]
["",null,null,null,null,null,null,null,null,{"$f":"IF(I4672= \"\",\"\",VLOOKUP(I4672,会場マスタ!$A:$B,2,FALSE))","v":""}]
["",null,null,null,null,null,null,null,null,{"$f":"IF(I4673= \"\",\"\",VLOOKUP(I4673,会場マスタ!$A:$B,2,FALSE))","v":""}]
["",null,null,null,null,null,null,null,null,{"$f":"IF(I4674= \"\",\"\",VLOOKUP(I4674,会場マスタ!$A:$B,2,FALSE))","v":""}]
["",null,null,null,null,null,null,null,null,{"$f":"IF(I4675= \"\",\"\",VLOOKUP(I4675,会場マスタ!$A:$B,2,FALSE))","v":""}]
["",null,null,null,null,null,null,null,null,{"$f":"IF(I4676= \"\",\"\",VLOOKUP(I4676,会場マスタ!$A:$B,2,FALSE))","v":""}]
["",null,null,null,null,null,null,null,null,{"$f":"IF(I4677= \"\",\"\",VLOOKUP(I4677,会場マスタ!$A:$B,2,FALSE))","v":""}]
["",null,null,null,null,null,null,null,null,{"$f":"IF(I4678= \"\",\"\",VLOOKUP(I4678,会場マスタ!$A:$B,2,FALSE))","v":""}]
[{"$f":"IF(B4679<>\"\",ROW(A4679)-4,\"\")","v":""},null,null,null,null,null,null,null,null,{"$f":"IF(I4679= \"\",\"\",VLOOKUP(I4679,会場マスタ!$A:$B,2,FALSE))","v":""}]
["",null,null,null,null,null,null,null,null,{"$f":"IF(I4680= \"\",\"\",VLOOKUP(I4680,会場マスタ!$A:$B,2,FALSE))","v":""}]
["",null,null,null,null,null,null,null,null,{"$f":"IF(I4681= \"\",\"\",VLOOKUP(I4681,会場マスタ!$A:$B,2,FALSE))","v":""}]
["",null,null,null,null,null,null,null,null,{"$f":"IF(I4682= \"\",\"\",VLOOKUP(I4682,会場マスタ!$A:$B,2,FALSE))","v":""}]
["",null,null,null,null,null,null,null,null,{"$f":"IF(I4683= \"\",\"\",VLOOKUP(I4683,会場マスタ!$A:$B,2,FALSE))","v":""}]
["",null,null,null,null,null,null,null,null,{"$f":"IF(I4684= \"\",\"\",VLOOKUP(I4684,会場マスタ!$A:$B,2,FALSE))","v":""}]
["",null,null,null,null,null,null,null,null,{"$f":"IF(I4685= \"\",\"\",VLOOKUP(I4685,会場マスタ!$A:$B,2,FALSE))","v":""}]
["",null,null,null,null,null,null,null,null,{"$f":"IF(I4686= \"\",\"\",VLOOKUP(I4686,会場マスタ!$A:$B,2,FALSE))","v":""}]
["",null,null,null,null,null,null,null,null,{"$f":"IF(I4687= \"\",\"\",VLOOKUP(I4687,会場マスタ!$A:$B,2,FALSE))","v":""}]
["",null,null,null,null,null,null,null,null,{"$f":"IF(I4688= \"\",\"\",VLOOKUP(I4688,会場マスタ!$A:$B,2,FALSE))","v":""}]
["",null,null,null,null,null,null,null,null,{"$f":"IF(I4689= \"\",\"\",VLOOKUP(I4689,会場マスタ!$A:$B,2,FALSE))","v":""}]
["",null,null,null,null,null,null,null,null,{"$f":"IF(I4690= \"\",\"\",VLOOKUP(I4690,会場マスタ!$A:$B,2,FALSE))","v":""}]
["",null,null,null,null,null,null,null,null,{"$f":"IF(I4691= \"\",\"\",VLOOKUP(I4691,会場マスタ!$A:$B,2,FALSE))","v":""}]
["",null,null,null,null,null,null,null,null,{"$f":"IF(I4692= \"\",\"\",VLOOKUP(I4692,会場マスタ!$A:$B,2,FALSE))","v":""}]
["",null,null,null,null,null,null,null,null,{"$f":"IF(I4693= \"\",\"\",VLOOKUP(I4693,会場マスタ!$A:$B,2,FALSE))","v":""}]
["",null,null,null,null,null,null,null,null,{"$f":"IF(I4694= \"\",\"\",VLOOKUP(I4694,会場マスタ!$A:$B,2,FALSE))","v":""}]
["",null,null,null,null,null,null,null,null,{"$f":"IF(I4695= \"\",\"\",VLOOKUP(I4695,会場マスタ!$A:$B,2,FALSE))","v":""}]
["",null,null,null,null,null,null,null,null,{"$f":"IF(I4696= \"\",\"\",VLOOKUP(I4696,会場マスタ!$A:$B,2,FALSE))","v":""}]
["",null,null,null,null,null,null,null,null,{"$f":"IF(I4697= \"\",\"\",VLOOKUP(I4697,会場マスタ!$A:$B,2,FALSE))","v":""}]
["",null,null,null,null,null,null,null,null,{"$f":"IF(I4698= \"\",\"\",VLOOKUP(I4698,会場マスタ!$A:$B,2,FALSE))","v":""}]
["",null,null,null,null,null,null,null,null,{"$f":"IF(I4699= \"\",\"\",VLOOKUP(I4699,会場マスタ!$A:$B,2,FALSE))","v":""}]
["",null,null,null,null,null,null,null,null,{"$f":"IF(I4700= \"\",\"\",VLOOKUP(I4700,会場マスタ!$A:$B,2,FALSE))","v":""}]
["",null,null,null,null,null,null,null,null,{"$f":"IF(I4701= \"\",\"\",VLOOKUP(I4701,会場マスタ!$A:$B,2,FALSE))","v":""}]
["",null,null,null,null,null,null,null,null,{"$f":"IF(I4702= \"\",\"\",VLOOKUP(I4702,会場マスタ!$A:$B,2,FALSE))","v":""}]
["",null,null,null,null,null,null,null,null,{"$f":"IF(I4703= \"\",\"\",VLOOKUP(I4703,会場マスタ!$A:$B,2,FALSE))","v":""}]
["",null,null,null,null,null,null,null,null,{"$f":"IF(I4704= \"\",\"\",VLOOKUP(I4704,会場マスタ!$A:$B,2,FALSE))","v":""}]
["",null,null,null,null,null,null,null,null,{"$f":"IF(I4705= \"\",\"\",VLOOKUP(I4705,会場マスタ!$A:$B,2,FALSE))","v":""}]
["",null,null,null,null,null,null,null,null,{"$f":"IF(I4706= \"\",\"\",VLOOKUP(I4706,会場マスタ!$A:$B,2,FALSE))","v":""}]
["",null,null,null,null,null,null,null,null,{"$f":"IF(I4707= \"\",\"\",VLOOKUP(I4707,会場マスタ!$A:$B,2,FALSE))","v":""}]
["",null,null,null,null,null,null,null,null,{"$f":"IF(I4708= \"\",\"\",VLOOKUP(I4708,会場マスタ!$A:$B,2,FALSE))","v":""}]
["",null,null,null,null,null,null,null,null,{"$f":"IF(I4709= \"\",\"\",VLOOKUP(I4709,会場マスタ!$A:$B,2,FALSE))","v":""}]
["",null,null,null,null,null,null,null,null,{"$f":"IF(I4710= \"\",\"\",VLOOKUP(I4710,会場マスタ!$A:$B,2,FALSE))","v":""}]
["",null,null,null,null,null,null,null,null,{"$f":"IF(I4711= \"\",\"\",VLOOKUP(I4711,会場マスタ!$A:$B,2,FALSE))","v":""}]
["",null,null,null,null,null,null,null,null,{"$f":"IF(I4712= \"\",\"\",VLOOKUP(I4712,会場マスタ!$A:$B,2,FALSE))","v":""}]
["",null,null,null,null,null,null,null,null,{"$f":"IF(I4713= \"\",\"\",VLOOKUP(I4713,会場マスタ!$A:$B,2,FALSE))","v":""}]
["",null,null,null,null,null,null,null,null,{"$f":"IF(I4714= \"\",\"\",VLOOKUP(I4714,会場マスタ!$A:$B,2,FALSE))","v":""}]
["",null,null,null,null,null,null,null,null,{"$f":"IF(I4715= \"\",\"\",VLOOKUP(I4715,会場マスタ!$A:$B,2,FALSE))","v":""}]
["",null,null,null,null,null,null,null,null,{"$f":"IF(I4716= \"\",\"\",VLOOKUP(I4716,会場マスタ!$A:$B,2,FALSE))","v":""}]
["",null,null,null,null,null,null,null,null,{"$f":"IF(I4717= \"\",\"\",VLOOKUP(I4717,会場マスタ!$A:$B,2,FALSE))","v":""}]
["",null,null,null,null,null,null,null,null,{"$f":"IF(I4718= \"\",\"\",VLOOKUP(I4718,会場マスタ!$A:$B,2,FALSE))","v":""}]
["",null,null,null,null,null,null,null,null,{"$f":"IF(I4719= \"\",\"\",VLOOKUP(I4719,会場マスタ!$A:$B,2,FALSE))","v":""}]
["",null,null,null,null,null,null,null,null,{"$f":"IF(I4720= \"\",\"\",VLOOKUP(I4720,会場マスタ!$A:$B,2,FALSE))","v":""}]
["",null,null,null,null,null,null,null,null,{"$f":"IF(I4721= \"\",\"\",VLOOKUP(I4721,会場マスタ!$A:$B,2,FALSE))","v":""}]
["",null,null,null,null,null,null,null,null,{"$f":"IF(I4722= \"\",\"\",VLOOKUP(I4722,会場マスタ!$A:$B,2,FALSE))","v":""}]
["",null,null,null,null,null,null,null,null,{"$f":"IF(I4723= \"\",\"\",VLOOKUP(I4723,会場マスタ!$A:$B,2,FALSE))","v":""}]
["",null,null,null,null,null,null,null,null,{"$f":"IF(I4724= \"\",\"\",VLOOKUP(I4724,会場マスタ!$A:$B,2,FALSE))","v":""}]
["",null,null,null,null,null,null,null,null,{"$f":"IF(I4725= \"\",\"\",VLOOKUP(I4725,会場マスタ!$A:$B,2,FALSE))","v":""}]
["",null,null,null,null,null,null,null,null,{"$f":"IF(I4726= \"\",\"\",VLOOKUP(I4726,会場マスタ!$A:$B,2,FALSE))","v":""}]
["",null,null,null,null,null,null,null,null,{"$f":"IF(I4727= \"\",\"\",VLOOKUP(I4727,会場マスタ!$A:$B,2,FALSE))","v":""}]
["",null,null,null,null,null,null,null,null,{"$f":"IF(I4728= \"\",\"\",VLOOKUP(I4728,会場マスタ!$A:$B,2,FALSE))","v":""}]
["",null,null,null,null,null,null,null,null,{"$f":"IF(I4729= \"\",\"\",VLOOKUP(I4729,会場マスタ!$A:$B,2,FALSE))","v":""}]
["",null,null,null,null,null,null,null,null,{"$f":"IF(I4730= \"\",\"\",VLOOKUP(I4730,会場マスタ!$A:$B,2,FALSE))","v":""}]
["",null,null,null,null,null,null,null,null,{"$f":"IF(I4731= \"\",\"\",VLOOKUP(I4731,会場マスタ!$A:$B,2,FALSE))","v":""}]
["",null,null,null,null,null,null,null,null,{"$f":"IF(I4732= \"\",\"\",VLOOKUP(I4732,会場マスタ!$A:$B,2,FALSE))","v":""}]
["",null,null,null,null,null,null,null,null,{"$f":"IF(I4733= \"\",\"\",VLOOKUP(I4733,会場マスタ!$A:$B,2,FALSE))","v":""}]
["",null,null,null,null,null,null,null,null,{"$f":"IF(I4734= \"\",\"\",VLOOKUP(I4734,会場マスタ!$A:$B,2,FALSE))","v":""}]
["",null,null,null,null,null,null,null,null,{"$f":"IF(I4735= \"\",\"\",VLOOKUP(I4735,会場マスタ!$A:$B,2,FALSE))","v":""}]
["",null,null,null,null,null,null,null,null,{"$f":"IF(I4736= \"\",\"\",VLOOKUP(I4736,会場マスタ!$A:$B,2,FALSE))","v":""}]
["",null,null,null,null,null,null,null,null,{"$f":"IF(I4737= \"\",\"\",VLOOKUP(I4737,会場マスタ!$A:$B,2,FALSE))","v":""}]
["",null,null,null,null,null,null,null,null,{"$f":"IF(I4738= \"\",\"\",VLOOKUP(I4738,会場マスタ!$A:$B,2,FALSE))","v":""}]
["",null,null,null,null,null,null,null,null,{"$f":"IF(I4739= \"\",\"\",VLOOKUP(I4739,会場マスタ!$A:$B,2,FALSE))","v":""}]
["",null,null,null,null,null,null,null,null,{"$f":"IF(I4740= \"\",\"\",VLOOKUP(I4740,会場マスタ!$A:$B,2,FALSE))","v":""}]
["",null,null,null,null,null,null,null,null,{"$f":"IF(I4741= \"\",\"\",VLOOKUP(I4741,会場マスタ!$A:$B,2,FALSE))","v":""}]
["",null,null,null,null,null,null,null,null,{"$f":"IF(I4742= \"\",\"\",VLOOKUP(I4742,会場マスタ!$A:$B,2,FALSE))","v":""}]
[{"$f":"IF(B4743<>\"\",ROW(A4743)-4,\"\")","v":""},null,null,null,null,null,null,null,null,{"$f":"IF(I4743= \"\",\"\",VLOOKUP(I4743,会場マスタ!$A:$B,2,FALSE))","v":""}]
["",null,null,null,null,null,null,null,null,{"$f":"IF(I4744= \"\",\"\",VLOOKUP(I4744,会場マスタ!$A:$B,2,FALSE))","v":""}]
["",null,null,null,null,null,null,null,null,{"$f":"IF(I4745= \"\",\"\",VLOOKUP(I4745,会場マスタ!$A:$B,2,FALSE))","v":""}]
["",null,null,null,null,null,null,null,null,{"$f":"IF(I4746= \"\",\"\",VLOOKUP(I4746,会場マスタ!$A:$B,2,FALSE))","v":""}]
["",null,null,null,null,null,null,null,null,{"$f":"IF(I4747= \"\",\"\",VLOOKUP(I4747,会場マスタ!$A:$B,2,FALSE))","v":""}]
["",null,null,null,null,null,null,null,null,{"$f":"IF(I4748= \"\",\"\",VLOOKUP(I4748,会場マスタ!$A:$B,2,FALSE))","v":""}]
["",null,null,null,null,null,null,null,null,{"$f":"IF(I4749= \"\",\"\",VLOOKUP(I4749,会場マスタ!$A:$B,2,FALSE))","v":""}]
["",null,null,null,null,null,null,null,null,{"$f":"IF(I4750= \"\",\"\",VLOOKUP(I4750,会場マスタ!$A:$B,2,FALSE))","v":""}]
["",null,null,null,null,null,null,null,null,{"$f":"IF(I4751= \"\",\"\",VLOOKUP(I4751,会場マスタ!$A:$B,2,FALSE))","v":""}]
["",null,null,null,null,null,null,null,null,{"$f":"IF(I4752= \"\",\"\",VLOOKUP(I4752,会場マスタ!$A:$B,2,FALSE))","v":""}]
["",null,null,null,null,null,null,null,null,{"$f":"IF(I4753= \"\",\"\",VLOOKUP(I4753,会場マスタ!$A:$B,2,FALSE))","v":""}]
["",null,null,null,null,null,null,null,null,{"$f":"IF(I4754= \"\",\"\",VLOOKUP(I4754,会場マスタ!$A:$B,2,FALSE))","v":""}]
["",null,null,null,null,null,null,null,null,{"$f":"IF(I4755= \"\",\"\",VLOOKUP(I4755,会場マスタ!$A:$B,2,FALSE))","v":""}]
["",null,null,null,null,null,null,null,null,{"$f":"IF(I4756= \"\",\"\",VLOOKUP(I4756,会場マスタ!$A:$B,2,FALSE))","v":""}]
["",null,null,null,null,null,null,null,null,{"$f":"IF(I4757= \"\",\"\",VLOOKUP(I4757,会場マスタ!$A:$B,2,FALSE))","v":""}]
["",null,null,null,null,null,null,null,null,{"$f":"IF(I4758= \"\",\"\",VLOOKUP(I4758,会場マスタ!$A:$B,2,FALSE))","v":""}]
["",null,null,null,null,null,null,null,null,{"$f":"IF(I4759= \"\",\"\",VLOOKUP(I4759,会場マスタ!$A:$B,2,FALSE))","v":""}]
["",null,null,null,null,null,null,null,null,{"$f":"IF(I4760= \"\",\"\",VLOOKUP(I4760,会場マスタ!$A:$B,2,FALSE))","v":""}]
["",null,null,null,null,null,null,null,null,{"$f":"IF(I4761= \"\",\"\",VLOOKUP(I4761,会場マスタ!$A:$B,2,FALSE))","v":""}]
["",null,null,null,null,null,null,null,null,{"$f":"IF(I4762= \"\",\"\",VLOOKUP(I4762,会場マスタ!$A:$B,2,FALSE))","v":""}]
["",null,null,null,null,null,null,null,null,{"$f":"IF(I4763= \"\",\"\",VLOOKUP(I4763,会場マスタ!$A:$B,2,FALSE))","v":""}]
["",null,null,null,null,null,null,null,null,{"$f":"IF(I4764= \"\",\"\",VLOOKUP(I4764,会場マスタ!$A:$B,2,FALSE))","v":""}]
["",null,null,null,null,null,null,null,null,{"$f":"IF(I4765= \"\",\"\",VLOOKUP(I4765,会場マスタ!$A:$B,2,FALSE))","v":""}]
["",null,null,null,null,null,null,null,null,{"$f":"IF(I4766= \"\",\"\",VLOOKUP(I4766,会場マスタ!$A:$B,2,FALSE))","v":""}]
["",null,null,null,null,null,null,null,null,{"$f":"IF(I4767= \"\",\"\",VLOOKUP(I4767,会場マスタ!$A:$B,2,FALSE))","v":""}]
["",null,null,null,null,null,null,null,null,{"$f":"IF(I4768= \"\",\"\",VLOOKUP(I4768,会場マスタ!$A:$B,2,FALSE))","v":""}]
["",null,null,null,null,null,null,null,null,{"$f":"IF(I4769= \"\",\"\",VLOOKUP(I4769,会場マスタ!$A:$B,2,FALSE))","v":""}]
["",null,null,null,null,null,null,null,null,{"$f":"IF(I4770= \"\",\"\",VLOOKUP(I4770,会場マスタ!$A:$B,2,FALSE))","v":""}]
["",null,null,null,null,null,null,null,null,{"$f":"IF(I4771= \"\",\"\",VLOOKUP(I4771,会場マスタ!$A:$B,2,FALSE))","v":""}]
["",null,null,null,null,null,null,null,null,{"$f":"IF(I4772= \"\",\"\",VLOOKUP(I4772,会場マスタ!$A:$B,2,FALSE))","v":""}]
["",null,null,null,null,null,null,null,null,{"$f":"IF(I4773= \"\",\"\",VLOOKUP(I4773,会場マスタ!$A:$B,2,FALSE))","v":""}]
["",null,null,null,null,null,null,null,null,{"$f":"IF(I4774= \"\",\"\",VLOOKUP(I4774,会場マスタ!$A:$B,2,FALSE))","v":""}]
["",null,null,null,null,null,null,null,null,{"$f":"IF(I4775= \"\",\"\",VLOOKUP(I4775,会場マスタ!$A:$B,2,FALSE))","v":""}]
["",null,null,null,null,null,null,null,null,{"$f":"IF(I4776= \"\",\"\",VLOOKUP(I4776,会場マスタ!$A:$B,2,FALSE))","v":""}]
["",null,null,null,null,null,null,null,null,{"$f":"IF(I4777= \"\",\"\",VLOOKUP(I4777,会場マスタ!$A:$B,2,FALSE))","v":""}]
["",null,null,null,null,null,null,null,null,{"$f":"IF(I4778= \"\",\"\",VLOOKUP(I4778,会場マスタ!$A:$B,2,FALSE))","v":""}]
["",null,null,null,null,null,null,null,null,{"$f":"IF(I4779= \"\",\"\",VLOOKUP(I4779,会場マスタ!$A:$B,2,FALSE))","v":""}]
["",null,null,null,null,null,null,null,null,{"$f":"IF(I4780= \"\",\"\",VLOOKUP(I4780,会場マスタ!$A:$B,2,FALSE))","v":""}]
["",null,null,null,null,null,null,null,null,{"$f":"IF(I4781= \"\",\"\",VLOOKUP(I4781,会場マスタ!$A:$B,2,FALSE))","v":""}]
["",null,null,null,null,null,null,null,null,{"$f":"IF(I4782= \"\",\"\",VLOOKUP(I4782,会場マスタ!$A:$B,2,FALSE))","v":""}]
["",null,null,null,null,null,null,null,null,{"$f":"IF(I4783= \"\",\"\",VLOOKUP(I4783,会場マスタ!$A:$B,2,FALSE))","v":""}]
["",null,null,null,null,null,null,null,null,{"$f":"IF(I4784= \"\",\"\",VLOOKUP(I4784,会場マスタ!$A:$B,2,FALSE))","v":""}]
["",null,null,null,null,null,null,null,null,{"$f":"IF(I4785= \"\",\"\",VLOOKUP(I4785,会場マスタ!$A:$B,2,FALSE))","v":""}]
["",null,null,null,null,null,null,null,null,{"$f":"IF(I4786= \"\",\"\",VLOOKUP(I4786,会場マスタ!$A:$B,2,FALSE))","v":""}]
["",null,null,null,null,null,null,null,null,{"$f":"IF(I4787= \"\",\"\",VLOOKUP(I4787,会場マスタ!$A:$B,2,FALSE))","v":""}]
["",null,null,null,null,null,null,null,null,{"$f":"IF(I4788= \"\",\"\",VLOOKUP(I4788,会場マスタ!$A:$B,2,FALSE))","v":""}]
["",null,null,null,null,null,null,null,null,{"$f":"IF(I4789= \"\",\"\",VLOOKUP(I4789,会場マスタ!$A:$B,2,FALSE))","v":""}]
["",null,null,null,null,null,null,null,null,{"$f":"IF(I4790= \"\",\"\",VLOOKUP(I4790,会場マスタ!$A:$B,2,FALSE))","v":""}]
["",null,null,null,null,null,null,null,null,{"$f":"IF(I4791= \"\",\"\",VLOOKUP(I4791,会場マスタ!$A:$B,2,FALSE))","v":""}]
["",null,null,null,null,null,null,null,null,{"$f":"IF(I4792= \"\",\"\",VLOOKUP(I4792,会場マスタ!$A:$B,2,FALSE))","v":""}]
["",null,null,null,null,null,null,null,null,{"$f":"IF(I4793= \"\",\"\",VLOOKUP(I4793,会場マスタ!$A:$B,2,FALSE))","v":""}]
["",null,null,null,null,null,null,null,null,{"$f":"IF(I4794= \"\",\"\",VLOOKUP(I4794,会場マスタ!$A:$B,2,FALSE))","v":""}]
["",null,null,null,null,null,null,null,null,{"$f":"IF(I4795= \"\",\"\",VLOOKUP(I4795,会場マスタ!$A:$B,2,FALSE))","v":""}]
["",null,null,null,null,null,null,null,null,{"$f":"IF(I4796= \"\",\"\",VLOOKUP(I4796,会場マスタ!$A:$B,2,FALSE))","v":""}]
["",null,null,null,null,null,null,null,null,{"$f":"IF(I4797= \"\",\"\",VLOOKUP(I4797,会場マスタ!$A:$B,2,FALSE))","v":""}]
["",null,null,null,null,null,null,null,null,{"$f":"IF(I4798= \"\",\"\",VLOOKUP(I4798,会場マスタ!$A:$B,2,FALSE))","v":""}]
["",null,null,null,null,null,null,null,null,{"$f":"IF(I4799= \"\",\"\",VLOOKUP(I4799,会場マスタ!$A:$B,2,FALSE))","v":""}]
["",null,null,null,null,null,null,null,null,{"$f":"IF(I4800= \"\",\"\",VLOOKUP(I4800,会場マスタ!$A:$B,2,FALSE))","v":""}]
["",null,null,null,null,null,null,null,null,{"$f":"IF(I4801= \"\",\"\",VLOOKUP(I4801,会場マスタ!$A:$B,2,FALSE))","v":""}]
["",null,null,null,null,null,null,null,null,{"$f":"IF(I4802= \"\",\"\",VLOOKUP(I4802,会場マスタ!$A:$B,2,FALSE))","v":""}]
["",null,null,null,null,null,null,null,null,{"$f":"IF(I4803= \"\",\"\",VLOOKUP(I4803,会場マスタ!$A:$B,2,FALSE))","v":""}]
["",null,null,null,null,null,null,null,null,{"$f":"IF(I4804= \"\",\"\",VLOOKUP(I4804,会場マスタ!$A:$B,2,FALSE))","v":""}]
["",null,null,null,null,null,null,null,null,{"$f":"IF(I4805= \"\",\"\",VLOOKUP(I4805,会場マスタ!$A:$B,2,FALSE))","v":""}]
["",null,null,null,null,null,null,null,null,{"$f":"IF(I4806= \"\",\"\",VLOOKUP(I4806,会場マスタ!$A:$B,2,FALSE))","v":""}]
[{"$f":"IF(B4807<>\"\",ROW(A4807)-4,\"\")","v":""},null,null,null,null,null,null,null,null,{"$f":"IF(I4807= \"\",\"\",VLOOKUP(I4807,会場マスタ!$A:$B,2,FALSE))","v":""}]
["",null,null,null,null,null,null,null,null,{"$f":"IF(I4808= \"\",\"\",VLOOKUP(I4808,会場マスタ!$A:$B,2,FALSE))","v":""}]
["",null,null,null,null,null,null,null,null,{"$f":"IF(I4809= \"\",\"\",VLOOKUP(I4809,会場マスタ!$A:$B,2,FALSE))","v":""}]
["",null,null,null,null,null,null,null,null,{"$f":"IF(I4810= \"\",\"\",VLOOKUP(I4810,会場マスタ!$A:$B,2,FALSE))","v":""}]
["",null,null,null,null,null,null,null,null,{"$f":"IF(I4811= \"\",\"\",VLOOKUP(I4811,会場マスタ!$A:$B,2,FALSE))","v":""}]
["",null,null,null,null,null,null,null,null,{"$f":"IF(I4812= \"\",\"\",VLOOKUP(I4812,会場マスタ!$A:$B,2,FALSE))","v":""}]
["",null,null,null,null,null,null,null,null,{"$f":"IF(I4813= \"\",\"\",VLOOKUP(I4813,会場マスタ!$A:$B,2,FALSE))","v":""}]
["",null,null,null,null,null,null,null,null,{"$f":"IF(I4814= \"\",\"\",VLOOKUP(I4814,会場マスタ!$A:$B,2,FALSE))","v":""}]
["",null,null,null,null,null,null,null,null,{"$f":"IF(I4815= \"\",\"\",VLOOKUP(I4815,会場マスタ!$A:$B,2,FALSE))","v":""}]
["",null,null,null,null,null,null,null,null,{"$f":"IF(I4816= \"\",\"\",VLOOKUP(I4816,会場マスタ!$A:$B,2,FALSE))","v":""}]
["",null,null,null,null,null,null,null,null,{"$f":"IF(I4817= \"\",\"\",VLOOKUP(I4817,会場マスタ!$A:$B,2,FALSE))","v":""}]
["",null,null,null,null,null,null,null,null,{"$f":"IF(I4818= \"\",\"\",VLOOKUP(I4818,会場マスタ!$A:$B,2,FALSE))","v":""}]
["",null,null,null,null,null,null,null,null,{"$f":"IF(I4819= \"\",\"\",VLOOKUP(I4819,会場マスタ!$A:$B,2,FALSE))","v":""}]
["",null,null,null,null,null,null,null,null,{"$f":"IF(I4820= \"\",\"\",VLOOKUP(I4820,会場マスタ!$A:$B,2,FALSE))","v":""}]
["",null,null,null,null,null,null,null,null,{"$f":"IF(I4821= \"\",\"\",VLOOKUP(I4821,会場マスタ!$A:$B,2,FALSE))","v":""}]
["",null,null,null,null,null,null,null,null,{"$f":"IF(I4822= \"\",\"\",VLOOKUP(I4822,会場マスタ!$A:$B,2,FALSE))","v":""}]
["",null,null,null,null,null,null,null,null,{"$f":"IF(I4823= \"\",\"\",VLOOKUP(I4823,会場マスタ!$A:$B,2,FALSE))","v":""}]
["",null,null,null,null,null,null,null,null,{"$f":"IF(I4824= \"\",\"\",VLOOKUP(I4824,会場マスタ!$A:$B,2,FALSE))","v":""}]
["",null,null,null,null,null,null,null,null,{"$f":"IF(I4825= \"\",\"\",VLOOKUP(I4825,会場マスタ!$A:$B,2,FALSE))","v":""}]
["",null,null,null,null,null,null,null,null,{"$f":"IF(I4826= \"\",\"\",VLOOKUP(I4826,会場マスタ!$A:$B,2,FALSE))","v":""}]
["",null,null,null,null,null,null,null,null,{"$f":"IF(I4827= \"\",\"\",VLOOKUP(I4827,会場マスタ!$A:$B,2,FALSE))","v":""}]
["",null,null,null,null,null,null,null,null,{"$f":"IF(I4828= \"\",\"\",VLOOKUP(I4828,会場マスタ!$A:$B,2,FALSE))","v":""}]
["",null,null,null,null,null,null,null,null,{"$f":"IF(I4829= \"\",\"\",VLOOKUP(I4829,会場マスタ!$A:$B,2,FALSE))","v":""}]
["",null,null,null,null,null,null,null,null,{"$f":"IF(I4830= \"\",\"\",VLOOKUP(I4830,会場マスタ!$A:$B,2,FALSE))","v":""}]
["",null,null,null,null,null,null,null,null,{"$f":"IF(I4831= \"\",\"\",VLOOKUP(I4831,会場マスタ!$A:$B,2,FALSE))","v":""}]
["",null,null,null,null,null,null,null,null,{"$f":"IF(I4832= \"\",\"\",VLOOKUP(I4832,会場マスタ!$A:$B,2,FALSE))","v":""}]
["",null,null,null,null,null,null,null,null,{"$f":"IF(I4833= \"\",\"\",VLOOKUP(I4833,会場マスタ!$A:$B,2,FALSE))","v":""}]
["",null,null,null,null,null,null,null,null,{"$f":"IF(I4834= \"\",\"\",VLOOKUP(I4834,会場マスタ!$A:$B,2,FALSE))","v":""}]
["",null,null,null,null,null,null,null,null,{"$f":"IF(I4835= \"\",\"\",VLOOKUP(I4835,会場マスタ!$A:$B,2,FALSE))","v":""}]
["",null,null,null,null,null,null,null,null,{"$f":"IF(I4836= \"\",\"\",VLOOKUP(I4836,会場マスタ!$A:$B,2,FALSE))","v":""}]
["",null,null,null,null,null,null,null,null,{"$f":"IF(I4837= \"\",\"\",VLOOKUP(I4837,会場マスタ!$A:$B,2,FALSE))","v":""}]
["",null,null,null,null,null,null,null,null,{"$f":"IF(I4838= \"\",\"\",VLOOKUP(I4838,会場マスタ!$A:$B,2,FALSE))","v":""}]
["",null,null,null,null,null,null,null,null,{"$f":"IF(I4839= \"\",\"\",VLOOKUP(I4839,会場マスタ!$A:$B,2,FALSE))","v":""}]
["",null,null,null,null,null,null,null,null,{"$f":"IF(I4840= \"\",\"\",VLOOKUP(I4840,会場マスタ!$A:$B,2,FALSE))","v":""}]
["",null,null,null,null,null,null,null,null,{"$f":"IF(I4841= \"\",\"\",VLOOKUP(I4841,会場マスタ!$A:$B,2,FALSE))","v":""}]
["",null,null,null,null,null,null,null,null,{"$f":"IF(I4842= \"\",\"\",VLOOKUP(I4842,会場マスタ!$A:$B,2,FALSE))","v":""}]
["",null,null,null,null,null,null,null,null,{"$f":"IF(I4843= \"\",\"\",VLOOKUP(I4843,会場マスタ!$A:$B,2,FALSE))","v":""}]
["",null,null,null,null,null,null,null,null,{"$f":"IF(I4844= \"\",\"\",VLOOKUP(I4844,会場マスタ!$A:$B,2,FALSE))","v":""}]
["",null,null,null,null,null,null,null,null,{"$f":"IF(I4845= \"\",\"\",VLOOKUP(I4845,会場マスタ!$A:$B,2,FALSE))","v":""}]
["",null,null,null,null,null,null,null,null,{"$f":"IF(I4846= \"\",\"\",VLOOKUP(I4846,会場マスタ!$A:$B,2,FALSE))","v":""}]
["",null,null,null,null,null,null,null,null,{"$f":"IF(I4847= \"\",\"\",VLOOKUP(I4847,会場マスタ!$A:$B,2,FALSE))","v":""}]
["",null,null,null,null,null,null,null,null,{"$f":"IF(I4848= \"\",\"\",VLOOKUP(I4848,会場マスタ!$A:$B,2,FALSE))","v":""}]
["",null,null,null,null,null,null,null,null,{"$f":"IF(I4849= \"\",\"\",VLOOKUP(I4849,会場マスタ!$A:$B,2,FALSE))","v":""}]
["",null,null,null,null,null,null,null,null,{"$f":"IF(I4850= \"\",\"\",VLOOKUP(I4850,会場マスタ!$A:$B,2,FALSE))","v":""}]
["",null,null,null,null,null,null,null,null,{"$f":"IF(I4851= \"\",\"\",VLOOKUP(I4851,会場マスタ!$A:$B,2,FALSE))","v":""}]
["",null,null,null,null,null,null,null,null,{"$f":"IF(I4852= \"\",\"\",VLOOKUP(I4852,会場マスタ!$A:$B,2,FALSE))","v":""}]
["",null,null,null,null,null,null,null,null,{"$f":"IF(I4853= \"\",\"\",VLOOKUP(I4853,会場マスタ!$A:$B,2,FALSE))","v":""}]
["",null,null,null,null,null,null,null,null,{"$f":"IF(I4854= \"\",\"\",VLOOKUP(I4854,会場マスタ!$A:$B,2,FALSE))","v":""}]
["",null,null,null,null,null,null,null,null,{"$f":"IF(I4855= \"\",\"\",VLOOKUP(I4855,会場マスタ!$A:$B,2,FALSE))","v":""}]
["",null,null,null,null,null,null,null,null,{"$f":"IF(I4856= \"\",\"\",VLOOKUP(I4856,会場マスタ!$A:$B,2,FALSE))","v":""}]
["",null,null,null,null,null,null,null,null,{"$f":"IF(I4857= \"\",\"\",VLOOKUP(I4857,会場マスタ!$A:$B,2,FALSE))","v":""}]
["",null,null,null,null,null,null,null,null,{"$f":"IF(I4858= \"\",\"\",VLOOKUP(I4858,会場マスタ!$A:$B,2,FALSE))","v":""}]
["",null,null,null,null,null,null,null,null,{"$f":"IF(I4859= \"\",\"\",VLOOKUP(I4859,会場マスタ!$A:$B,2,FALSE))","v":""}]
["",null,null,null,null,null,null,null,null,{"$f":"IF(I4860= \"\",\"\",VLOOKUP(I4860,会場マスタ!$A:$B,2,FALSE))","v":""}]
["",null,null,null,null,null,null,null,null,{"$f":"IF(I4861= \"\",\"\",VLOOKUP(I4861,会場マスタ!$A:$B,2,FALSE))","v":""}]
["",null,null,null,null,null,null,null,null,{"$f":"IF(I4862= \"\",\"\",VLOOKUP(I4862,会場マスタ!$A:$B,2,FALSE))","v":""}]
["",null,null,null,null,null,null,null,null,{"$f":"IF(I4863= \"\",\"\",VLOOKUP(I4863,会場マスタ!$A:$B,2,FALSE))","v":""}]
["",null,null,null,null,null,null,null,null,{"$f":"IF(I4864= \"\",\"\",VLOOKUP(I4864,会場マスタ!$A:$B,2,FALSE))","v":""}]
["",null,null,null,null,null,null,null,null,{"$f":"IF(I4865= \"\",\"\",VLOOKUP(I4865,会場マスタ!$A:$B,2,FALSE))","v":""}]
["",null,null,null,null,null,null,null,null,{"$f":"IF(I4866= \"\",\"\",VLOOKUP(I4866,会場マスタ!$A:$B,2,FALSE))","v":""}]
["",null,null,null,null,null,null,null,null,{"$f":"IF(I4867= \"\",\"\",VLOOKUP(I4867,会場マスタ!$A:$B,2,FALSE))","v":""}]
["",null,null,null,null,null,null,null,null,{"$f":"IF(I4868= \"\",\"\",VLOOKUP(I4868,会場マスタ!$A:$B,2,FALSE))","v":""}]
["",null,null,null,null,null,null,null,null,{"$f":"IF(I4869= \"\",\"\",VLOOKUP(I4869,会場マスタ!$A:$B,2,FALSE))","v":""}]
["",null,null,null,null,null,null,null,null,{"$f":"IF(I4870= \"\",\"\",VLOOKUP(I4870,会場マスタ!$A:$B,2,FALSE))","v":""}]
[{"$f":"IF(B4871<>\"\",ROW(A4871)-4,\"\")","v":""},null,null,null,null,null,null,null,null,{"$f":"IF(I4871= \"\",\"\",VLOOKUP(I4871,会場マスタ!$A:$B,2,FALSE))","v":""}]
["",null,null,null,null,null,null,null,null,{"$f":"IF(I4872= \"\",\"\",VLOOKUP(I4872,会場マスタ!$A:$B,2,FALSE))","v":""}]
["",null,null,null,null,null,null,null,null,{"$f":"IF(I4873= \"\",\"\",VLOOKUP(I4873,会場マスタ!$A:$B,2,FALSE))","v":""}]
["",null,null,null,null,null,null,null,null,{"$f":"IF(I4874= \"\",\"\",VLOOKUP(I4874,会場マスタ!$A:$B,2,FALSE))","v":""}]
["",null,null,null,null,null,null,null,null,{"$f":"IF(I4875= \"\",\"\",VLOOKUP(I4875,会場マスタ!$A:$B,2,FALSE))","v":""}]
["",null,null,null,null,null,null,null,null,{"$f":"IF(I4876= \"\",\"\",VLOOKUP(I4876,会場マスタ!$A:$B,2,FALSE))","v":""}]
["",null,null,null,null,null,null,null,null,{"$f":"IF(I4877= \"\",\"\",VLOOKUP(I4877,会場マスタ!$A:$B,2,FALSE))","v":""}]
["",null,null,null,null,null,null,null,null,{"$f":"IF(I4878= \"\",\"\",VLOOKUP(I4878,会場マスタ!$A:$B,2,FALSE))","v":""}]
["",null,null,null,null,null,null,null,null,{"$f":"IF(I4879= \"\",\"\",VLOOKUP(I4879,会場マスタ!$A:$B,2,FALSE))","v":""}]
["",null,null,null,null,null,null,null,null,{"$f":"IF(I4880= \"\",\"\",VLOOKUP(I4880,会場マスタ!$A:$B,2,FALSE))","v":""}]
["",null,null,null,null,null,null,null,null,{"$f":"IF(I4881= \"\",\"\",VLOOKUP(I4881,会場マスタ!$A:$B,2,FALSE))","v":""}]
["",null,null,null,null,null,null,null,null,{"$f":"IF(I4882= \"\",\"\",VLOOKUP(I4882,会場マスタ!$A:$B,2,FALSE))","v":""}]
["",null,null,null,null,null,null,null,null,{"$f":"IF(I4883= \"\",\"\",VLOOKUP(I4883,会場マスタ!$A:$B,2,FALSE))","v":""}]
["",null,null,null,null,null,null,null,null,{"$f":"IF(I4884= \"\",\"\",VLOOKUP(I4884,会場マスタ!$A:$B,2,FALSE))","v":""}]
["",null,null,null,null,null,null,null,null,{"$f":"IF(I4885= \"\",\"\",VLOOKUP(I4885,会場マスタ!$A:$B,2,FALSE))","v":""}]
["",null,null,null,null,null,null,null,null,{"$f":"IF(I4886= \"\",\"\",VLOOKUP(I4886,会場マスタ!$A:$B,2,FALSE))","v":""}]
["",null,null,null,null,null,null,null,null,{"$f":"IF(I4887= \"\",\"\",VLOOKUP(I4887,会場マスタ!$A:$B,2,FALSE))","v":""}]
["",null,null,null,null,null,null,null,null,{"$f":"IF(I4888= \"\",\"\",VLOOKUP(I4888,会場マスタ!$A:$B,2,FALSE))","v":""}]
["",null,null,null,null,null,null,null,null,{"$f":"IF(I4889= \"\",\"\",VLOOKUP(I4889,会場マスタ!$A:$B,2,FALSE))","v":""}]
["",null,null,null,null,null,null,null,null,{"$f":"IF(I4890= \"\",\"\",VLOOKUP(I4890,会場マスタ!$A:$B,2,FALSE))","v":""}]
["",null,null,null,null,null,null,null,null,{"$f":"IF(I4891= \"\",\"\",VLOOKUP(I4891,会場マスタ!$A:$B,2,FALSE))","v":""}]
["",null,null,null,null,null,null,null,null,{"$f":"IF(I4892= \"\",\"\",VLOOKUP(I4892,会場マスタ!$A:$B,2,FALSE))","v":""}]
["",null,null,null,null,null,null,null,null,{"$f":"IF(I4893= \"\",\"\",VLOOKUP(I4893,会場マスタ!$A:$B,2,FALSE))","v":""}]
["",null,null,null,null,null,null,null,null,{"$f":"IF(I4894= \"\",\"\",VLOOKUP(I4894,会場マスタ!$A:$B,2,FALSE))","v":""}]
["",null,null,null,null,null,null,null,null,{"$f":"IF(I4895= \"\",\"\",VLOOKUP(I4895,会場マスタ!$A:$B,2,FALSE))","v":""}]
["",null,null,null,null,null,null,null,null,{"$f":"IF(I4896= \"\",\"\",VLOOKUP(I4896,会場マスタ!$A:$B,2,FALSE))","v":""}]
["",null,null,null,null,null,null,null,null,{"$f":"IF(I4897= \"\",\"\",VLOOKUP(I4897,会場マスタ!$A:$B,2,FALSE))","v":""}]
["",null,null,null,null,null,null,null,null,{"$f":"IF(I4898= \"\",\"\",VLOOKUP(I4898,会場マスタ!$A:$B,2,FALSE))","v":""}]
["",null,null,null,null,null,null,null,null,{"$f":"IF(I4899= \"\",\"\",VLOOKUP(I4899,会場マスタ!$A:$B,2,FALSE))","v":""}]
["",null,null,null,null,null,null,null,null,{"$f":"IF(I4900= \"\",\"\",VLOOKUP(I4900,会場マスタ!$A:$B,2,FALSE))","v":""}]
["",null,null,null,null,null,null,null,null,{"$f":"IF(I4901= \"\",\"\",VLOOKUP(I4901,会場マスタ!$A:$B,2,FALSE))","v":""}]
["",null,null,null,null,null,null,null,null,{"$f":"IF(I4902= \"\",\"\",VLOOKUP(I4902,会場マスタ!$A:$B,2,FALSE))","v":""}]
["",null,null,null,null,null,null,null,null,{"$f":"IF(I4903= \"\",\"\",VLOOKUP(I4903,会場マスタ!$A:$B,2,FALSE))","v":""}]
["",null,null,null,null,null,null,null,null,{"$f":"IF(I4904= \"\",\"\",VLOOKUP(I4904,会場マスタ!$A:$B,2,FALSE))","v":""}]
["",null,null,null,null,null,null,null,null,{"$f":"IF(I4905= \"\",\"\",VLOOKUP(I4905,会場マスタ!$A:$B,2,FALSE))","v":""}]
["",null,null,null,null,null,null,null,null,{"$f":"IF(I4906= \"\",\"\",VLOOKUP(I4906,会場マスタ!$A:$B,2,FALSE))","v":""}]
["",null,null,null,null,null,null,null,null,{"$f":"IF(I4907= \"\",\"\",VLOOKUP(I4907,会場マスタ!$A:$B,2,FALSE))","v":""}]
["",null,null,null,null,null,null,null,null,{"$f":"IF(I4908= \"\",\"\",VLOOKUP(I4908,会場マスタ!$A:$B,2,FALSE))","v":""}]
["",null,null,null,null,null,null,null,null,{"$f":"IF(I4909= \"\",\"\",VLOOKUP(I4909,会場マスタ!$A:$B,2,FALSE))","v":""}]
["",null,null,null,null,null,null,null,null,{"$f":"IF(I4910= \"\",\"\",VLOOKUP(I4910,会場マスタ!$A:$B,2,FALSE))","v":""}]
["",null,null,null,null,null,null,null,null,{"$f":"IF(I4911= \"\",\"\",VLOOKUP(I4911,会場マスタ!$A:$B,2,FALSE))","v":""}]
["",null,null,null,null,null,null,null,null,{"$f":"IF(I4912= \"\",\"\",VLOOKUP(I4912,会場マスタ!$A:$B,2,FALSE))","v":""}]
["",null,null,null,null,null,null,null,null,{"$f":"IF(I4913= \"\",\"\",VLOOKUP(I4913,会場マスタ!$A:$B,2,FALSE))","v":""}]
["",null,null,null,null,null,null,null,null,{"$f":"IF(I4914= \"\",\"\",VLOOKUP(I4914,会場マスタ!$A:$B,2,FALSE))","v":""}]
["",null,null,null,null,null,null,null,null,{"$f":"IF(I4915= \"\",\"\",VLOOKUP(I4915,会場マスタ!$A:$B,2,FALSE))","v":""}]
["",null,null,null,null,null,null,null,null,{"$f":"IF(I4916= \"\",\"\",VLOOKUP(I4916,会場マスタ!$A:$B,2,FALSE))","v":""}]
["",null,null,null,null,null,null,null,null,{"$f":"IF(I4917= \"\",\"\",VLOOKUP(I4917,会場マスタ!$A:$B,2,FALSE))","v":""}]
["",null,null,null,null,null,null,null,null,{"$f":"IF(I4918= \"\",\"\",VLOOKUP(I4918,会場マスタ!$A:$B,2,FALSE))","v":""}]
["",null,null,null,null,null,null,null,null,{"$f":"IF(I4919= \"\",\"\",VLOOKUP(I4919,会場マスタ!$A:$B,2,FALSE))","v":""}]
["",null,null,null,null,null,null,null,null,{"$f":"IF(I4920= \"\",\"\",VLOOKUP(I4920,会場マスタ!$A:$B,2,FALSE))","v":""}]
["",null,null,null,null,null,null,null,null,{"$f":"IF(I4921= \"\",\"\",VLOOKUP(I4921,会場マスタ!$A:$B,2,FALSE))","v":""}]
["",null,null,null,null,null,null,null,null,{"$f":"IF(I4922= \"\",\"\",VLOOKUP(I4922,会場マスタ!$A:$B,2,FALSE))","v":""}]
["",null,null,null,null,null,null,null,null,{"$f":"IF(I4923= \"\",\"\",VLOOKUP(I4923,会場マスタ!$A:$B,2,FALSE))","v":""}]
["",null,null,null,null,null,null,null,null,{"$f":"IF(I4924= \"\",\"\",VLOOKUP(I4924,会場マスタ!$A:$B,2,FALSE))","v":""}]
["",null,null,null,null,null,null,null,null,{"$f":"IF(I4925= \"\",\"\",VLOOKUP(I4925,会場マスタ!$A:$B,2,FALSE))","v":""}]
["",null,null,null,null,null,null,null,null,{"$f":"IF(I4926= \"\",\"\",VLOOKUP(I4926,会場マスタ!$A:$B,2,FALSE))","v":""}]
["",null,null,null,null,null,null,null,null,{"$f":"IF(I4927= \"\",\"\",VLOOKUP(I4927,会場マスタ!$A:$B,2,FALSE))","v":""}]
["",null,null,null,null,null,null,null,null,{"$f":"IF(I4928= \"\",\"\",VLOOKUP(I4928,会場マスタ!$A:$B,2,FALSE))","v":""}]
["",null,null,null,null,null,null,null,null,{"$f":"IF(I4929= \"\",\"\",VLOOKUP(I4929,会場マスタ!$A:$B,2,FALSE))","v":""}]
["",null,null,null,null,null,null,null,null,{"$f":"IF(I4930= \"\",\"\",VLOOKUP(I4930,会場マスタ!$A:$B,2,FALSE))","v":""}]
["",null,null,null,null,null,null,null,null,{"$f":"IF(I4931= \"\",\"\",VLOOKUP(I4931,会場マスタ!$A:$B,2,FALSE))","v":""}]
["",null,null,null,null,null,null,null,null,{"$f":"IF(I4932= \"\",\"\",VLOOKUP(I4932,会場マスタ!$A:$B,2,FALSE))","v":""}]
["",null,null,null,null,null,null,null,null,{"$f":"IF(I4933= \"\",\"\",VLOOKUP(I4933,会場マスタ!$A:$B,2,FALSE))","v":""}]
["",null,null,null,null,null,null,null,null,{"$f":"IF(I4934= \"\",\"\",VLOOKUP(I4934,会場マスタ!$A:$B,2,FALSE))","v":""}]
[{"$f":"IF(B4935<>\"\",ROW(A4935)-4,\"\")","v":""},null,null,null,null,null,null,null,null,{"$f":"IF(I4935= \"\",\"\",VLOOKUP(I4935,会場マスタ!$A:$B,2,FALSE))","v":""}]
["",null,null,null,null,null,null,null,null,{"$f":"IF(I4936= \"\",\"\",VLOOKUP(I4936,会場マスタ!$A:$B,2,FALSE))","v":""}]
["",null,null,null,null,null,null,null,null,{"$f":"IF(I4937= \"\",\"\",VLOOKUP(I4937,会場マスタ!$A:$B,2,FALSE))","v":""}]
["",null,null,null,null,null,null,null,null,{"$f":"IF(I4938= \"\",\"\",VLOOKUP(I4938,会場マスタ!$A:$B,2,FALSE))","v":""}]
["",null,null,null,null,null,null,null,null,{"$f":"IF(I4939= \"\",\"\",VLOOKUP(I4939,会場マスタ!$A:$B,2,FALSE))","v":""}]
["",null,null,null,null,null,null,null,null,{"$f":"IF(I4940= \"\",\"\",VLOOKUP(I4940,会場マスタ!$A:$B,2,FALSE))","v":""}]
["",null,null,null,null,null,null,null,null,{"$f":"IF(I4941= \"\",\"\",VLOOKUP(I4941,会場マスタ!$A:$B,2,FALSE))","v":""}]
["",null,null,null,null,null,null,null,null,{"$f":"IF(I4942= \"\",\"\",VLOOKUP(I4942,会場マスタ!$A:$B,2,FALSE))","v":""}]
["",null,null,null,null,null,null,null,null,{"$f":"IF(I4943= \"\",\"\",VLOOKUP(I4943,会場マスタ!$A:$B,2,FALSE))","v":""}]
["",null,null,null,null,null,null,null,null,{"$f":"IF(I4944= \"\",\"\",VLOOKUP(I4944,会場マスタ!$A:$B,2,FALSE))","v":""}]
["",null,null,null,null,null,null,null,null,{"$f":"IF(I4945= \"\",\"\",VLOOKUP(I4945,会場マスタ!$A:$B,2,FALSE))","v":""}]
["",null,null,null,null,null,null,null,null,{"$f":"IF(I4946= \"\",\"\",VLOOKUP(I4946,会場マスタ!$A:$B,2,FALSE))","v":""}]
["",null,null,null,null,null,null,null,null,{"$f":"IF(I4947= \"\",\"\",VLOOKUP(I4947,会場マスタ!$A:$B,2,FALSE))","v":""}]
["",null,null,null,null,null,null,null,null,{"$f":"IF(I4948= \"\",\"\",VLOOKUP(I4948,会場マスタ!$A:$B,2,FALSE))","v":""}]
["",null,null,null,null,null,null,null,null,{"$f":"IF(I4949= \"\",\"\",VLOOKUP(I4949,会場マスタ!$A:$B,2,FALSE))","v":""}]
["",null,null,null,null,null,null,null,null,{"$f":"IF(I4950= \"\",\"\",VLOOKUP(I4950,会場マスタ!$A:$B,2,FALSE))","v":""}]
["",null,null,null,null,null,null,null,null,{"$f":"IF(I4951= \"\",\"\",VLOOKUP(I4951,会場マスタ!$A:$B,2,FALSE))","v":""}]
["",null,null,null,null,null,null,null,null,{"$f":"IF(I4952= \"\",\"\",VLOOKUP(I4952,会場マスタ!$A:$B,2,FALSE))","v":""}]
["",null,null,null,null,null,null,null,null,{"$f":"IF(I4953= \"\",\"\",VLOOKUP(I4953,会場マスタ!$A:$B,2,FALSE))","v":""}]
["",null,null,null,null,null,null,null,null,{"$f":"IF(I4954= \"\",\"\",VLOOKUP(I4954,会場マスタ!$A:$B,2,FALSE))","v":""}]
["",null,null,null,null,null,null,null,null,{"$f":"IF(I4955= \"\",\"\",VLOOKUP(I4955,会場マスタ!$A:$B,2,FALSE))","v":""}]
["",null,null,null,null,null,null,null,null,{"$f":"IF(I4956= \"\",\"\",VLOOKUP(I4956,会場マスタ!$A:$B,2,FALSE))","v":""}]
["",null,null,null,null,null,null,null,null,{"$f":"IF(I4957= \"\",\"\",VLOOKUP(I4957,会場マスタ!$A:$B,2,FALSE))","v":""}]
["",null,null,null,null,null,null,null,null,{"$f":"IF(I4958= \"\",\"\",VLOOKUP(I4958,会場マスタ!$A:$B,2,FALSE))","v":""}]
["",null,null,null,null,null,null,null,null,{"$f":"IF(I4959= \"\",\"\",VLOOKUP(I4959,会場マスタ!$A:$B,2,FALSE))","v":""}]
["",null,null,null,null,null,null,null,null,{"$f":"IF(I4960= \"\",\"\",VLOOKUP(I4960,会場マスタ!$A:$B,2,FALSE))","v":""}]
["",null,null,null,null,null,null,null,null,{"$f":"IF(I4961= \"\",\"\",VLOOKUP(I4961,会場マスタ!$A:$B,2,FALSE))","v":""}]
["",null,null,null,null,null,null,null,null,{"$f":"IF(I4962= \"\",\"\",VLOOKUP(I4962,会場マスタ!$A:$B,2,FALSE))","v":""}]
["",null,null,null,null,null,null,null,null,{"$f":"IF(I4963= \"\",\"\",VLOOKUP(I4963,会場マスタ!$A:$B,2,FALSE))","v":""}]
["",null,null,null,null,null,null,null,null,{"$f":"IF(I4964= \"\",\"\",VLOOKUP(I4964,会場マスタ!$A:$B,2,FALSE))","v":""}]
["",null,null,null,null,null,null,null,null,{"$f":"IF(I4965= \"\",\"\",VLOOKUP(I4965,会場マスタ!$A:$B,2,FALSE))","v":""}]
["",null,null,null,null,null,null,null,null,{"$f":"IF(I4966= \"\",\"\",VLOOKUP(I4966,会場マスタ!$A:$B,2,FALSE))","v":""}]
["",null,null,null,null,null,null,null,null,{"$f":"IF(I4967= \"\",\"\",VLOOKUP(I4967,会場マスタ!$A:$B,2,FALSE))","v":""}]
["",null,null,null,null,null,null,null,null,{"$f":"IF(I4968= \"\",\"\",VLOOKUP(I4968,会場マスタ!$A:$B,2,FALSE))","v":""}]
["",null,null,null,null,null,null,null,null,{"$f":"IF(I4969= \"\",\"\",VLOOKUP(I4969,会場マスタ!$A:$B,2,FALSE))","v":""}]
["",null,null,null,null,null,null,null,null,{"$f":"IF(I4970= \"\",\"\",VLOOKUP(I4970,会場マスタ!$A:$B,2,FALSE))","v":""}]
["",null,null,null,null,null,null,null,null,{"$f":"IF(I4971= \"\",\"\",VLOOKUP(I4971,会場マスタ!$A:$B,2,FALSE))","v":""}]
["",null,null,null,null,null,null,null,null,{"$f":"IF(I4972= \"\",\"\",VLOOKUP(I4972,会場マスタ!$A:$B,2,FALSE))","v":""}]
["",null,null,null,null,null,null,null,null,{"$f":"IF(I4973= \"\",\"\",VLOOKUP(I4973,会場マスタ!$A:$B,2,FALSE))","v":""}]
["",null,null,null,null,null,null,null,null,{"$f":"IF(I4974= \"\",\"\",VLOOKUP(I4974,会場マスタ!$A:$B,2,FALSE))","v":""}]
["",null,null,null,null,null,null,null,null,{"$f":"IF(I4975= \"\",\"\",VLOOKUP(I4975,会場マスタ!$A:$B,2,FALSE))","v":""}]
["",null,null,null,null,null,null,null,null,{"$f":"IF(I4976= \"\",\"\",VLOOKUP(I4976,会場マスタ!$A:$B,2,FALSE))","v":""}]
["",null,null,null,null,null,null,null,null,{"$f":"IF(I4977= \"\",\"\",VLOOKUP(I4977,会場マスタ!$A:$B,2,FALSE))","v":""}]
["",null,null,null,null,null,null,null,null,{"$f":"IF(I4978= \"\",\"\",VLOOKUP(I4978,会場マスタ!$A:$B,2,FALSE))","v":""}]
["",null,null,null,null,null,null,null,null,{"$f":"IF(I4979= \"\",\"\",VLOOKUP(I4979,会場マスタ!$A:$B,2,FALSE))","v":""}]
["",null,null,null,null,null,null,null,null,{"$f":"IF(I4980= \"\",\"\",VLOOKUP(I4980,会場マスタ!$A:$B,2,FALSE))","v":""}]
["",null,null,null,null,null,null,null,null,{"$f":"IF(I4981= \"\",\"\",VLOOKUP(I4981,会場マスタ!$A:$B,2,FALSE))","v":""}]
["",null,null,null,null,null,null,null,null,{"$f":"IF(I4982= \"\",\"\",VLOOKUP(I4982,会場マスタ!$A:$B,2,FALSE))","v":""}]
["",null,null,null,null,null,null,null,null,{"$f":"IF(I4983= \"\",\"\",VLOOKUP(I4983,会場マスタ!$A:$B,2,FALSE))","v":""}]
["",null,null,null,null,null,null,null,null,{"$f":"IF(I4984= \"\",\"\",VLOOKUP(I4984,会場マスタ!$A:$B,2,FALSE))","v":""}]
["",null,null,null,null,null,null,null,null,{"$f":"IF(I4985= \"\",\"\",VLOOKUP(I4985,会場マスタ!$A:$B,2,FALSE))","v":""}]
["",null,null,null,null,null,null,null,null,{"$f":"IF(I4986= \"\",\"\",VLOOKUP(I4986,会場マスタ!$A:$B,2,FALSE))","v":""}]
["",null,null,null,null,null,null,null,null,{"$f":"IF(I4987= \"\",\"\",VLOOKUP(I4987,会場マスタ!$A:$B,2,FALSE))","v":""}]
["",null,null,null,null,null,null,null,null,{"$f":"IF(I4988= \"\",\"\",VLOOKUP(I4988,会場マスタ!$A:$B,2,FALSE))","v":""}]
["",null,null,null,null,null,null,null,null,{"$f":"IF(I4989= \"\",\"\",VLOOKUP(I4989,会場マスタ!$A:$B,2,FALSE))","v":""}]
["",null,null,null,null,null,null,null,null,{"$f":"IF(I4990= \"\",\"\",VLOOKUP(I4990,会場マスタ!$A:$B,2,FALSE))","v":""}]
["",null,null,null,null,null,null,null,null,{"$f":"IF(I4991= \"\",\"\",VLOOKUP(I4991,会場マスタ!$A:$B,2,FALSE))","v":""}]
["",null,null,null,null,null,null,null,null,{"$f":"IF(I4992= \"\",\"\",VLOOKUP(I4992,会場マスタ!$A:$B,2,FALSE))","v":""}]
["",null,null,null,null,null,null,null,null,{"$f":"IF(I4993= \"\",\"\",VLOOKUP(I4993,会場マスタ!$A:$B,2,FALSE))","v":""}]
["",null,null,null,null,null,null,null,null,{"$f":"IF(I4994= \"\",\"\",VLOOKUP(I4994,会場マスタ!$A:$B,2,FALSE))","v":""}]
["",null,null,null,null,null,null,null,null,{"$f":"IF(I4995= \"\",\"\",VLOOKUP(I4995,会場マスタ!$A:$B,2,FALSE))","v":""}]
["",null,null,null,null,null,null,null,null,{"$f":"IF(I4996= \"\",\"\",VLOOKUP(I4996,会場マスタ!$A:$B,2,FALSE))","v":""}]
["",null,null,null,null,null,null,null,null,{"$f":"IF(I4997= \"\",\"\",VLOOKUP(I4997,会場マスタ!$A:$B,2,FALSE))","v":""}]
["",null,null,null,null,null,null,null,null,{"$f":"IF(I4998= \"\",\"\",VLOOKUP(I4998,会場マスタ!$A:$B,2,FALSE))","v":""}]
[{"$f":"IF(B4999<>\"\",ROW(A4999)-4,\"\")","v":""},null,null,null,null,null,null,null,null,{"$f":"IF(I4999= \"\",\"\",VLOOKUP(I4999,会場マスタ!$A:$B,2,FALSE))","v":""}]
["",null,null,null,null,null,null,null,null,{"$f":"IF(I5000= \"\",\"\",VLOOKUP(I5000,会場マスタ!$A:$B,2,FALSE))","v":""}]
["end","end","end","end","end","end","end","end","end","end","end","end","end","end","end","end","end","end","end","end","end","end","end"]

{"sheet":"会場マスタ","index":2,"n_rows":15,"n_cols":2,"rows_kept":15,"cut":false,"hidden":false,"merged":[[0,0,1,1],[3,0,4,0],[3,1,4,1]]}
["◆会場マスタ◆"]
[]
[]
["医療機関NO","医療機関名"]
[]
[1,"①"]
[2,"②"]
[3,"③"]
[4,"④"]
[5,"⑤"]
[6,"⑥"]
[7,"⑦"]
[8,"⑧"]
[9,"⑨"]
[10,"⑩"]